{"text_format":"1","workbook":"xlsx","n_sheets":7,"sheets":["Klass 1","Klass 2","Klass 3","Klass 4","Klasspoäng","Regler","Klasstillhörighet 1-2-3-4"],"not_rendered":{"charts":0,"images":0,"macros":1,"external_links":0,"defined_names":8,"comments":0,"pivot_tables":0},"unopened":[],"bounds":{"document_bytes":16777216,"sheet_cells":100000,"rows_first":2000,"rows_last":500,"rows_between":2000,"halvings":0,"cell_chars":16384,"cell_head_chars":4096},"cells_cut":0,"cells_raw":0,"read":"whole","date_system":"1900"}

{"sheet":"Klass 1","index":0,"n_rows":19,"n_cols":77,"rows_kept":19,"cut":false,"hidden":false,"merged":[]}
[null,"SLUTSTÄLLNING",null,"Totalpoäng","Jämjö Open","Björkenäs Open","Ute-SM dag 1","Ute-SM dag 2","Vaxholm Open","Dynapac Open","Åseda Open","Höstskon Nybro","Carlskrona Cup","Sibbamåla Open","Inne-SM","Värendspokalen","Tingsryd Open",null,null,"Antal tävlingar"]
[null,"Klass 1",null,null,1,2,3,4,5,6,7,8,9,10,11,12,13,null,null,13]
[null,"2020/2021"]
["Plac","Kastare ","Klubb"]
[1,"Kent Sundahl","Carlskrona HSC",{"$f":"SUM(E5:R5)","v":59},"x","x",12,12,9,8,9,2,7,"x","x","x","x","x",null,null,{"$f":"LARGE(AJ5:AW5,1)","v":12},{"$f":"LARGE(AJ5:AW5,2)","v":12},{"$f":"LARGE(AJ5:AW5,3)","v":9},{"$f":"LARGE(AJ5:AW5,4)","v":9},{"$f":"LARGE(AJ5:AW5,5)","v":8},{"$f":"LARGE(AJ5:AW5,6)","v":7},{"$f":"LARGE(AJ5:AW5,7)","v":2},{"$f":"LARGE(AJ5:AW5,8)","v":0},{"$f":"LARGE(AJ5:AW5,9)","v":0},{"$f":"LARGE(AJ5:AW5,10)","v":0},{"$f":"LARGE(AJ5:AW5,11)","v":0},{"$f":"LARGE(AJ5:AW5,12)","v":0},{"$f":"LARGE(AJ5:AW5,13)","v":0},{"$f":"LARGE(AJ5:AW5,14)","v":0},null,{"$f":"IF(E5=\"x\",0,E5)","v":0},{"$f":"IF(F5=\"x\",0,F5)","v":0},{"$f":"IF(G5=\"x\",0,G5)","v":12},{"$f":"IF(H5=\"x\",0,H5)","v":12},{"$f":"IF(I5=\"x\",0,I5)","v":9},{"$f":"IF(J5=\"x\",0,J5)","v":8},{"$f":"IF(K5=\"x\",0,K5)","v":9},{"$f":"IF(L5=\"x\",0,L5)","v":2},{"$f":"IF(M5=\"x\",0,M5)","v":7},{"$f":"IF(N5=\"x\",0,N5)","v":0},{"$f":"IF(O5=\"x\",0,O5)","v":0},{"$f":"IF(P5=\"x\",0,P5)","v":0},{"$f":"IF(Q5=\"x\",0,Q5)","v":0},{"$f":"IF(R5=\"x\",0,R5)","v":0},null,{"$f":"COUNTIF(E5:R5,\"x\")","v":7},{"$f":"IF(AY5=13,-1,SUM(E5:R5))","v":59},null,null,null,null,1,null,null,null,{"$f":"SUM(D4:D5)","v":59},{"$f":"SUM(E4:E5)","v":0},{"$f":"SUM(F4:F5)","v":0},{"$f":"SUM(G4:G5)","v":12},{"$f":"SUM(H4:H5)","v":12},{"$f":"SUM(I4:I5)","v":9},{"$f":"SUM(J4:J5)","v":8},{"$f":"SUM(K4:K5)","v":9},{"$f":"SUM(L4:L5)","v":2},{"$f":"SUM(M4:M5)","v":7},{"$f":"SUM(O4:O5)","v":0},{"$f":"SUM(P4:P5)","v":0},{"$f":"SUM(Q4:Q5)","v":0},{"$f":"SUM(R4:R5)","v":0},null,{"$f":"COUNTIF(BI5:BV5,2)","v":1},{"$f":"SUM(BI5+BX5+BZ5)","v":60}]
[{"$f":"IF(AY6=14,\"\",IF(AND(E6=E5,F6=F5,G6=G5,H6=H5,I6=I5,J6=J5,K6=K5,L6=L5,M6=M5,O6=O5,P6=P5,Q6=Q5,R6=R5),A5,IF(D5=0,A5,BE6)))","v":2},"Sandor Bodi","Växjö HSK",41,"x","x",10,10,8,"x",5,4,4,"x","x","x","x","x",null,null,10,10,8,5,4,4,0,0,0,0,0,0,0,0,null,0,0,10,10,8,0,5,4,4,0,0,0,0,0,null,8,{"$f":"IF(AY6=13,-1,SUM(E6:R6))","v":41},null,null,null,null,2,null,null,null,100,0,0,22,22,17,8,14,6,11,0,0,0,0,null,0,100]
[3,"Tobias Gneupel","Sibbamåla IF",39,"x","x",4,8,"x",9,"x",9,9,"x","x","x","x","x",null,null,9,9,9,8,4,0,0,0,0,0,0,0,0,0,null,0,0,4,8,0,9,0,9,9,0,0,0,0,0,null,9,39,null,null,null,null,3,null,null,null,80,0,0,14,18,8,9,5,13,13,0,0,0,0,null,0,80]
[4,"Matz Karlsson","Korpen Åseda",30,"x","x",2,6,"x",7,3,8,4,"x","x","x","x","x",null,null,8,7,6,4,3,2,0,0,0,0,0,0,0,0,null,0,0,2,6,0,7,3,8,4,0,0,0,0,0,null,8,30,null,null,null,null,4,null,null,null,69,0,0,6,14,0,16,3,17,13,0,0,0,0,null,0,69]
[5,"Ingvar Eriksson","Carlskrona HSC",26,"x","x",5,5,"x",5,0,3,8,"x","x","x","x","x",null,null,8,5,5,5,3,0,0,0,0,0,0,0,0,0,null,0,0,5,5,0,5,0,3,8,0,0,0,0,0,null,8,26,null,null,null,null,5,null,null,null,56,0,0,7,11,0,12,3,11,12,0,0,0,0,null,0,56]
[6,"Peter Olsson","Dynapac ",25,"x","x",4,4,5,3,4,"x",5,"x","x","x","x","x",null,null,5,5,4,4,4,3,0,0,0,0,0,0,0,0,null,0,0,4,4,5,3,4,0,5,0,0,0,0,0,null,8,25,null,null,null,null,6,null,null,null,51,0,0,9,9,5,8,4,3,13,0,0,0,0,null,0,51]
[7,"Leo Andersson","Carlskrona HSC",24,"x","x",3,2,"x",3,8,7,1,"x","x","x","x","x",null,null,8,7,3,3,2,1,0,0,0,0,0,0,0,0,null,0,0,3,2,0,3,8,7,1,0,0,0,0,0,null,8,24,null,null,null,null,7,null,null,null,49,0,0,7,6,5,6,12,7,6,0,0,0,0,null,0,49]
[8,"Gert Karlsson","Korpen Åseda",21,"x","x",8,"x","x",4,1,5,3,"x","x","x","x","x",null,null,8,5,4,3,1,0,0,0,0,0,0,0,0,0,null,0,0,8,0,0,4,1,5,3,0,0,0,0,0,null,9,21,null,null,null,null,8,null,null,null,45,0,0,11,2,0,7,9,12,4,0,0,0,0,null,1,46]
[9,"Mattias Gneupel","Sibbamåla",14,"x","x",0,2,7,1,"x",1,3,"x","x","x","x","x",null,null,7,3,2,1,1,0,0,0,0,0,0,0,0,0,null,0,0,0,2,7,1,0,1,3,0,0,0,0,0,null,8,14,null,null,null,null,9,null,null,null,35,0,0,8,2,7,5,1,6,6,0,0,0,0,null,1,36]
[10,"Joel Sundahl","Carlskrona HSC",14,"x","x",6,4,"x",2,"x","x",2,"x","x","x","x","x",null,null,6,4,2,2,0,0,0,0,0,0,0,0,0,0,null,0,0,6,4,0,2,0,0,2,0,0,0,0,0,null,10,14,null,null,null,null,10,null,null,null,28,0,0,6,6,7,3,0,1,5,0,0,0,0,null,0,28]
[11,"Olle Ottosson","Dynapac ",11,"x","x",5,3,"x",1,"x","x",2,"x","x","x","x","x",null,null,5,3,2,1,0,0,0,0,0,0,0,0,0,0,null,0,0,5,3,0,1,0,0,2,0,0,0,0,0,null,10,11,null,null,null,null,11,null,null,null,25,0,0,11,7,0,3,0,0,4,0,0,0,0,null,0,25]
[12,"Anita Fabbeke","Dynapac",10,"x","x",0,3,"x",4,2,"x",1,"x","x","x","x","x",null,null,4,3,2,1,0,0,0,0,0,0,0,0,0,0,null,0,0,0,3,0,4,2,0,1,0,0,0,0,0,null,9,10,null,null,null,null,12,null,null,null,21,0,0,5,6,0,5,2,0,3,0,0,0,0,null,1,22]
[13,"Johan Johansson","Tingsryd Hsc",9,"x","x",2,5,"x",2,0,"x","x","x","x","x","x","x",null,null,5,2,2,0,0,0,0,0,0,0,0,0,0,0,null,0,0,2,5,0,2,0,0,0,0,0,0,0,0,null,10,9,null,null,null,null,13,null,null,null,19,0,0,2,8,0,6,2,0,1,0,0,0,0,null,2,21]
[14,"Gebriela Kostantinos","Korpen Åseda",7,"x","x","x","x","x","x",7,"x","x","x","x","x","x","x",null,null,7,0,0,0,0,0,0,0,0,0,0,0,0,0,null,0,0,0,0,0,0,7,0,0,0,0,0,0,0,null,13,-1,null,null,null,null,14,null,null,null,16,0,0,2,5,0,2,7,0,0,0,0,0,0,null,2,18]
[15,"Lisbeth Nygaard-Karlsson","Tingsryd Hsc",3,"x","x",3,0,"x",0,0,"x",0,"x","x","x","x","x",null,null,3,0,0,0,0,0,0,0,0,0,0,0,0,0,null,0,0,3,0,0,0,0,0,0,0,0,0,0,0,null,9,3,null,null,null,null,15,null,null,null,10,0,0,3,0,0,0,7,0,0,0,0,0,0,null,0,10]

{"sheet":"Klass 2","index":1,"n_rows":93,"n_cols":77,"rows_kept":93,"cut":false,"hidden":false,"merged":[]}
[null,{"$f":"'Klass 1'!$B$1","v":"SLUTSTÄLLNING"},null,"Totalpoäng","Jämjö Open","Björkenäs Open","Ute-SM dag 1","Ute-SM dag 2","Vaxholm Open","Dynapac Open","Åseda Open","Höstskon Nybro","Carlskrona Cup","Sibbamåla Open","Inne-SM","Värendspokalen","Tingsryd Open",null,null,"Antal tävlingar"]
[null,"Klass 2",null,null,1,2,3,4,5,6,7,8,9,10,11,12,13,null,null,13]
[null,{"$f":"'Klass 1'!$B$3","v":"2020/2021"}]
["Plac","Kastare ","Klubb"]
[1,"Hathaichonlanee Phaengphui","Växjö Hsk",{"$f":"SUM(E5:R5)","v":57},"x","x",12,12,"x",8,8,8,9,"x","x","x","x","x",null,null,{"$f":"LARGE(AJ5:AW5,1)","v":12},{"$f":"LARGE(AJ5:AW5,2)","v":12},{"$f":"LARGE(AJ5:AW5,3)","v":9},{"$f":"LARGE(AJ5:AW5,4)","v":8},{"$f":"LARGE(AJ5:AW5,5)","v":8},{"$f":"LARGE(AJ5:AW5,6)","v":8},{"$f":"LARGE(AJ5:AW5,7)","v":0},{"$f":"LARGE(AJ5:AW5,8)","v":0},{"$f":"LARGE(AJ5:AW5,9)","v":0},{"$f":"LARGE(AJ5:AW5,10)","v":0},{"$f":"LARGE(AJ5:AW5,11)","v":0},{"$f":"LARGE(AJ5:AW5,12)","v":0},{"$f":"LARGE(AJ5:AW5,13)","v":0},{"$f":"LARGE(AJ5:AW5,14)","v":0},null,{"$f":"IF(E5=\"x\",0,E5)","v":0},{"$f":"IF(F5=\"x\",0,F5)","v":0},{"$f":"IF(G5=\"x\",0,G5)","v":12},{"$f":"IF(H5=\"x\",0,H5)","v":12},{"$f":"IF(I5=\"x\",0,I5)","v":0},{"$f":"IF(J5=\"x\",0,J5)","v":8},{"$f":"IF(K5=\"x\",0,K5)","v":8},{"$f":"IF(L5=\"x\",0,L5)","v":8},{"$f":"IF(M5=\"x\",0,M5)","v":9},{"$f":"IF(N5=\"x\",0,N5)","v":0},{"$f":"IF(O5=\"x\",0,O5)","v":0},{"$f":"IF(P5=\"x\",0,P5)","v":0},{"$f":"IF(Q5=\"x\",0,Q5)","v":0},{"$f":"IF(R5=\"x\",0,R5)","v":0},null,{"$f":"COUNTIF(E5:R5,\"x\")","v":8},{"$f":"IF(AY5=13,-1,SUM(E5:Q5))","v":57},null,null,null,null,1,null,null,null,{"$f":"SUM(D4:D5)","v":57},{"$f":"SUM(E4:E5)","v":0},{"$f":"SUM(F4:F5)","v":0},{"$f":"SUM(G4:G5)","v":12},{"$f":"SUM(H4:H5)","v":12},0,8,8,8,9,{"$f":"SUM(O4:O5)","v":0},{"$f":"SUM(P4:P5)","v":0},{"$f":"SUM(Q4:Q5)","v":0},{"$f":"SUM(R4:R5)","v":0},null,{"$f":"COUNTIF(BI5:BV5,2)","v":0},{"$f":"SUM(BI5+BX5+BZ5)","v":57}]
[{"$f":"IF(AY6=14,\"\",IF(AND(E6=E5,F6=F5,G6=G5,H6=H5,I6=I5,J6=J5,K6=K5,L6=L5,M6=M5,O6=O5,P6=P5,Q6=Q5,R6=R5),A5,IF(D5=0,A5,BE6)))","v":2},"Yamonlada Damnoegam","Växjö Hsk",37,"x","x",10,10,"x",1,7,9,0,"x","x","x","x","x",null,null,10,10,9,7,1,0,0,0,0,0,0,0,0,0,null,0,0,10,10,0,1,7,9,0,0,0,0,0,0,null,8,37,null,null,null,null,2,null,null,null,94,0,0,22,{"$f":"SUM(H5:H6)","v":22},{"$f":"SUM(I5:I6)","v":0},{"$f":"SUM(J5:J6)","v":9},{"$f":"SUM(K5:K6)","v":15},{"$f":"SUM(L5:L6)","v":17},{"$f":"SUM(M5:M6)","v":9},{"$f":"SUM(O5:O6)","v":0},{"$f":"SUM(P5:P6)","v":0},{"$f":"SUM(Q5:Q6)","v":0},{"$f":"SUM(R5:R6)","v":0},null,0,94]
[3,"Tomas Lindahl","Korpen Åseda",25,"x","x",4,5,"x",2,5,7,2,"x","x","x","x","x",null,null,7,5,5,4,2,2,0,0,0,0,0,0,0,0,null,0,0,4,5,0,2,5,7,2,0,0,0,0,0,null,8,25,null,null,null,null,3,null,null,null,62,0,0,14,15,0,3,12,16,2,0,0,0,0,null,1,63]
[4,"Bengt Andersson","Växjö Hsk",22.5,"x","x",2,3,"x",5,9,0,3.5,"x","x","x","x","x",null,null,9,5,3.5,3,2,0,0,0,0,0,0,0,0,0,null,0,0,2,3,0,5,9,0,3.5,0,0,0,0,0,null,8,22.5,null,null,null,null,4,null,null,null,47.5,0,0,6,8,0,7,14,7,5.5,0,0,0,0,null,0,47.5]
[5,"Dan Hallstan","Växjö Hsk",22.5,"x","x",3,5.5,7,2,3,1,1,"x","x","x","x","x",null,null,7,5.5,3,3,2,1,1,0,0,0,0,0,0,0,null,0,0,3,5.5,7,2,3,1,1,0,0,0,0,0,null,7,22.5,null,null,null,null,5,null,null,null,45,0,0,5,8.5,7,7,12,1,4.5,0,0,0,0,null,0,45]
[6,"Carina Gneupel","Sibbamåla",21.5,"x","x",4,5.5,"x",4,"x","x",8,"x","x","x","x","x",null,null,8,5.5,4,4,0,0,0,0,0,0,0,0,0,0,null,0,0,4,5.5,0,4,0,0,8,0,0,0,0,0,null,10,21.5,null,null,null,null,6,null,null,null,44,0,0,7,11,7,6,3,1,9,0,0,0,0,null,0,44]
[7,"Lasse Brincner","Värends Hsk",21,"x","x",5,0,8,1,0,0,7,"x","x","x","x","x",null,null,8,7,5,1,0,0,0,0,0,0,0,0,0,0,null,0,0,5,0,8,1,0,0,7,0,0,0,0,0,null,7,21,null,null,null,null,7,null,null,null,42.5,0,0,9,5.5,8,5,0,0,15,0,0,0,0,null,0,42.5]
[8,"Nathalie Sundahl","Carlskrona Hsc",20,"x","x",6,2,"x",3,1,4,4,"x","x","x","x","x",null,null,6,4,4,3,2,1,0,0,0,0,0,0,0,0,null,0,0,6,2,0,3,1,4,4,0,0,0,0,0,null,8,20,null,null,null,null,8,null,null,null,41,0,0,11,2,8,4,1,4,11,0,0,0,0,null,1,42]
[9,"Berndt Pettersson","Lanternan",18,"x","x",8,3,"x",1,4,0,2,"x","x","x","x","x",null,null,8,4,3,2,1,0,0,0,0,0,0,0,0,0,null,0,0,8,3,0,1,4,0,2,0,0,0,0,0,null,8,18,null,null,null,null,9,null,null,null,38,0,0,14,5,0,4,5,4,6,0,0,0,0,null,0,38]
[10,"Ronny Lundberg","Lanternan",17,"x","x",5,8,"x",0,3,0,1,"x","x","x","x","x",null,null,8,5,3,1,0,0,0,0,0,0,0,0,0,0,null,0,0,5,8,0,0,3,0,1,0,0,0,0,0,null,8,17,null,null,null,null,10,null,null,null,35,0,0,13,11,0,1,7,0,3,0,0,0,0,null,0,35]
[11,"Göran Olofsson","Korpen Nybro",17,"x","x",3,4,"x",3,2,5,0,"x","x","x","x","x",null,null,5,4,3,3,2,0,0,0,0,0,0,0,0,0,null,0,0,3,4,0,3,2,5,0,0,0,0,0,0,null,8,17,null,null,null,null,11,null,null,null,34,0,0,8,12,0,3,5,5,1,0,0,0,0,null,0,34]
[12,"Maire Johansson","Växjö HSK",15,"x","x","x","x","x",5,4,3,3,"x","x","x","x","x",null,null,5,4,3,3,0,0,0,0,0,0,0,0,0,0,null,0,0,0,0,0,5,4,3,3,0,0,0,0,0,null,10,15,null,null,null,null,12,null,null,null,32,0,0,3,4,0,8,6,8,3,0,0,0,0,null,0,32]
[13,"Roy Dahlén","Dynapac ",14,"x","x",0,4,9,1,"x","x","x","x","x","x","x","x",null,null,9,4,1,0,0,0,0,0,0,0,0,0,0,0,null,0,0,0,4,9,1,0,0,0,0,0,0,0,0,null,10,14,null,null,null,null,13,null,null,null,29,0,0,0,4,9,6,4,3,3,0,0,0,0,null,0,29]
[14,"Bo Petersson","Korpen Nybro",14,"x","x","x",2,"x",4,1,2,5,"x","x","x","x","x",null,null,5,4,2,2,1,0,0,0,0,0,0,0,0,0,null,0,0,0,2,0,4,1,2,5,0,0,0,0,0,null,9,14,null,null,null,null,14,null,null,null,28,0,0,0,6,9,5,1,2,5,0,0,0,0,null,1,29]
[15,"Ewa Malmqvist","Jämjö Hsk",13,"x","x",2,"x","x",9,2,"x","x","x","x","x","x","x",null,null,9,2,2,0,0,0,0,0,0,0,0,0,0,0,null,0,0,2,0,0,9,2,0,0,0,0,0,0,0,null,11,13,null,null,null,null,15,null,null,null,27,0,0,2,2,0,13,3,2,5,0,0,0,0,null,3,30]
[16,"Magnus Israelsson","Sibbamåla IF",10.5,"x","x","x","x","x",7,"x","x",3.5,"x","x","x","x","x",null,null,7,3.5,0,0,0,0,0,0,0,0,0,0,0,0,null,0,0,0,0,0,7,0,0,3.5,0,0,0,0,0,null,12,10.5,null,null,null,null,16,null,null,null,23.5,0,0,2,0,0,16,2,0,3.5,0,0,0,0,null,2,25.5]
[17,"Peter Edlund","Dynapac",0,"x","x","x","x","x",0,"x","x","x","x","x","x","x","x",null,null,0,0,0,0,0,0,0,0,0,0,0,0,0,0,null,0,0,0,0,0,0,0,0,0,0,0,0,0,0,null,13,-1,null,null,null,null,17,null,null,null,10.5,0,0,0,0,0,7,0,0,3.5,0,0,0,0,null,0,10.5]
[17,"Lukas Bern","Dynapac",0,"x","x",0,0,"x","x","x","x","x","x","x","x","x","x",null,null,0,0,0,0,0,0,0,0,0,0,0,0,0,0,null,0,0,0,0,0,0,0,0,0,0,0,0,0,0,null,12,0,null,null,null,null,18,null,null,null,0,0,0,0,0,0,0,0,0,0,0,0,0,0,null,0,0]
["","Stefan Tollstam","Dynapac ",0,"x","x","x","x","x","x","x","x","x","x","x","x","x","x",null,null,0,0,0,0,0,0,0,0,0,0,0,0,0,0,null,0,0,0,0,0,0,0,0,0,0,0,0,0,0,null,14,0,null,null,null,null,19,null,null,null,0,0,0,0,0,0,0,0,0,0,0,0,0,0,null,0,0]
["","Christer Blomgren","Lanternan ",0,"x","x","x","x","x","x","x","x","x","x","x","x","x","x",null,null,0,0,0,0,0,0,0,0,0,0,0,0,0,0,null,0,0,0,0,0,0,0,0,0,0,0,0,0,0,null,14,0,null,null,null,null,20,null,null,null,0,0,0,0,0,0,0,0,0,0,0,0,0,0,null,0,0]
[{"$f":"IF(AY25=12,\"\",IF(AND(E25=E24,F25=F24,G25=G24,H25=H24,J25=J24,K25=K24,L25=L24,M25=M24,O25=O24,P25=P24,Q25=Q24,R25=R24),A24,IF(D24=0,A24,BE25)))","v":""}]
[""]
[""]
[""]
[""]
[""]
[""]
[""]
[""]
[""]
[""]
[""]
[""]
[""]
[""]
[""]
[""]
[""]
[""]
[""]
[""]
[""]
[""]
[""]
[""]
[""]
[""]
[""]
[""]
[""]
[]
[]
[]
[]
[]
[]
[]
[]
[]
[]
[]
[]
[]
[]
[]
[]
[]
[]
[]
[]
[]
[]
[]
[]
[]
[]
[]
[]
[]
[]
[]
[]
[]
[]
[]
[]
[]
[]
[null,{"$f":"'Klass 2'!I14l","v":{"$error":"#NAME?"}}]

{"sheet":"Klass 3","index":2,"n_rows":151,"n_cols":77,"rows_kept":151,"cut":false,"hidden":false,"merged":[]}
[null,{"$f":"'Klass 1'!$B$1","v":"SLUTSTÄLLNING"},null,"Totalpoäng","Jämjö Open","Björkenäs Open","Ute-SM dag 1","Ute-SM dag 2","Vaxholm Open","Dynapac Open","Åseda Open","Höstskon Nybro","Carlskrona Cup","Sibbamåla Open","Inne-SM","Värendspokalen","Tingsryd Open",null,null,"Antal tävlingar"]
[null,"Klass 3",null,null,1,2,3,4,5,6,7,8,9,10,11,12,13,null,null,13]
[null,{"$f":"'Klass 1'!$B$3","v":"2020/2021"}]
["Plac","Kastare ","Klubb"]
[1,"Sandra Widlund","Växjö Hsk",{"$f":"SUM(E5:R5)","v":55},"x","x",12,12,"x",8,5,9,9,"x","x","x","x","x",null,null,{"$f":"LARGE(AJ5:AW5,1)","v":12},{"$f":"LARGE(AJ5:AW5,2)","v":12},{"$f":"LARGE(AJ5:AW5,3)","v":9},{"$f":"LARGE(AJ5:AW5,4)","v":9},{"$f":"LARGE(AJ5:AW5,5)","v":8},{"$f":"LARGE(AJ5:AW5,6)","v":5},{"$f":"LARGE(AJ5:AW5,7)","v":0},{"$f":"LARGE(AJ5:AW5,8)","v":0},{"$f":"LARGE(AJ5:AW5,9)","v":0},{"$f":"LARGE(AJ5:AW5,10)","v":0},{"$f":"LARGE(AJ5:AW5,11)","v":0},{"$f":"LARGE(AJ5:AW5,12)","v":0},{"$f":"LARGE(AJ5:AW5,13)","v":0},{"$f":"LARGE(AJ5:AW5,14)","v":0},null,{"$f":"IF(E5=\"x\",0,E5)","v":0},{"$f":"IF(F5=\"x\",0,F5)","v":0},{"$f":"IF(G5=\"x\",0,G5)","v":12},{"$f":"IF(H5=\"x\",0,H5)","v":12},{"$f":"IF(I5=\"x\",0,I5)","v":0},{"$f":"IF(J5=\"x\",0,J5)","v":8},{"$f":"IF(K5=\"x\",0,K5)","v":5},{"$f":"IF(L5=\"x\",0,L5)","v":9},{"$f":"IF(M5=\"x\",0,M5)","v":9},{"$f":"IF(N5=\"x\",0,N5)","v":0},{"$f":"IF(O5=\"x\",0,O5)","v":0},{"$f":"IF(P5=\"x\",0,P5)","v":0},{"$f":"IF(Q5=\"x\",0,Q5)","v":0},{"$f":"IF(R5=\"x\",0,R5)","v":0},null,{"$f":"COUNTIF(E5:R5,\"x\")","v":8},{"$f":"IF(AY5=13,-1,SUM(E5:R5))","v":55},null,null,null,null,1,null,null,null,{"$f":"SUM(D4:D5)","v":55},0,0,12,12,0,8,5,9,9,{"$f":"SUM(O4:O5)","v":0},{"$f":"SUM(P4:P5)","v":0},{"$f":"SUM(Q4:Q5)","v":0},{"$f":"SUM(R4:R5)","v":0},null,{"$f":"COUNTIF(BI5:BV5,2)","v":0},{"$f":"SUM(BI5+BX5+BZ5)","v":55}]
[{"$f":"IF(AY6=14,\"\",IF(AND(E6=E5,F6=F5,G6=G5,H6=H5,J6=J5,J6=J5,K6=K5,L6=L5,M6=M5,O6=O5,P6=P5,Q6=Q5,R6=R5),A5,IF(D5=0,A5,BE6)))","v":2},"Lennart Karlsson","Tingsryds HSC",30,"x","x",3,10,"x",7,9,"x",1,"x","x","x","x","x",null,null,10,9,7,3,1,0,0,0,0,0,0,0,0,0,null,0,0,3,10,0,7,9,0,1,0,0,0,0,0,null,9,{"$f":"IF(AY6=12,-1,SUM(E6:R6))","v":30},null,null,null,null,2,null,null,null,{"$f":"SUM(D5:D6)","v":85},{"$f":"SUM(E5:E6)","v":0},{"$f":"SUM(F5:F6)","v":0},{"$f":"SUM(G5:G6)","v":15},{"$f":"SUM(H5:H6)","v":22},null,{"$f":"SUM(J5:J6)","v":15},{"$f":"SUM(K5:K6)","v":14},{"$f":"SUM(L5:L6)","v":9},{"$f":"SUM(M5:M6)","v":10},{"$f":"SUM(O5:O6)","v":0},{"$f":"SUM(P5:P6)","v":0},{"$f":"SUM(Q5:Q6)","v":0},0,null,0,85]
[3,"Sebastian Israelsson","Sibbamåla IF",28,"x","x",5,2,"x",9,"x",7,5,"x","x","x","x","x",null,null,9,7,5,5,2,0,0,0,0,0,0,0,0,0,null,0,0,5,2,0,9,0,7,5,0,0,0,0,0,null,9,28,null,null,null,null,3,null,null,null,58,0,0,8,12,null,16,9,7,6,0,0,0,0,null,0,58]
[4,"Dan Madayang","Korpen Åseda",28,"x","x","x","x","x",5,8,8,7,"x","x","x","x","x",null,null,8,8,7,5,0,0,0,0,0,0,0,0,0,0,null,0,0,0,0,0,5,8,8,7,0,0,0,0,0,null,10,28,null,null,null,null,4,null,null,null,56,0,0,5,2,null,14,8,15,12,0,0,0,0,null,1,57]
[5,"Mattias Olsson","Dynapac ",25,"x","x",10,5,"x",2,"x","x",8,"x","x","x","x","x",null,null,10,8,5,2,0,0,0,0,0,0,0,0,0,0,null,0,0,10,5,0,2,0,0,8,0,0,0,0,0,null,10,25,null,null,null,null,5,null,null,null,53,0,0,10,5,null,7,8,8,15,0,0,0,0,null,0,53]
[6,"Björn Landberg","Vaxholm Hsk",22,"x","x",3,8,9,"x","x","x",2,"x","x","x","x","x",null,null,9,8,3,2,0,0,0,0,0,0,0,0,0,0,null,0,0,3,8,9,0,0,0,2,0,0,0,0,0,null,10,22,null,null,null,null,6,null,null,null,47,0,0,13,13,null,2,0,0,10,0,0,0,0,null,1,48]
[7,"Bela Bodi","Växjö HSK",19,"x","x",0,3,8,"x",0,4,4,"x","x","x","x","x",null,null,8,4,4,3,0,0,0,0,0,0,0,0,0,0,null,0,0,0,3,8,0,0,4,4,0,0,0,0,0,null,8,19,null,null,null,null,7,null,null,null,41,0,0,3,11,null,0,0,4,6,0,0,0,{"$f":"SUM(R10:R11)","v":0},null,{"$f":"COUNTIF(BI11:BV11,2)","v":0},41]
[8,"Göran Mårtensson","Jämjö Hsk",18,"x","x",6,6,"x",0,"x",5,1,"x","x","x","x","x",null,null,6,6,5,1,0,0,0,0,0,0,0,0,0,0,null,0,0,6,6,0,0,0,5,1,0,0,0,0,0,null,9,18,null,null,null,null,8,null,null,null,37,0,0,6,9,null,0,0,9,5,0,0,0,{"$f":"SUM(R11:R12)","v":0},null,{"$f":"COUNTIF(BI12:BV12,2)","v":0},37]
[9,"Kerstin Svensson","Växjö Hsk",17,"x","x",0,2,7,4,1,3,0,"x","x","x","x","x",null,null,7,4,3,2,1,0,0,0,0,0,0,0,0,0,null,0,0,0,2,7,4,1,3,0,0,0,0,0,0,null,7,17,null,null,null,null,9,null,null,null,35,0,0,6,8,null,4,1,8,1,0,0,0,0,null,0,35]
[10,"Mathias Karlberg","Jämjö Hsk",15,"x","x",6,2,"x",3,"x","x",4,"x","x","x","x","x",null,null,6,4,3,2,0,0,0,0,0,0,0,0,0,0,null,0,0,6,2,0,3,0,0,4,0,0,0,0,0,null,10,15,null,null,null,null,10,null,null,null,32,0,0,6,4,null,7,1,3,4,0,0,0,0,null,0,32]
[11,"Inge Skoglöv ","Jämjö Hsk",14,"x","x",8,3,"x","x","x",2,1,"x","x","x","x","x",null,null,8,3,2,1,0,0,0,0,0,0,0,0,0,0,null,0,0,8,3,0,0,0,2,1,0,0,0,0,0,null,10,14,null,null,null,null,11,null,null,null,29,0,0,14,5,null,3,0,2,5,0,0,0,0,null,1,30]
[12,"Elin Olsson","Dynapac",14,"x","x",2,2,"x",3,5,"x",2,"x","x","x","x","x",null,null,5,3,2,2,2,0,0,0,0,0,0,0,0,0,null,0,0,2,2,0,3,5,0,2,0,0,0,0,0,null,9,14,null,null,null,null,12,null,null,null,28,0,0,10,5,null,3,5,2,3,0,0,0,0,null,1,29]
[{"$f":"IF(AY17=14,\"\",IF(AND(E17=E16,F17=F16,G17=G16,H17=H16,J17=J16,J17=J16,K17=K16,L17=L16,M17=M16,O17=O16,P17=P16,Q17=Q16,R17=R16),A16,IF(D16=0,A16,BE17)))","v":13},"Bengt Fabbeke","Dynapac",13,"x","x",2,6,"x",1,4,"x",0,"x","x","x","x","x",null,null,6,4,2,1,0,0,0,0,0,0,0,0,0,0,null,0,0,2,6,0,1,4,0,0,0,0,0,0,0,null,9,13,null,null,null,null,13,null,null,null,27,0,0,4,8,null,4,9,0,2,0,0,0,0,null,1,28]
[14,"Louise Tollstam","Dynapac",11,"x","x",2,4,"x",0,"x","x",5,"x","x","x","x","x",null,null,5,4,2,0,0,0,0,0,0,0,0,0,0,0,null,0,0,2,4,0,0,0,0,5,0,0,0,0,0,null,10,11,null,null,null,null,14,null,null,null,24,0,0,4,10,null,1,4,0,5,0,0,0,0,null,0,24]
[15,"Mats Mårtensson","Jämjö Hsk",9,"x","x",5,4,"x","x","x","x",0,"x","x","x","x","x",null,null,5,4,0,0,0,0,0,0,0,0,0,0,0,0,null,0,0,5,4,0,0,0,0,0,0,0,0,0,0,null,11,9,null,null,null,null,15,null,null,null,20,0,0,7,8,null,0,0,0,5,0,0,0,0,null,0,20]
[16,"Gilbert Pettersson","Lanternan",9,"x","x","x",5,"x",1,3,"x",0,"x","x","x","x","x",null,null,5,3,1,0,0,0,0,0,0,0,0,0,0,0,null,0,0,0,5,0,1,3,0,0,0,0,0,0,0,null,10,{"$f":"IF(AY20=12,-1,SUM(E20:R20))","v":9},null,null,null,null,16,null,null,null,18,0,0,5,9,null,1,3,0,0,0,0,0,0,null,0,18]
[17,"Bernt Olsson","Jämjö Hsk",9,"x","x",4,"x","x",1,4,"x","x","x","x","x","x","x",null,null,4,4,1,0,0,0,0,0,0,0,0,0,0,0,null,0,0,4,0,0,1,4,0,0,0,0,0,0,0,null,11,9,null,null,null,null,17,null,null,null,18,0,0,4,5,null,2,7,0,0,0,0,0,0,null,1,19]
[18,"Åke Bergqvist","Tingsryds HSC",9,"x","x","x","x","x",4,1,1,3,"x","x","x","x","x",null,null,4,3,1,1,0,0,0,0,0,0,0,0,0,0,null,0,0,0,0,0,4,1,1,3,0,0,0,0,0,null,10,9,null,null,null,null,18,null,null,null,18,0,0,4,0,null,5,5,1,3,0,0,0,0,null,0,18]
[19,"Alf Svensson","Korpen Åseda",7,"x","x",0,"x","x","x",7,"x","x","x","x","x","x","x",null,null,7,0,0,0,0,0,0,0,0,0,0,0,0,0,null,0,0,0,0,0,0,7,0,0,0,0,0,0,0,null,12,-1,null,null,null,null,19,null,null,null,16,0,0,0,0,null,4,8,1,3,0,0,0,0,null,0,16]
[20,"Ingegerd Pettersson","Lanternan",7,"x","x",0,0,"x",0,2,4,1,"x","x","x","x","x",null,null,4,2,1,0,0,0,0,0,0,0,0,0,0,0,null,0,0,0,0,0,0,2,4,1,0,0,0,0,0,null,8,7,null,null,null,null,20,null,null,null,14,0,0,0,0,null,0,9,4,1,0,0,0,0,null,0,14]
[21,"Thomas Dahl","Växjö HSK",6,"x","x",4,0,"x",0,0,2,0,"x","x","x","x","x",null,null,4,2,0,0,0,0,0,0,0,0,0,0,0,0,null,0,0,4,0,0,0,0,2,0,0,0,0,0,0,null,8,6,null,null,null,null,21,null,null,null,13,0,0,4,0,null,0,2,6,1,0,0,0,0,null,1,14]
[22,"Klara Larsson","Värends HSK",6,"x","x","x","x","x","x",3,3,0,"x","x","x","x","x",null,null,3,3,0,0,0,0,0,0,0,0,0,0,0,0,null,0,0,0,0,0,0,3,3,0,0,0,0,0,0,null,11,6,null,null,null,null,22,null,null,null,12,0,0,4,0,null,0,3,5,0,0,0,0,0,null,0,12]
[23,"Leif Sundahl","Carlskrona HSC",5,"x","x","x","x","x",5,0,"x",0,"x","x","x","x","x",null,null,5,0,0,0,0,0,0,0,0,0,0,0,0,0,null,0,0,0,0,0,5,0,0,0,0,0,0,0,0,null,11,5,null,null,null,null,23,null,null,null,11,0,0,0,0,null,5,3,3,0,0,0,0,0,null,0,11]
[24,"Marcus Karlsson","Jämjö Hsk",4,"x","x",2,"x","x",2,"x","x","x","x","x","x","x","x",null,null,2,2,0,0,0,0,0,0,0,0,0,0,0,0,null,0,0,2,0,0,2,0,0,0,0,0,0,0,0,null,12,-1,null,null,null,null,24,null,null,null,9,0,0,2,0,null,7,0,0,0,0,0,0,0,null,1,10]
[25,"Hans Johansson","Tingsryd Hsc",3,"x","x","x","x","x","x","x","x",3,"x","x","x","x","x",null,null,3,0,0,0,0,0,0,0,0,0,0,0,0,0,null,0,0,0,0,0,0,0,0,3,0,0,0,0,0,null,13,3,null,null,null,null,25,null,null,null,7,0,0,2,0,null,2,0,0,3,0,0,0,0,null,2,9]
[26,"Christer Brincner","Värends HSK",2,"x","x","x","x","x","x",2,"x","x","x","x","x","x","x",null,null,2,0,0,0,0,0,0,0,0,0,0,0,0,0,null,0,0,0,0,0,0,2,0,0,0,0,0,0,0,null,13,2,null,null,null,null,26,null,null,null,5,0,0,0,0,null,0,2,0,3,0,0,0,0,null,1,6]
[27,"Sune Olsson","Korpen Nybro",2,"x","x","x","x","x","x",1,1,"x","x","x","x","x","x",null,null,1,1,0,0,0,0,0,0,0,0,0,0,0,0,null,0,0,0,0,0,0,1,1,0,0,0,0,0,0,null,12,-1,null,null,null,null,27,null,null,null,4,0,0,0,0,null,0,3,1,0,0,0,0,0,null,0,4]
[28,"Jan Pettersson","Lanternan ",2,"x","x",0,0,"x",1,1,"x","x","x","x","x","x","x",null,null,1,1,0,0,0,0,0,0,0,0,0,0,0,0,null,0,0,0,0,0,1,1,0,0,0,0,0,0,0,null,10,2,null,null,null,null,28,null,null,null,4,0,0,0,0,null,1,2,1,0,0,0,0,0,null,1,5]
[29,"Ann-Marie Larsson","Tingsryds HSC",0,"x","x","x","x","x","x",0,"x","x","x","x","x","x","x",null,null,0,0,0,0,0,0,0,0,0,0,0,0,0,0,null,0,0,0,0,0,0,0,0,0,0,0,0,0,0,null,13,0,null,null,null,null,29,null,null,null,2,0,0,0,0,null,1,1,0,0,0,0,0,0,null,1,3]
[29,"Nils-Åke Hansson","Korpen Nybro",0,"x","x","x","x","x",0,"x",0,0,"x","x","x","x","x",null,null,0,0,0,0,0,0,0,0,0,0,0,0,0,0,null,0,0,0,0,0,0,0,0,0,0,0,0,0,0,null,11,0,null,null,null,null,30,null,null,null,0,0,0,0,0,null,0,0,0,0,0,0,0,0,null,0,0]
[29,"Marianne Karlsson","Jämjö Hsk",0,"x","x",0,"x","x",0,"x","x","x","x","x","x","x","x",null,null,0,0,0,0,0,0,0,0,0,0,0,0,0,0,null,0,0,0,0,0,0,0,0,0,0,0,0,0,0,null,12,-1,null,null,null,null,31,null,null,null,0,0,0,0,0,null,0,0,0,0,0,0,0,0,null,0,0]
["","Maj-Britt Jarl","Växjö HSK",0,"x","x","x","x","x","x","x","x","x","x","x","x","x","x",null,null,0,0,0,0,0,0,0,0,0,0,0,0,0,0,null,0,0,0,0,0,0,0,0,0,0,0,0,0,0,null,14,0,null,null,null,null,32,null,null,null,0,0,0,0,0,null,0,0,0,0,0,0,0,0,null,0,0]
["","Anders Johansson","Dynapac",0,"x","x","x","x","x","x","x","x","x","x","x","x","x","x",null,null,0,0,0,0,0,0,0,0,0,0,0,0,0,0,null,0,0,0,0,0,0,0,0,0,0,0,0,0,0,null,14,0,null,null,null,null,33,null,null,null,0,0,0,0,0,null,0,0,0,0,0,0,0,0,null,0,0]
["","Jörgen Holmqvist","Lessebo Hsk",0,"x","x","x","x","x","x","x","x","x","x","x","x","x","x",null,null,0,0,0,0,0,0,0,0,0,0,0,0,0,0,null,0,0,0,0,0,0,0,0,0,0,0,0,0,0,null,14,0,null,null,null,null,34,null,null,null,0,0,0,0,0,null,0,0,0,0,0,0,0,0,null,0,0]
["","Leif Ahlex","Lessebo HSK",0,"x","x","x","x","x","x","x","x","x","x","x","x","x","x",null,null,0,0,0,0,0,0,0,0,0,0,0,0,0,0,null,0,0,0,0,0,0,0,0,0,0,0,0,0,0,null,14,0,null,null,null,null,35,null,null,null,0,0,0,0,0,null,0,0,0,0,0,0,0,0,null,0,0]
["","Christian Balsiger","Värends HSK",0,"x","x","x","x","x","x","x","x","x","x","x","x","x","x",null,null,0,0,0,0,0,0,0,0,0,0,0,0,0,0,null,0,0,0,0,0,0,0,0,0,0,0,0,0,0,null,14,0,null,null,null,null,36,null,null,null,0,0,0,0,0,null,0,0,0,0,0,0,0,0,null,0,0]
["","Bo Fransson","Lessebo HSK",0,"x","x","x","x","x","x","x","x","x","x","x","x","x","x",null,null,0,0,0,0,0,0,0,0,0,0,0,0,0,0,null,0,0,0,0,0,0,0,0,0,0,0,0,0,0,null,14,0,null,null,null,null,37,null,null,null,0,0,0,0,0,null,0,0,0,0,0,0,0,0,null,0,0]
["","Paul Karlsson","Lessebo HSK",0,"x","x","x","x","x","x","x","x","x","x","x","x","x","x",null,null,0,0,0,0,0,0,0,0,0,0,0,0,0,0,null,0,0,0,0,0,0,0,0,0,0,0,0,0,0,null,14,0,null,null,null,null,38,null,null,null,0,0,0,0,0,null,0,0,0,0,0,0,0,0,null,0,0]
["","Martin Antic","Värends HSK",0,"x","x","x","x","x","x","x","x","x","x","x","x","x","x",null,null,0,0,0,0,0,0,0,0,0,0,0,0,0,0,null,0,0,0,0,0,0,0,0,0,0,0,0,0,0,null,14,0,null,null,null,null,39,null,null,null,0,0,0,0,0,null,0,0,0,0,0,0,0,0,null,0,0]
["","Christer Lööv","Värends HSK",0,"x","x","x","x","x","x","x","x","x","x","x","x","x","x",null,null,0,0,0,0,0,0,0,0,0,0,0,0,0,0,null,0,0,0,0,0,0,0,0,0,0,0,0,0,0,null,14,0,null,null,null,null,40,null,null,null,0,0,0,0,0,null,0,0,0,0,0,0,0,0,null,0,0]
[{"$f":"IF(AY45=13,\"\",IF(AND(E45=E44,F45=F44,G45=G44,H45=H44,J45=J44,J45=J44,K45=K44,L45=L44,M45=M44,O45=O44,P45=P44,Q45=Q44,R45=R44),A44,IF(D44=0,A44,BE45)))","v":""},null,null,0,"x","x","x","x","x","x","x","x","x","x","x","x","x","x",null,null,0,0,0,0,0,0,0,0,0,0,0,0,0,0,null,0,0,0,0,0,0,0,0,0,0,0,0,0,0,null,14,0,null,null,null,null,41,null,null,null,0,0,0,0,0,null,0,0,0,0,0,0,0,0,null,0,0]
["",null,null,0,"x","x","x","x","x","x","x","x","x","x","x","x","x","x",null,null,0,0,0,0,0,0,0,0,0,0,0,0,0,0,null,0,0,0,0,0,0,0,0,0,0,0,0,0,0,null,14,0,null,null,null,null,42,null,null,null,0,0,0,0,0,null,0,0,0,0,0,0,0,0,null,0,0]
["",null,null,0,"x","x","x","x","x","x","x","x","x","x","x","x","x","x",null,null,0,0,0,0,0,0,0,0,0,0,0,0,0,0,null,0,0,0,0,0,0,0,0,0,0,0,0,0,0,null,14,0,null,null,null,null,43,null,null,null,0,0,0,0,0,null,0,0,0,0,0,0,0,0,null,0,0]
[{"$f":"IF(AY48=12,\"\",IF(AND(E48=E47,F48=F47,G48=G47,H48=H47,J48=J47,K48=K47,L48=L47,M48=M47,O48=O47,P48=P47,Q48=Q47,R48=R47),A47,IF(D47=0,A47,BE48)))","v":""}]
[""]
[""]
[""]
[""]
[""]
[""]
[""]
[""]
[""]
[""]
[""]
[""]
[""]
[""]
[""]
[""]
[""]
[""]
[{"$f":"IF(AY67=12,\"\",IF(AND(E67=E66,F67=F66,G67=G66,H67=H66,J67=J66,K67=K66,L67=L66,M67=M66,O67=O66,P67=P66,Q67=Q66,R67=R66),A66,IF(D66=0,A66,BE67)))","v":""}]
[""]
[""]
[""]
[""]
[""]
[""]
[""]
[""]
[""]
[""]
[""]
[""]
[""]
[""]
[""]
[""]
[""]
[""]
[""]
[""]
[{"$f":"IF(AY88=12,\"\",IF(AND(E88=E87,F88=F87,G88=G87,H88=H87,J88=J87,K88=K87,L88=L87,M88=M87,O88=O87,P88=P87,Q88=Q87,R88=R87),A87,IF(D87=0,A87,BE88)))","v":""}]
[""]
[""]
[""]
[""]
[""]
[""]
[""]
[""]
[""]
[""]
[""]
[""]
[""]
[""]
[""]
[""]
[""]
[""]
[""]
[""]
[{"$f":"IF(AY109=12,\"\",IF(AND(E109=E108,F109=F108,G109=G108,H109=H108,J109=J108,K109=K108,L109=L108,M109=M108,O109=O108,P109=P108,Q109=Q108,R109=R108),A108,IF(D108=0,A108,BE109)))","v":""}]
[""]
[""]
[""]
[""]
[""]
[""]
[""]
[""]
[""]
[""]
[""]
[""]
[""]
[""]
[""]
[""]
[""]
[""]
[""]
[""]
[""]
[""]
[""]
[""]
[""]
[{"$f":"IF(AY135=12,\"\",IF(AND(E135=E134,F135=F134,G135=G134,H135=H134,J135=J134,K135=K134,L135=L134,M135=M134,O135=O134,P135=P134,Q135=Q134,R135=R134),A134,IF(D134=0,A134,BE135)))","v":""}]
[""]
[""]
[""]
[""]
[""]
[""]
[""]
[""]
[""]
[""]
[""]
[""]
[""]
[""]
[""]
[""]

{"sheet":"Klass 4","index":3,"n_rows":123,"n_cols":77,"rows_kept":123,"cut":false,"hidden":false,"merged":[]}
[null,{"$f":"'Klass 1'!$B$1","v":"SLUTSTÄLLNING"},null,"Totalpoäng","Jämjö Open","Björkenäs Open","Ute-SM dag 1","Ute-SM dag 2","Vaxholm Open","Dynapac Open","Åseda Open","Höstskon Nybro","Carlskrona Cup","Sibbamåla Open","Inne-SM","Värendspokalen","Tingsryd Open",null,null,"Antal tävlingar"]
[null,"Klass 4",null,null,1,2,3,4,5,6,7,8,9,10,11,12,13,null,null,13]
[null,{"$f":"'Klass 1'!$B$3","v":"2020/2021"}]
["Plac","Kastare ","Klubb"]
[1,"Janne Johansson","Tingsryds HSC",{"$f":"SUM(E5:R5)","v":35},"x","x",5,12,"x",7,"x",8,3,"x","x","x","x","x",null,null,{"$f":"LARGE(AJ5:AW5,1)","v":12},{"$f":"LARGE(AJ5:AW5,2)","v":8},{"$f":"LARGE(AJ5:AW5,3)","v":7},{"$f":"LARGE(AJ5:AW5,4)","v":5},{"$f":"LARGE(AJ5:AW5,5)","v":3},{"$f":"LARGE(AJ5:AW5,6)","v":0},{"$f":"LARGE(AJ5:AW5,7)","v":0},{"$f":"LARGE(AJ5:AW5,8)","v":0},{"$f":"LARGE(AJ5:AW5,9)","v":0},{"$f":"LARGE(AJ5:AW5,10)","v":0},{"$f":"LARGE(AJ5:AW5,11)","v":0},{"$f":"LARGE(AJ5:AW5,12)","v":0},{"$f":"LARGE(AJ5:AW5,13)","v":0},{"$f":"LARGE(AJ5:AW5,14)","v":0},null,{"$f":"IF(E5=\"x\",0,E5)","v":0},{"$f":"IF(F5=\"x\",0,F5)","v":0},{"$f":"IF(G5=\"x\",0,G5)","v":5},{"$f":"IF(H5=\"x\",0,H5)","v":12},{"$f":"IF(I5=\"x\",0,I5)","v":0},{"$f":"IF(J5=\"x\",0,J5)","v":7},{"$f":"IF(K5=\"x\",0,K5)","v":0},{"$f":"IF(L5=\"x\",0,L5)","v":8},{"$f":"IF(M5=\"x\",0,M5)","v":3},{"$f":"IF(N5=\"x\",0,N5)","v":0},{"$f":"IF(O5=\"x\",0,O5)","v":0},{"$f":"IF(P5=\"x\",0,P5)","v":0},{"$f":"IF(Q5=\"x\",0,Q5)","v":0},{"$f":"IF(R5=\"x\",0,R5)","v":0},null,{"$f":"COUNTIF(E5:R5,\"x\")","v":9},{"$f":"IF(AY5=13,-1,SUM(E5:R5))","v":35},null,null,null,null,1,null,null,null,{"$f":"SUM(D4:D5)","v":35},0,0,5,12,0,7,0,8,3,{"$f":"SUM(O4:O5)","v":0},{"$f":"SUM(P4:P5)","v":0},{"$f":"SUM(Q4:Q5)","v":0},{"$f":"SUM(R4:R5)","v":0},null,{"$f":"COUNTIF(BI5:BV5,2)","v":0},{"$f":"SUM(BI5+BX5+BZ5)","v":35}]
[{"$f":"IF(AY6=14,\"\",IF(AND(E6=E5,F6=F5,G6=G5,H6=H5,I6=I5,J6=J5,K6=K5,L6=L5,M6=M5,O6=O5,P6=P5,Q6=Q5,R6=R5),A5,IF(D5=0,A5,BE6)))","v":2},"Stefan Olofsson","Korpen Nybro",28.5,"x","x",8,6,"x",2.5,4,4,4,"x","x","x","x","x",null,null,8,6,4,4,4,2.5,0,0,0,0,0,0,0,0,null,0,0,8,6,0,2.5,4,4,4,0,0,0,0,0,null,8,28.5,null,null,null,null,2,null,null,null,{"$f":"SUM(D5:D6)","v":63.5},{"$f":"SUM(E5:E6)","v":0},{"$f":"SUM(F5:F6)","v":0},{"$f":"SUM(G5:G6)","v":13},{"$f":"SUM(H5:H6)","v":18},{"$f":"SUM(I5:I6)","v":0},{"$f":"SUM(J5:J6)","v":9.5},{"$f":"SUM(K5:K6)","v":4},{"$f":"SUM(L5:L6)","v":12},{"$f":"SUM(M5:M6)","v":7},{"$f":"SUM(O5:O6)","v":0},{"$f":"SUM(P5:P6)","v":0},{"$f":"SUM(Q5:Q6)","v":0},{"$f":"SUM(R5:R6)","v":0},null,0,63.5]
[{"$f":"IF(AY7=14,\"\",IF(AND(E7=E6,F7=F6,G7=G6,H7=H6,I7=I6,J7=J6,K7=K6,L7=L6,M7=M6,O7=O6,P7=P6,Q7=Q6,R7=R6),A6,IF(D6=0,A6,BE7)))","v":3},"Lars-Erik Ottosson","Lanternan",28,"x","x",10,5,"x",9,"x","x",4,"x","x","x","x","x",null,null,10,9,5,4,0,0,0,0,0,0,0,0,0,0,null,0,0,10,5,0,9,0,0,4,0,0,0,0,0,null,10,28,null,null,null,null,3,null,null,null,56.5,0,0,18,11,0,11.5,4,4,8,0,0,0,0,null,0,56.5]
[{"$f":"IF(AY8=14,\"\",IF(AND(E8=E7,F8=F7,G8=G7,H8=H7,I8=I7,J8=J7,K8=K7,L8=L7,M8=M7,O8=O7,P8=P7,Q8=Q7,R8=R7),A7,IF(D7=0,A7,BE8)))","v":4},"Kristian Jältsäter","Vaxholm Hsk",26,"x","x",4,10,9,"x","x","x",3,"x","x","x","x","x",null,null,10,9,4,3,0,0,0,0,0,0,0,0,0,0,null,0,0,4,10,9,0,0,0,3,0,0,0,0,0,null,10,26,null,null,null,null,4,null,null,null,54,0,0,14,15,9,9,0,0,7,0,0,0,0,null,0,54]
[{"$f":"IF(AY9=14,\"\",IF(AND(E9=E8,F9=F8,G9=G8,H9=H8,I9=I8,J9=J8,K9=K8,L9=L8,M9=M8,O9=O8,P9=P8,Q9=Q8,R9=R8),A8,IF(D8=0,A8,BE9)))","v":5},"Björn Gabrielsson","Vaxholm Hsk",22,"x","x",5,5,7,"x","x","x",5,"x","x","x","x","x",null,null,7,5,5,5,0,0,0,0,0,0,0,0,0,0,null,0,0,5,5,7,0,0,0,5,0,0,0,0,0,null,10,22,null,null,null,null,5,null,null,null,48,0,0,9,15,16,0,0,0,8,0,0,0,0,null,0,48]
[6,"Hernan Hernandez","Jämjö Hsk",19,"x","x",4,3,"x",2,"x",9,1,"x","x","x","x","x",null,null,9,4,3,2,1,0,0,0,0,0,0,0,0,0,null,0,0,4,3,0,2,0,9,1,0,0,0,0,0,null,9,19,null,null,null,null,6,null,null,null,41,0,0,9,8,7,2,0,9,6,0,0,0,0,null,1,42]
[7,"Günter Irascho","Växjö Hsk",17.5,"x","x",5,0,"x",3.5,9,"x","x","x","x","x","x","x",null,null,9,5,3.5,0,0,0,0,0,0,0,0,0,0,0,null,0,0,5,0,0,3.5,9,0,0,0,0,0,0,0,null,10,17.5,null,null,null,null,7,null,null,null,36.5,0,0,9,3,0,5.5,9,9,1,0,0,0,0,null,0,36.5]
[8,"Anton Alexandersson","Sibbamåla IF",17,"x","x","x","x","x",8,"x","x",9,"x","x","x","x","x",null,null,9,8,0,0,0,0,0,0,0,0,0,0,0,0,null,0,0,0,0,0,8,0,0,9,0,0,0,0,0,null,12,17,null,null,null,null,8,null,null,null,34.5,0,0,5,0,0,11.5,9,0,9,0,0,0,0,null,0,34.5]
[9,"Maria Andersson","Team Småland Hsk",16,"x","x",3,2,2.5,4,1,1.5,2,"x","x","x","x","x",null,null,4,3,2.5,2,2,1.5,1,0,0,0,0,0,0,0,null,0,0,3,2,2.5,4,1,1.5,2,0,0,0,0,0,null,7,16,null,null,null,null,9,null,null,null,33,0,0,3,2,2.5,12,1,1.5,11,0,0,0,0,null,1,34]
[10,"Fredrik Sandelius","Balders Hsk",15.5,"x","x",4,8,3.5,"x","x","x","x","x","x","x","x","x",null,null,8,4,3.5,0,0,0,0,0,0,0,0,0,0,0,null,0,0,4,8,3.5,0,0,0,0,0,0,0,0,0,null,11,15.5,null,null,null,null,10,null,null,null,31.5,0,0,7,10,6,4,1,1.5,2,0,0,0,0,null,1,32.5]
[11,"Daniel Mårtensson","Jämjö Hsk",14,"x","x",3,0,"x",4,"x",7,"x","x","x","x","x","x",null,null,7,4,3,0,0,0,0,0,0,0,0,0,0,0,null,0,0,3,0,0,4,0,7,0,0,0,0,0,0,null,10,14,null,null,null,null,11,null,null,null,29.5,0,0,7,8,3.5,4,0,7,0,0,0,0,0,null,0,29.5]
[12,"Pascal Letter","Balders Hsk",13,"x","x",6,4,3,"x","x","x","x","x","x","x","x","x",null,null,6,4,3,0,0,0,0,0,0,0,0,0,0,0,null,0,0,6,4,3,0,0,0,0,0,0,0,0,0,null,11,13,null,null,null,null,12,null,null,null,27,0,0,9,4,3,4,0,7,0,0,0,0,0,null,0,27]
[13,"Lars Johanesson","Jämjö Hsk",13,"x","x",0,5,"x",3,"x",5,"x","x","x","x","x","x",null,null,5,5,3,0,0,0,0,0,0,0,0,0,0,0,null,0,0,0,5,0,3,0,5,0,0,0,0,0,0,null,10,13,null,null,null,null,13,null,null,null,26,0,0,6,9,3,3,0,5,0,0,0,0,0,null,0,26]
[14,"Roland Andreasson","Lanternan",12,"x","x",12,"x","x","x","x","x","x","x","x","x","x","x",null,null,12,0,0,0,0,0,0,0,0,0,0,0,0,0,null,0,0,12,0,0,0,0,0,0,0,0,0,0,0,null,13,-1,null,null,null,null,14,null,null,null,25,0,0,12,5,0,3,0,5,0,0,0,0,0,null,0,25]
[15,"Julius Gneupel","Sibbamåla IF",12,"x","x",4,3,"x",5,"x","x","x","x","x","x","x","x",null,null,5,4,3,0,0,0,0,0,0,0,0,0,0,0,null,0,0,4,3,0,5,0,0,0,0,0,0,0,0,null,11,12,null,null,null,null,15,null,null,null,24,0,0,16,3,0,5,0,0,0,0,0,0,0,null,0,24]
[16,"Anders Bergqvist","Tingsryds HSC",11,"x","x","x","x","x",3,8,"x","x","x","x","x","x","x",null,null,8,3,0,0,0,0,0,0,0,0,0,0,0,0,null,0,0,0,0,0,3,8,0,0,0,0,0,0,0,null,12,11,null,null,null,null,16,null,null,null,23,0,0,4,3,0,8,8,0,0,0,0,0,0,null,0,23]
[17,"Erik Smiding","Vaxholm Hsk",11,"x","x",6,3,2,"x","x","x","x","x","x","x","x","x",null,null,6,3,2,0,0,0,0,0,0,0,0,0,0,0,null,0,0,6,3,2,0,0,0,0,0,0,0,0,0,null,11,11,null,null,null,null,17,null,null,null,22,0,0,6,3,2,3,8,0,0,0,0,0,0,null,1,23]
[18,"Laila Johansson","Tingsryds HSC",11,"x","x",2,4,"x","x","x","x",5,"x","x","x","x","x",null,null,5,4,2,0,0,0,0,0,0,0,0,0,0,0,null,0,0,2,4,0,0,0,0,5,0,0,0,0,0,null,11,11,null,null,null,null,18,null,null,null,22,0,0,8,7,2,0,0,0,5,0,0,0,0,null,1,23]
[19,"Solveig Axelsson","Växjö Hsk",10,"x","x",2,0,"x",0,3,5,"x","x","x","x","x","x",null,null,5,3,2,0,0,0,0,0,0,0,0,0,0,0,null,0,0,2,0,0,0,3,5,0,0,0,0,0,0,null,9,10,null,null,null,null,19,null,null,null,21,0,0,4,4,0,0,3,5,5,0,0,0,0,null,0,21]
[20,"Astrid Martinez","Jämjö Hsk",9,"x","x",3,4,"x",1,"x",1,0,"x","x","x","x","x",null,null,4,3,1,1,0,0,0,0,0,0,0,0,0,0,null,0,0,3,4,0,1,0,1,0,0,0,0,0,0,null,9,9,null,null,null,null,20,null,null,null,19,0,0,5,4,0,1,3,6,0,0,0,0,0,null,0,19]
[21,"Victor Bengtsson","Vaxholm HSK",8,"x","x","x","x",8,"x","x","x","x","x","x","x","x","x",null,null,8,0,0,0,0,0,0,0,0,0,0,0,0,0,null,0,0,0,0,8,0,0,0,0,0,0,0,0,0,null,13,-1,null,null,null,null,21,null,null,null,17,0,0,3,4,8,1,0,1,0,0,0,0,0,null,0,17]
[22,"Mikael Grönskog","Sibbamåla IF",8,"x","x","x","x","x","x","x","x",8,"x","x","x","x","x",null,null,8,0,0,0,0,0,0,0,0,0,0,0,0,0,null,0,0,0,0,0,0,0,0,8,0,0,0,0,0,null,13,-1,null,null,null,null,22,null,null,null,16,0,0,0,0,8,0,0,0,8,0,0,0,0,null,0,16]
[23,"Anders Karlsson","Värends HSK",8,"x","x","x",0,"x",0,5,"x",3,"x","x","x","x","x",null,null,5,3,0,0,0,0,0,0,0,0,0,0,0,0,null,0,0,0,0,0,0,5,0,3,0,0,0,0,0,null,10,8,null,null,null,null,23,null,null,null,16,0,0,0,0,0,0,5,0,11,0,0,0,0,null,0,16]
[24,"Joakim Strand","Korpen Åseda",7,"x","x","x","x","x","x",7,"x","x","x","x","x","x","x",null,null,7,0,0,0,0,0,0,0,0,0,0,0,0,0,null,0,0,0,0,0,0,7,0,0,0,0,0,0,0,null,13,-1,null,null,null,null,24,null,null,null,15,0,0,0,0,0,0,12,0,3,0,0,0,0,null,0,15]
[25,"Sandra Rydell","Värends HSK",7,"x","x","x","x","x","x","x","x",7,"x","x","x","x","x",null,null,7,0,0,0,0,0,0,0,0,0,0,0,0,0,null,0,0,0,0,0,0,0,0,7,0,0,0,0,0,null,13,-1,null,null,null,null,25,null,null,null,14,0,0,0,0,0,0,7,0,7,0,0,0,0,null,0,14]
[26,"Jonas Klarström","Team Småland",7,"x","x",0,0,0,5,1,1,0,"x","x","x","x","x",null,null,5,1,1,0,0,0,0,0,0,0,0,0,0,0,null,0,0,0,0,0,5,1,1,0,0,0,0,0,0,null,7,7,null,null,null,null,26,null,null,null,14,0,0,0,0,0,5,1,1,7,0,0,0,0,null,0,14]
[27,"Tomas Lindedal","Växjö Hsk",6.5,"x","x","x","x","x",0,2,3.5,1,"x","x","x","x","x",null,null,3.5,2,1,0,0,0,0,0,0,0,0,0,0,0,null,0,0,0,0,0,0,2,3.5,1,0,0,0,0,0,null,10,6.5,null,null,null,null,27,null,null,null,13.5,0,0,0,0,0,5,3,4.5,1,0,0,0,0,null,0,13.5]
[28,"Emil Rehn","Korpen Åseda",6,"x","x","x",6,"x","x","x","x","x","x","x","x","x","x",null,null,6,0,0,0,0,0,0,0,0,0,0,0,0,0,null,0,0,0,6,0,0,0,0,0,0,0,0,0,0,null,13,-1,null,null,null,null,28,null,null,null,12.5,0,0,0,6,0,0,2,3.5,1,0,0,0,0,null,1,13.5]
[29,"Billy Klarström","Team Småland",6,"x","x","x","x","x","x",4,2,"x","x","x","x","x","x",null,null,4,2,0,0,0,0,0,0,0,0,0,0,0,0,null,0,0,0,0,0,0,4,2,0,0,0,0,0,0,null,12,6,null,null,null,null,29,null,null,null,12,0,0,0,6,0,0,4,2,0,0,0,0,0,null,1,13]
[30,"Ulrika Rydell","Värends HSK",5.5,"x","x","x","x","x","x","x",3.5,2,"x","x","x","x","x",null,null,3.5,2,0,0,0,0,0,0,0,0,0,0,0,0,null,0,0,0,0,0,0,0,3.5,2,0,0,0,0,0,null,12,5.5,null,null,null,null,30,null,null,null,11.5,0,0,0,0,0,0,4,5.5,2,0,0,0,0,null,1,12.5]
[31,"Morgan Atle","Dynapac",5.5,"x","x","x","x","x",3.5,"x","x",2,"x","x","x","x","x",null,null,3.5,2,0,0,0,0,0,0,0,0,0,0,0,0,null,0,0,0,0,0,3.5,0,0,2,0,0,0,0,0,null,12,5.5,null,null,null,null,31,null,null,null,11,0,0,0,0,0,3.5,0,3.5,4,0,0,0,0,null,0,11]
[32,"Tomas Röhl","Stadslaget",5,"x","x","x","x",5,"x","x","x","x","x","x","x","x","x",null,null,5,0,0,0,0,0,0,0,0,0,0,0,0,0,null,0,0,0,0,5,0,0,0,0,0,0,0,0,0,null,13,-1,null,null,null,null,32,null,null,null,10.5,0,0,0,0,5,3.5,0,0,2,0,0,0,0,null,1,11.5]
[32,"Andreas Gundersen","Vaxholm HSK",{"$f":"SUM(E37:R37)","v":5},"x","x","x","x",5,"x","x","x","x","x","x","x","x","x",null,null,{"$f":"LARGE(AJ37:AW37,1)","v":5},{"$f":"LARGE(AJ37:AW37,2)","v":0},{"$f":"LARGE(AJ37:AW37,3)","v":0},{"$f":"LARGE(AJ37:AW37,4)","v":0},{"$f":"LARGE(AJ37:AW37,5)","v":0},{"$f":"LARGE(AJ37:AW37,6)","v":0},{"$f":"LARGE(AJ37:AW37,7)","v":0},{"$f":"LARGE(AJ37:AW37,8)","v":0},{"$f":"LARGE(AJ37:AW37,9)","v":0},{"$f":"LARGE(AJ37:AW37,10)","v":0},{"$f":"LARGE(AJ37:AW37,11)","v":0},{"$f":"LARGE(AJ37:AW37,12)","v":0},{"$f":"LARGE(AJ37:AW37,13)","v":0},{"$f":"LARGE(AJ37:AW37,14)","v":0},null,{"$f":"IF(E37=\"x\",0,E37)","v":0},{"$f":"IF(F37=\"x\",0,F37)","v":0},{"$f":"IF(G37=\"x\",0,G37)","v":0},{"$f":"IF(H37=\"x\",0,H37)","v":0},{"$f":"IF(I37=\"x\",0,I37)","v":5},{"$f":"IF(J37=\"x\",0,J37)","v":0},{"$f":"IF(K37=\"x\",0,K37)","v":0},{"$f":"IF(L37=\"x\",0,L37)","v":0},{"$f":"IF(M37=\"x\",0,M37)","v":0},{"$f":"IF(N37=\"x\",0,N37)","v":0},{"$f":"IF(O37=\"x\",0,O37)","v":0},{"$f":"IF(P37=\"x\",0,P37)","v":0},{"$f":"IF(Q37=\"x\",0,Q37)","v":0},{"$f":"IF(R37=\"x\",0,R37)","v":0},null,{"$f":"COUNTIF(E37:R37,\"x\")","v":13},{"$f":"IF(AY37=13,-1,SUM(E37:R37))","v":-1},null,null,null,null,33,null,null,null,10,0,0,0,0,10,0,0,0,0,0,0,0,0,null,{"$f":"COUNTIF(BI37:BV37,2)","v":0},{"$f":"SUM(BI37+BX37+BZ37)","v":10}]
[34,"Lisbeth Blidh","Lanternan",5,"x","x","x","x","x",1,"x","x",4,"x","x","x","x","x",null,null,4,1,0,0,0,0,0,0,0,0,0,0,0,0,null,0,0,0,0,0,1,0,0,4,0,0,0,0,0,null,12,5,null,null,null,null,34,null,null,null,{"$f":"SUM(D37:D38)","v":10},{"$f":"SUM(E37:E38)","v":0},{"$f":"SUM(F37:F38)","v":0},{"$f":"SUM(G37:G38)","v":0},{"$f":"SUM(H37:H38)","v":0},{"$f":"SUM(I37:I38)","v":5},{"$f":"SUM(J37:J38)","v":1},{"$f":"SUM(K37:K38)","v":0},{"$f":"SUM(L37:L38)","v":0},{"$f":"SUM(M37:M38)","v":4},{"$f":"SUM(O37:O38)","v":0},{"$f":"SUM(P37:P38)","v":0},{"$f":"SUM(Q37:Q38)","v":0},{"$f":"SUM(R37:R38)","v":0},null,0,10]
[35,"Ingegärd Holmqvist","Lanternan",5,"x","x",2,3,"x","x","x","x","x","x","x","x","x","x",null,null,3,2,0,0,0,0,0,0,0,0,0,0,0,0,null,0,0,2,3,0,0,0,0,0,0,0,0,0,0,null,12,5,null,null,null,null,35,null,null,null,10,0,0,2,3,0,1,0,0,4,0,0,0,0,null,1,11]
[36,"Gunnar Lundbeck","Tingsryds HSC",4.5,"x","x","x","x","x",0,3,1.5,"x","x","x","x","x","x",null,null,3,1.5,0,0,0,0,0,0,0,0,0,0,0,0,null,0,0,0,0,0,0,3,1.5,0,0,0,0,0,0,null,11,4.5,null,null,null,null,36,null,null,null,9.5,0,0,2,3,0,0,3,1.5,0,0,0,0,0,null,1,10.5]
[37,"Karin Gullbrand","Värends HSK",4.5,"x","x",0,0,2.5,"x",2,0,"x","x","x","x","x","x",null,null,2.5,2,0,0,0,0,0,0,0,0,0,0,0,0,null,0,0,0,0,2.5,0,2,0,0,0,0,0,0,0,null,9,4.5,null,null,null,null,37,null,null,null,9,0,0,0,0,2.5,0,5,1.5,0,0,0,0,0,null,0,9]
[38,"Per-Olof Johansson","Dynapac",4.5,"x","x","x","x","x",2.5,"x","x",2,"x","x","x","x","x",null,null,2.5,2,0,0,0,0,0,0,0,0,0,0,0,0,null,0,0,0,0,0,2.5,0,0,2,0,0,0,0,0,null,12,4.5,null,null,null,null,38,null,null,null,9,0,0,0,0,2.5,2.5,2,0,2,0,0,0,0,null,2,11]
[39,"Mats Svensson","Stadslaget",4,"x","x","x","x",4,"x","x","x","x","x","x","x","x","x",null,null,4,0,0,0,0,0,0,0,0,0,0,0,0,0,null,0,0,0,0,4,0,0,0,0,0,0,0,0,0,null,13,-1,null,null,null,null,39,null,null,null,8.5,0,0,0,0,4,2.5,0,0,2,0,0,0,0,null,1,9.5]
[39,"Mikael Klaving","Vaxholm HSK",4,"x","x","x","x",4,"x","x","x","x","x","x","x","x","x",null,null,4,0,0,0,0,0,0,0,0,0,0,0,0,0,null,0,0,0,0,4,0,0,0,0,0,0,0,0,0,null,13,-1,null,null,null,null,40,null,null,null,8,0,0,0,0,8,0,0,0,0,0,0,0,0,null,0,8]
[41,"Erik Isaksson","Korpen Åseda",4,"x","x","x",4,"x","x","x","x","x","x","x","x","x","x",null,null,4,0,0,0,0,0,0,0,0,0,0,0,0,0,null,0,0,0,4,0,0,0,0,0,0,0,0,0,0,null,13,-1,null,null,null,null,41,null,null,null,8,0,0,0,4,4,0,0,0,0,0,0,0,0,null,0,8]
[42,"Björn Hansson","Vaxholm HSK",3.5,"x","x","x","x",3.5,"x","x","x","x","x","x","x","x","x",null,null,3.5,0,0,0,0,0,0,0,0,0,0,0,0,0,null,0,0,0,0,3.5,0,0,0,0,0,0,0,0,0,null,13,-1,null,null,null,null,42,null,null,null,7.5,0,0,0,4,3.5,0,0,0,0,0,0,0,0,null,0,7.5]
[43,"Henrik Fresk","Balders HSK",3,"x","x","x","x",3,"x","x","x","x","x","x","x","x","x",null,null,3,0,0,0,0,0,0,0,0,0,0,0,0,0,null,0,0,0,0,3,0,0,0,0,0,0,0,0,0,null,13,-1,null,null,null,null,43,null,null,null,6.5,0,0,0,0,6.5,0,0,0,0,0,0,0,0,null,0,6.5]
[44,"Susanne Simonsson","Lanternan",3,"x","x",3,"x","x","x","x","x","x","x","x","x","x","x",null,null,3,0,0,0,0,0,0,0,0,0,0,0,0,0,null,0,0,3,0,0,0,0,0,0,0,0,0,0,0,null,13,-1,null,null,null,null,44,null,null,null,6,0,0,3,0,3,0,0,0,0,0,0,0,0,null,0,6]
[45,"Kjell Rydh","Korpen Nybro",3,"x","x","x","x","x","x","x",3,"x","x","x","x","x","x",null,null,3,0,0,0,0,0,0,0,0,0,0,0,0,0,null,0,0,0,0,0,0,0,3,0,0,0,0,0,0,null,13,-1,null,null,null,null,45,null,null,null,6,0,0,3,0,0,0,0,3,0,0,0,0,0,null,0,6]
[46,"Malira Eriksson","Balders HSK",3,"x","x","x","x","x","x","x","x",3,"x","x","x","x","x",null,null,3,0,0,0,0,0,0,0,0,0,0,0,0,0,null,0,0,0,0,0,0,0,0,3,0,0,0,0,0,null,13,-1,null,null,null,null,46,null,null,null,6,0,0,0,0,0,0,0,3,3,0,0,0,0,null,0,6]
[47,"Thomas Marklund","Värends HSK",3,"x","x","x",2,"x","x",0,1,0,"x","x","x","x","x",null,null,2,1,0,0,0,0,0,0,0,0,0,0,0,0,null,0,0,0,2,0,0,0,1,0,0,0,0,0,0,null,10,3,null,null,null,null,47,null,null,null,6,0,0,0,2,0,0,0,1,3,0,0,0,0,null,1,7]
[48,"Keyri Hernandez","Jämjö Hsk",3,"x","x","x","x","x",2,"x","x",1,"x","x","x","x","x",null,null,2,1,0,0,0,0,0,0,0,0,0,0,0,0,null,0,0,0,0,0,2,0,0,1,0,0,0,0,0,null,12,3,null,null,null,null,48,null,null,null,6,0,0,0,2,0,2,0,1,1,0,0,0,0,null,2,8]
[49,"Sonlard Berglund","PBHSPC",2,"x","x","x","x",2,"x","x","x","x","x","x","x","x","x",null,null,2,0,0,0,0,0,0,0,0,0,0,0,0,0,null,0,0,0,0,2,0,0,0,0,0,0,0,0,0,null,13,-1,null,null,null,null,49,null,null,null,5,0,0,0,0,2,2,0,0,1,0,0,0,0,null,2,7]
[50,"Tommy Svensson","Värends HSK",2,"x","x","x",2,"x","x","x","x","x","x","x","x","x","x",null,null,2,0,0,0,0,0,0,0,0,0,0,0,0,0,null,0,0,0,2,0,0,0,0,0,0,0,0,0,0,null,13,-1,null,null,null,null,50,null,null,null,4,0,0,0,2,2,0,0,0,0,0,0,0,0,null,2,6]
[51,"Jonas Bergqvist","Balders Hsk",2,"x","x",0,2,0,"x","x","x",0,"x","x","x","x","x",null,null,2,0,0,0,0,0,0,0,0,0,0,0,0,0,null,0,0,0,2,0,0,0,0,0,0,0,0,0,0,null,10,2,null,null,null,null,51,null,null,null,4,0,0,0,4,0,0,0,0,0,0,0,0,0,null,0,4]
[52,"Martin Smeds","Balders Hsk",2,"x","x",2,0,0,"x","x","x","x","x","x","x","x","x",null,null,2,0,0,0,0,0,0,0,0,0,0,0,0,0,null,0,0,2,0,0,0,0,0,0,0,0,0,0,0,null,11,2,null,null,null,null,52,null,null,null,4,0,0,2,2,0,0,0,0,0,0,0,0,0,null,2,6]
[53,"Hannah Karlberg","Jämjö Hsk",2,"x","x",0,0,"x",2,"x","x","x","x","x","x","x","x",null,null,2,0,0,0,0,0,0,0,0,0,0,0,0,0,null,0,0,0,0,0,2,0,0,0,0,0,0,0,0,null,11,2,null,null,null,null,53,null,null,null,4,0,0,2,0,0,2,0,0,0,0,0,0,0,null,2,6]
[54,"Johnny Åberg","Balders HSK",1.5,"x","x","x","x",1.5,"x","x","x","x","x","x","x","x","x",null,null,1.5,0,0,0,0,0,0,0,0,0,0,0,0,0,null,0,0,0,0,1.5,0,0,0,0,0,0,0,0,0,null,13,-1,null,null,null,null,54,null,null,null,3.5,0,0,0,0,1.5,2,0,0,0,0,0,0,0,null,1,4.5]
[54,"Heidi Bühlmann","Vaxholm",1.5,"x","x","x","x",1.5,"x","x","x","x","x","x","x","x","x",null,null,1.5,0,0,0,0,0,0,0,0,0,0,0,0,0,null,0,0,0,0,1.5,0,0,0,0,0,0,0,0,0,null,13,-1,null,null,null,null,55,null,null,null,3,0,0,0,0,3,0,0,0,0,0,0,0,0,null,0,3]
[56,"Lotta Sundin","Vaxholm",1,"x","x","x","x",1,"x","x","x","x","x","x","x","x","x",null,null,1,0,0,0,0,0,0,0,0,0,0,0,0,0,null,0,0,0,0,1,0,0,0,0,0,0,0,0,0,null,13,-1,null,null,null,null,56,null,null,null,2.5,0,0,0,0,2.5,0,0,0,0,0,0,0,0,null,0,2.5]
[56,"Peter Skörd","Täby",1,"x","x","x","x",1,"x","x","x","x","x","x","x","x","x",null,null,1,0,0,0,0,0,0,0,0,0,0,0,0,0,null,0,0,0,0,1,0,0,0,0,0,0,0,0,0,null,13,-1,null,null,null,null,57,null,null,null,2,0,0,0,0,2,0,0,0,0,0,0,0,0,null,2,4]
[56,"Göran Örjebo","Vaxholm",1,"x","x","x","x",1,"x","x","x","x","x","x","x","x","x",null,null,1,0,0,0,0,0,0,0,0,0,0,0,0,0,null,0,0,0,0,1,0,0,0,0,0,0,0,0,0,null,13,-1,null,null,null,null,58,null,null,null,2,0,0,0,0,2,0,0,0,0,0,0,0,0,null,2,4]
[59,"Arne Blidh","Lanternan",1,"x","x","x","x","x",1,"x","x",0,"x","x","x","x","x",null,null,1,0,0,0,0,0,0,0,0,0,0,0,0,0,null,0,0,0,0,0,1,0,0,0,0,0,0,0,0,null,12,1,null,null,null,null,59,null,null,null,2,0,0,0,0,1,1,0,0,0,0,0,0,0,null,1,3]
[59,"Irene Petersson","Lanternan",1,"x","x","x","x","x",1,"x","x",0,"x","x","x","x","x",null,null,1,0,0,0,0,0,0,0,0,0,0,0,0,0,null,0,0,0,0,0,1,0,0,0,0,0,0,0,0,null,12,1,null,null,null,null,60,null,null,null,2,0,0,0,0,0,2,0,0,0,0,0,0,0,null,2,4]
[61,"Roger Eriksson","Balders HSK",1,"x","x","x","x","x","x","x","x",1,"x","x","x","x","x",null,null,1,0,0,0,0,0,0,0,0,0,0,0,0,0,null,0,0,0,0,0,0,0,0,1,0,0,0,0,0,null,13,-1,null,null,null,null,61,null,null,null,2,0,0,0,0,0,1,0,0,1,0,0,0,0,null,1,3]
[62,"Scott Brown","Sollentuna",0,"x","x","x","x",0,"x","x","x","x","x","x","x","x","x",null,null,0,0,0,0,0,0,0,0,0,0,0,0,0,0,null,0,0,0,0,0,0,0,0,0,0,0,0,0,0,null,13,-1,null,null,null,null,62,null,null,null,1,0,0,0,0,0,0,0,0,1,0,0,0,0,null,0,1]
[62,"Carl Sternås","PBHSPC",0,"x","x","x","x",0,"x","x","x","x","x","x","x","x","x",null,null,0,0,0,0,0,0,0,0,0,0,0,0,0,0,null,0,0,0,0,0,0,0,0,0,0,0,0,0,0,null,13,-1,null,null,null,null,63,null,null,null,0,0,0,0,0,0,0,0,0,0,0,0,0,0,null,0,0]
[62,"Niclas Nyberg","Stadslaget",0,"x","x","x","x",0,"x","x","x","x","x","x","x","x","x",null,null,0,0,0,0,0,0,0,0,0,0,0,0,0,0,null,0,0,0,0,0,0,0,0,0,0,0,0,0,0,null,13,-1,null,null,null,null,64,null,null,null,0,0,0,0,0,0,0,0,0,0,0,0,0,0,null,0,0]
[62,"Alexander Bergström","PBHSPC",{"$f":"SUM(E69:R69)","v":0},"x","x","x","x",0,"x","x","x","x","x","x","x","x","x",null,null,{"$f":"LARGE(AJ69:AW69,1)","v":0},{"$f":"LARGE(AJ69:AW69,2)","v":0},{"$f":"LARGE(AJ69:AW69,3)","v":0},{"$f":"LARGE(AJ69:AW69,4)","v":0},{"$f":"LARGE(AJ69:AW69,5)","v":0},{"$f":"LARGE(AJ69:AW69,6)","v":0},{"$f":"LARGE(AJ69:AW69,7)","v":0},{"$f":"LARGE(AJ69:AW69,8)","v":0},{"$f":"LARGE(AJ69:AW69,9)","v":0},{"$f":"LARGE(AJ69:AW69,10)","v":0},{"$f":"LARGE(AJ69:AW69,11)","v":0},{"$f":"LARGE(AJ69:AW69,12)","v":0},{"$f":"LARGE(AJ69:AW69,13)","v":0},{"$f":"LARGE(AJ69:AW69,14)","v":0},null,{"$f":"IF(E69=\"x\",0,E69)","v":0},{"$f":"IF(F69=\"x\",0,F69)","v":0},{"$f":"IF(G69=\"x\",0,G69)","v":0},{"$f":"IF(H69=\"x\",0,H69)","v":0},{"$f":"IF(I69=\"x\",0,I69)","v":0},{"$f":"IF(J69=\"x\",0,J69)","v":0},{"$f":"IF(K69=\"x\",0,K69)","v":0},{"$f":"IF(L69=\"x\",0,L69)","v":0},{"$f":"IF(M69=\"x\",0,M69)","v":0},{"$f":"IF(N69=\"x\",0,N69)","v":0},{"$f":"IF(O69=\"x\",0,O69)","v":0},{"$f":"IF(P69=\"x\",0,P69)","v":0},{"$f":"IF(Q69=\"x\",0,Q69)","v":0},{"$f":"IF(R69=\"x\",0,R69)","v":0},null,{"$f":"COUNTIF(E69:R69,\"x\")","v":13},{"$f":"IF(AY69=13,-1,SUM(E69:R69))","v":-1},null,null,null,null,65,null,null,null,0,0,0,0,0,0,0,0,0,0,0,0,0,0,null,{"$f":"COUNTIF(BI69:BV69,2)","v":0},{"$f":"SUM(BI69+BX69+BZ69)","v":0}]
[62,"Åse Larsson","Stadslaget",0,"x","x","x","x",0,"x","x","x","x","x","x","x","x","x",null,null,0,0,0,0,0,0,0,0,0,0,0,0,0,0,null,0,0,0,0,0,0,0,0,0,0,0,0,0,0,null,13,-1,null,null,null,null,66,null,null,null,{"$f":"SUM(D69:D70)","v":0},{"$f":"SUM(E69:E70)","v":0},{"$f":"SUM(F69:F70)","v":0},{"$f":"SUM(G69:G70)","v":0},{"$f":"SUM(H69:H70)","v":0},{"$f":"SUM(I69:I70)","v":0},{"$f":"SUM(J69:J70)","v":0},{"$f":"SUM(K69:K70)","v":0},{"$f":"SUM(L69:L70)","v":0},{"$f":"SUM(M69:M70)","v":0},{"$f":"SUM(O69:O70)","v":0},{"$f":"SUM(P69:P70)","v":0},{"$f":"SUM(Q69:Q70)","v":0},{"$f":"SUM(R69:R70)","v":0},null,0,0]
[62,"Pia Brovold","Vaxholm",0,"x","x","x","x",0,"x","x","x","x","x","x","x","x","x",null,null,0,0,0,0,0,0,0,0,0,0,0,0,0,0,null,0,0,0,0,0,0,0,0,0,0,0,0,0,0,null,13,-1,null,null,null,null,67,null,null,null,0,0,0,0,0,0,0,0,0,0,0,0,0,0,null,0,0]
[62,"Charlotte Jacobsson","Vaxholm",0,"x","x","x","x",0,"x","x","x","x","x","x","x","x","x",null,null,0,0,0,0,0,0,0,0,0,0,0,0,0,0,null,0,0,0,0,0,0,0,0,0,0,0,0,0,0,null,13,-1,null,null,null,null,68,null,null,null,0,0,0,0,0,0,0,0,0,0,0,0,0,0,null,0,0]
[{"$f":"IF(AY73=14,\"\",IF(AND(E73=E72,F73=F72,G73=G72,H73=H72,I73=I72,J73=J72,K73=K72,L73=L72,M73=M72,O73=O72,P73=P72,Q73=Q72,R73=R72),A72,IF(D72=0,A72,BE73)))","v":62},"Pontus Strandell","PBHSPC",0,"x","x","x","x",0,"x","x","x","x","x","x","x","x","x",null,null,0,0,0,0,0,0,0,0,0,0,0,0,0,0,null,0,0,0,0,0,0,0,0,0,0,0,0,0,0,null,13,-1,null,null,null,null,69,null,null,null,0,0,0,0,0,0,0,0,0,0,0,0,0,0,null,0,0]
[62,"Birgit Brown","Sollentuna",0,"x","x","x","x",0,"x","x","x","x","x","x","x","x","x",null,null,0,0,0,0,0,0,0,0,0,0,0,0,0,0,null,0,0,0,0,0,0,0,0,0,0,0,0,0,0,null,13,-1,null,null,null,null,70,null,null,null,0,0,0,0,0,0,0,0,0,0,0,0,0,0,null,0,0]
[62,"Pontus Karlsson","PBHSPC",0,"x","x","x","x",0,"x","x","x","x","x","x","x","x","x",null,null,0,0,0,0,0,0,0,0,0,0,0,0,0,0,null,0,0,0,0,0,0,0,0,0,0,0,0,0,0,null,13,-1,null,null,null,null,71,null,null,null,0,0,0,0,0,0,0,0,0,0,0,0,0,0,null,0,0]
[62,"Saga Karlberg","Jämjö Hsk",0,"x","x",0,"x","x","x","x","x","x","x","x","x","x","x",null,null,0,0,0,0,0,0,0,0,0,0,0,0,0,0,null,0,0,0,0,0,0,0,0,0,0,0,0,0,0,null,13,-1,null,null,null,null,72,null,null,null,0,0,0,0,0,0,0,0,0,0,0,0,0,0,null,0,0]
[62,"Anders Möller","Balders Hsk",0,"x","x",0,"x","x","x","x","x","x","x","x","x","x","x",null,null,0,0,0,0,0,0,0,0,0,0,0,0,0,0,null,0,0,0,0,0,0,0,0,0,0,0,0,0,0,null,13,-1,null,null,null,null,73,null,null,null,0,0,0,0,0,0,0,0,0,0,0,0,0,0,null,0,0]
[62,"Kjell Åkesson","Lanternan",0,"x","x","x","x","x",0,"x","x",0,"x","x","x","x","x",null,null,0,0,0,0,0,0,0,0,0,0,0,0,0,0,null,0,0,0,0,0,0,0,0,0,0,0,0,0,0,null,12,0,null,null,null,null,74,null,null,null,0,0,0,0,0,0,0,0,0,0,0,0,0,0,null,0,0]
[62,"Kent Svensson","Lanternan",0,"x","x","x","x","x",0,"x","x","x","x","x","x","x","x",null,null,0,0,0,0,0,0,0,0,0,0,0,0,0,0,null,0,0,0,0,0,0,0,0,0,0,0,0,0,0,null,13,-1,null,null,null,null,75,null,null,null,0,0,0,0,0,0,0,0,0,0,0,0,0,0,null,0,0]
[62,"Linnea Gneupel","Sibbamåla IF",0,"x","x","x","x","x",0,"x",0,"x","x","x","x","x","x",null,null,0,0,0,0,0,0,0,0,0,0,0,0,0,0,null,0,0,0,0,0,0,0,0,0,0,0,0,0,0,null,12,0,null,null,null,null,76,null,null,null,0,0,0,0,0,0,0,0,0,0,0,0,0,0,null,0,0]
[62,"Salli Fransson","Dynapac",0,"x","x","x","x","x",0,"x","x","x","x","x","x","x","x",null,null,0,0,0,0,0,0,0,0,0,0,0,0,0,0,null,0,0,0,0,0,0,0,0,0,0,0,0,0,0,null,13,-1,null,null,null,null,77,null,null,null,0,0,0,0,0,0,0,0,0,0,0,0,0,0,null,0,0]
[62,"Eva Åkesson","Lanternan",0,"x","x","x","x","x",0,"x","x",0,"x","x","x","x","x",null,null,0,0,0,0,0,0,0,0,0,0,0,0,0,0,null,0,0,0,0,0,0,0,0,0,0,0,0,0,0,null,12,0,null,null,null,null,78,null,null,null,0,0,0,0,0,0,0,0,0,0,0,0,0,0,null,0,0]
[62,"Karl-Axel Roos",null,0,"x","x","x","x","x",0,"x","x","x","x","x","x","x","x",null,null,0,0,0,0,0,0,0,0,0,0,0,0,0,0,null,0,0,0,0,0,0,0,0,0,0,0,0,0,0,null,13,-1,null,null,null,null,79,null,null,null,0,0,0,0,0,0,0,0,0,0,0,0,0,0,null,0,0]
[62,"Mikael Sellén","Team Småland",0,"x","x","x","x","x","x",0,0,"x","x","x","x","x","x",null,null,0,0,0,0,0,0,0,0,0,0,0,0,0,0,null,0,0,0,0,0,0,0,0,0,0,0,0,0,0,null,12,0,null,null,null,null,80,null,null,null,0,0,0,0,0,0,0,0,0,0,0,0,0,0,null,0,0]
[62,"Tony Borgström","Carlskrona Hsc",0,"x","x","x","x","x","x","x","x",0,"x","x","x","x","x",null,null,0,0,0,0,0,0,0,0,0,0,0,0,0,0,null,0,0,0,0,0,0,0,0,0,0,0,0,0,0,null,13,-1,null,null,null,null,81,null,null,null,0,0,0,0,0,0,0,0,0,0,0,0,0,0,null,0,0]
[62,"Roland Sjöstrand","Tingsryds HSC",0,"x","x","x","x","x","x","x","x",0,"x","x","x","x","x",null,null,0,0,0,0,0,0,0,0,0,0,0,0,0,0,null,0,0,0,0,0,0,0,0,0,0,0,0,0,0,null,13,-1,null,null,null,null,82,null,null,null,0,0,0,0,0,0,0,0,0,0,0,0,0,0,null,0,0]
[62,"Mona Andersson","Carlskrona Hsc",0,"x","x","x","x","x","x","x","x",0,"x","x","x","x","x",null,null,0,0,0,0,0,0,0,0,0,0,0,0,0,0,null,0,0,0,0,0,0,0,0,0,0,0,0,0,0,null,13,-1,null,null,null,null,83,null,null,null,0,0,0,0,0,0,0,0,0,0,0,0,0,0,null,0,0]
["",null,null,0,"x","x","x","x","x","x","x","x","x","x","x","x","x","x",null,null,0,0,0,0,0,0,0,0,0,0,0,0,0,0,null,0,0,0,0,0,0,0,0,0,0,0,0,0,0,null,14,0,null,null,null,null,84,null,null,null,0,0,0,0,0,0,0,0,0,0,0,0,0,0,null,0,0]
["",null,null,0,"x","x","x","x","x","x","x","x","x","x","x","x","x","x",null,null,0,0,0,0,0,0,0,0,0,0,0,0,0,0,null,0,0,0,0,0,0,0,0,0,0,0,0,0,0,null,14,0,null,null,null,null,85,null,null,null,0,0,0,0,0,0,0,0,0,0,0,0,0,0,null,0,0]
["",null,null,0,"x","x","x","x","x","x","x","x","x","x","x","x","x","x",null,null,0,0,0,0,0,0,0,0,0,0,0,0,0,0,null,0,0,0,0,0,0,0,0,0,0,0,0,0,0,null,14,0,null,null,null,null,86,null,null,null,0,0,0,0,0,0,0,0,0,0,0,0,0,0,null,0,0]
["",null,null,0,"x","x","x","x","x","x","x","x","x","x","x","x","x","x",null,null,0,0,0,0,0,0,0,0,0,0,0,0,0,0,null,0,0,0,0,0,0,0,0,0,0,0,0,0,0,null,14,0,null,null,null,null,87,null,null,null,0,0,0,0,0,0,0,0,0,0,0,0,0,0,null,0,0]
["",null,null,0,"x","x","x","x","x","x","x","x","x","x","x","x","x","x",null,null,0,0,0,0,0,0,0,0,0,0,0,0,0,0,null,0,0,0,0,0,0,0,0,0,0,0,0,0,0,null,14,0,null,null,null,null,88,null,null,null,0,0,0,0,0,0,0,0,0,0,0,0,0,0,null,0,0]
["",null,null,0,"x","x","x","x","x","x","x","x","x","x","x","x","x","x",null,null,0,0,0,0,0,0,0,0,0,0,0,0,0,0,null,0,0,0,0,0,0,0,0,0,0,0,0,0,0,null,14,0,null,null,null,null,89,null,null,null,0,0,0,0,0,0,0,0,0,0,0,0,0,0,null,0,0]
["",null,null,0,"x","x","x","x","x","x","x","x","x","x","x","x","x","x",null,null,0,0,0,0,0,0,0,0,0,0,0,0,0,0,null,0,0,0,0,0,0,0,0,0,0,0,0,0,0,null,14,0,null,null,null,null,90,null,null,null,0,0,0,0,0,0,0,0,0,0,0,0,0,0,null,0,0]
["",null,null,0,"x","x","x","x","x","x","x","x","x","x","x","x","x","x",null,null,0,0,0,0,0,0,0,0,0,0,0,0,0,0,null,0,0,0,0,0,0,0,0,0,0,0,0,0,0,null,14,0,null,null,null,null,91,null,null,null,0,0,0,0,0,0,0,0,0,0,0,0,0,0,null,0,0]
["",null,null,0,"x","x","x","x","x","x","x","x","x","x","x","x","x","x",null,null,0,0,0,0,0,0,0,0,0,0,0,0,0,0,null,0,0,0,0,0,0,0,0,0,0,0,0,0,0,null,14,0,null,null,null,null,92,null,null,null,0,0,0,0,0,0,0,0,0,0,0,0,0,0,null,0,0]
["",null,null,0,"x","x","x","x","x","x","x","x","x","x","x","x","x","x",null,null,0,0,0,0,0,0,0,0,0,0,0,0,0,0,null,0,0,0,0,0,0,0,0,0,0,0,0,0,0,null,14,0,null,null,null,null,93,null,null,null,0,0,0,0,0,0,0,0,0,0,0,0,0,0,null,0,0]
["",null,null,0,"x","x","x","x","x","x","x","x","x","x","x","x","x","x",null,null,0,0,0,0,0,0,0,0,0,0,0,0,0,0,null,0,0,0,0,0,0,0,0,0,0,0,0,0,0,null,14,0,null,null,null,null,94,null,null,null,0,0,0,0,0,0,0,0,0,0,0,0,0,0,null,0,0]
["",null,null,0,"x","x","x","x","x","x","x","x","x","x","x","x","x","x",null,null,0,0,0,0,0,0,0,0,0,0,0,0,0,0,null,0,0,0,0,0,0,0,0,0,0,0,0,0,0,null,14,0,null,null,null,null,95,null,null,null,0,0,0,0,0,0,0,0,0,0,0,0,0,0,null,0,0]
["",null,null,0,"x","x","x","x","x","x","x","x","x","x","x","x","x","x",null,null,0,0,0,0,0,0,0,0,0,0,0,0,0,0,null,0,0,0,0,0,0,0,0,0,0,0,0,0,0,null,14,0,null,null,null,null,96,null,null,null,0,0,0,0,0,0,0,0,0,0,0,0,0,0,null,0,0]
["",null,null,{"$f":"SUM(E101:R101)","v":0},"x","x","x","x","x","x","x","x","x","x","x","x","x","x",null,null,{"$f":"LARGE(AJ101:AW101,1)","v":0},{"$f":"LARGE(AJ101:AW101,2)","v":0},{"$f":"LARGE(AJ101:AW101,3)","v":0},{"$f":"LARGE(AJ101:AW101,4)","v":0},{"$f":"LARGE(AJ101:AW101,5)","v":0},{"$f":"LARGE(AJ101:AW101,6)","v":0},{"$f":"LARGE(AJ101:AW101,7)","v":0},{"$f":"LARGE(AJ101:AW101,8)","v":0},{"$f":"LARGE(AJ101:AW101,9)","v":0},{"$f":"LARGE(AJ101:AW101,10)","v":0},{"$f":"LARGE(AJ101:AW101,11)","v":0},{"$f":"LARGE(AJ101:AW101,12)","v":0},{"$f":"LARGE(AJ101:AW101,13)","v":0},{"$f":"LARGE(AJ101:AW101,14)","v":0},null,{"$f":"IF(E101=\"x\",0,E101)","v":0},{"$f":"IF(F101=\"x\",0,F101)","v":0},{"$f":"IF(G101=\"x\",0,G101)","v":0},{"$f":"IF(H101=\"x\",0,H101)","v":0},{"$f":"IF(I101=\"x\",0,I101)","v":0},{"$f":"IF(J101=\"x\",0,J101)","v":0},{"$f":"IF(K101=\"x\",0,K101)","v":0},{"$f":"IF(L101=\"x\",0,L101)","v":0},{"$f":"IF(M101=\"x\",0,M101)","v":0},{"$f":"IF(N101=\"x\",0,N101)","v":0},{"$f":"IF(O101=\"x\",0,O101)","v":0},{"$f":"IF(P101=\"x\",0,P101)","v":0},{"$f":"IF(Q101=\"x\",0,Q101)","v":0},{"$f":"IF(R101=\"x\",0,R101)","v":0},null,{"$f":"COUNTIF(E101:R101,\"x\")","v":14},{"$f":"IF(AY101=13,-1,SUM(E101:R101))","v":0},null,null,null,null,97,null,null,null,0,0,0,0,0,0,0,0,0,0,0,0,0,0,null,{"$f":"COUNTIF(BI101:BV101,2)","v":0},{"$f":"SUM(BI101+BX101+BZ101)","v":0}]
["",null,null,0,"x","x","x","x","x","x","x","x","x","x","x","x","x","x",null,null,0,0,0,0,0,0,0,0,0,0,0,0,0,0,null,0,0,0,0,0,0,0,0,0,0,0,0,0,0,null,14,0,null,null,null,null,98,null,null,null,{"$f":"SUM(D101:D102)","v":0},{"$f":"SUM(E101:E102)","v":0},{"$f":"SUM(F101:F102)","v":0},{"$f":"SUM(G101:G102)","v":0},{"$f":"SUM(H101:H102)","v":0},{"$f":"SUM(I101:I102)","v":0},{"$f":"SUM(J101:J102)","v":0},{"$f":"SUM(K101:K102)","v":0},{"$f":"SUM(L101:L102)","v":0},{"$f":"SUM(M101:M102)","v":0},{"$f":"SUM(O101:O102)","v":0},{"$f":"SUM(P101:P102)","v":0},{"$f":"SUM(Q101:Q102)","v":0},{"$f":"SUM(R101:R102)","v":0},null,0,0]
["",null,null,0,"x","x","x","x","x","x","x","x","x","x","x","x","x","x",null,null,0,0,0,0,0,0,0,0,0,0,0,0,0,0,null,0,0,0,0,0,0,0,0,0,0,0,0,0,0,null,14,0,null,null,null,null,99,null,null,null,0,0,0,0,0,0,0,0,0,0,0,0,0,0,null,0,0]
["",null,null,0,"x","x","x","x","x","x","x","x","x","x","x","x","x","x",null,null,0,0,0,0,0,0,0,0,0,0,0,0,0,0,null,0,0,0,0,0,0,0,0,0,0,0,0,0,0,null,14,0,null,null,null,null,100,null,null,null,0,0,0,0,0,0,0,0,0,0,0,0,0,0,null,0,0]
["",null,null,0,"x","x","x","x","x","x","x","x","x","x","x","x","x","x",null,null,0,0,0,0,0,0,0,0,0,0,0,0,0,0,null,0,0,0,0,0,0,0,0,0,0,0,0,0,0,null,14,0,null,null,null,null,101,null,null,null,0,0,0,0,0,0,0,0,0,0,0,0,0,0,null,0,0]
["",null,null,0,"x","x","x","x","x","x","x","x","x","x","x","x","x","x",null,null,0,0,0,0,0,0,0,0,0,0,0,0,0,0,null,0,0,0,0,0,0,0,0,0,0,0,0,0,0,null,14,0,null,null,null,null,102,null,null,null,0,0,0,0,0,0,0,0,0,0,0,0,0,0,null,0,0]
["",null,null,0,"x","x","x","x","x","x","x","x","x","x","x","x","x","x",null,null,0,0,0,0,0,0,0,0,0,0,0,0,0,0,null,0,0,0,0,0,0,0,0,0,0,0,0,0,0,null,14,0,null,null,null,null,103,null,null,null,0,0,0,0,0,0,0,0,0,0,0,0,0,0,null,0,0]
["",null,null,0,"x","x","x","x","x","x","x","x","x","x","x","x","x","x",null,null,0,0,0,0,0,0,0,0,0,0,0,0,0,0,null,0,0,0,0,0,0,0,0,0,0,0,0,0,0,null,14,0,null,null,null,null,104,null,null,null,0,0,0,0,0,0,0,0,0,0,0,0,0,0,null,0,0]
["",null,null,0,"x","x","x","x","x","x","x","x","x","x","x","x","x","x",null,null,0,0,0,0,0,0,0,0,0,0,0,0,0,0,null,0,0,0,0,0,0,0,0,0,0,0,0,0,0,null,14,0,null,null,null,null,105,null,null,null,0,0,0,0,0,0,0,0,0,0,0,0,0,0,null,0,0]
["",null,null,0,"x","x","x","x","x","x","x","x","x","x","x","x","x","x",null,null,0,0,0,0,0,0,0,0,0,0,0,0,0,0,null,0,0,0,0,0,0,0,0,0,0,0,0,0,0,null,14,0,null,null,null,null,106,null,null,null,0,0,0,0,0,0,0,0,0,0,0,0,0,0,null,0,0]
["",null,null,0,"x","x","x","x","x","x","x","x","x","x","x","x","x","x",null,null,0,0,0,0,0,0,0,0,0,0,0,0,0,0,null,0,0,0,0,0,0,0,0,0,0,0,0,0,0,null,14,0,null,null,null,null,107,null,null,null,0,0,0,0,0,0,0,0,0,0,0,0,0,0,null,0,0]
["",null,null,0,"x","x","x","x","x","x","x","x","x","x","x","x","x","x",null,null,0,0,0,0,0,0,0,0,0,0,0,0,0,0,null,0,0,0,0,0,0,0,0,0,0,0,0,0,0,null,14,0,null,null,null,null,108,null,null,null,0,0,0,0,0,0,0,0,0,0,0,0,0,0,null,0,0]
["",null,null,0,"x","x","x","x","x","x","x","x","x","x","x","x","x","x",null,null,0,0,0,0,0,0,0,0,0,0,0,0,0,0,null,0,0,0,0,0,0,0,0,0,0,0,0,0,0,null,14,0,null,null,null,null,109,null,null,null,0,0,0,0,0,0,0,0,0,0,0,0,0,0,null,0,0]
["",null,null,0,"x","x","x","x","x","x","x","x","x","x","x","x","x","x",null,null,0,0,0,0,0,0,0,0,0,0,0,0,0,0,null,0,0,0,0,0,0,0,0,0,0,0,0,0,0,null,{"$f":"COUNTIF(E114:R114,\"x\")","v":14},{"$f":"IF(AY114=13,-1,SUM(E114:R114))","v":0},null,null,null,null,110,null,null,null,{"$f":"SUM(D113:D114)","v":0},{"$f":"SUM(E113:E114)","v":0},{"$f":"SUM(F113:F114)","v":0},{"$f":"SUM(G113:G114)","v":0},{"$f":"SUM(H113:H114)","v":0},{"$f":"SUM(I113:I114)","v":0},{"$f":"SUM(J113:J114)","v":0},{"$f":"SUM(K113:K114)","v":0},{"$f":"SUM(L113:L114)","v":0},{"$f":"SUM(M113:M114)","v":0},{"$f":"SUM(O113:O114)","v":0},{"$f":"SUM(P113:P114)","v":0},{"$f":"SUM(Q113:Q114)","v":0},{"$f":"SUM(R113:R114)","v":0},null,{"$f":"COUNTIF(BI114:BV114,2)","v":0},{"$f":"SUM(BI114+BX114+BZ114)","v":0}]
["",null,null,0,"x","x","x","x","x","x","x","x","x","x","x","x","x","x",null,null,0,0,0,0,0,0,0,0,0,0,0,0,0,0,null,0,0,0,0,0,0,0,0,0,0,0,0,0,0,null,14,0,null,null,null,null,111,null,null,null,0,0,0,0,0,0,0,0,0,0,0,0,0,0,null,0,0]
["",null,null,0,"x","x","x","x","x","x","x","x","x","x","x","x","x","x",null,null,0,0,0,0,0,0,0,0,0,0,0,0,0,0,null,0,0,0,0,0,0,0,0,0,0,0,0,0,0,null,14,0,null,null,null,null,112,null,null,null,0,0,0,0,0,0,0,0,0,0,0,0,0,0,null,0,0]
["",null,null,0,"x","x","x","x","x","x","x","x","x","x","x","x","x","x",null,null,0,0,0,0,0,0,0,0,0,0,0,0,0,0,null,0,0,0,0,0,0,0,0,0,0,0,0,0,0,null,14,0,null,null,null,null,113,null,null,null,0,0,0,0,0,0,0,0,0,0,0,0,0,0,null,0,0]
["",null,null,0,"x","x","x","x","x","x","x","x","x","x","x","x","x","x",null,null,0,0,0,0,0,0,0,0,0,0,0,0,0,0,null,0,0,0,0,0,0,0,0,0,0,0,0,0,0,null,14,0,null,null,null,null,114,null,null,null,0,0,0,0,0,0,0,0,0,0,0,0,0,0,null,0,0]
["",null,null,0,"x","x","x","x","x","x","x","x","x","x","x","x","x","x",null,null,0,0,0,0,0,0,0,0,0,0,0,0,0,0,null,0,0,0,0,0,0,0,0,0,0,0,0,0,0,null,14,0,null,null,null,null,115,null,null,null,0,0,0,0,0,0,0,0,0,0,0,0,0,0,null,0,0]
["",null,null,0,"x","x","x","x","x","x","x","x","x","x","x","x","x","x",null,null,0,0,0,0,0,0,0,0,0,0,0,0,0,0,null,0,0,0,0,0,0,0,0,0,0,0,0,0,0,null,14,0,null,null,null,null,116,null,null,null,0,0,0,0,0,0,0,0,0,0,0,0,0,0,null,0,0]
["",null,null,0,"x","x","x","x","x","x","x","x","x","x","x","x","x","x",null,null,0,0,0,0,0,0,0,0,0,0,0,0,0,0,null,0,0,0,0,0,0,0,0,0,0,0,0,0,0,null,14,0,null,null,null,null,117,null,null,null,0,0,0,0,0,0,0,0,0,0,0,0,0,0,null,0,0]
["",null,null,0,"x","x","x","x","x","x","x","x","x","x","x","x","x","x",null,null,0,0,0,0,0,0,0,0,0,0,0,0,0,0,null,0,0,0,0,0,0,0,0,0,0,0,0,0,0,null,{"$f":"COUNTIF(E122:R122,\"x\")","v":14},{"$f":"IF(AY122=13,-1,SUM(E122:R122))","v":0},null,null,null,null,118,null,null,null,{"$f":"SUM(D121:D122)","v":0},{"$f":"SUM(E121:E122)","v":0},{"$f":"SUM(F121:F122)","v":0},{"$f":"SUM(G121:G122)","v":0},{"$f":"SUM(H121:H122)","v":0},{"$f":"SUM(I121:I122)","v":0},{"$f":"SUM(J121:J122)","v":0},{"$f":"SUM(K121:K122)","v":0},{"$f":"SUM(L121:L122)","v":0},{"$f":"SUM(M121:M122)","v":0},{"$f":"SUM(O121:O122)","v":0},{"$f":"SUM(P121:P122)","v":0},{"$f":"SUM(Q121:Q122)","v":0},{"$f":"SUM(R121:R122)","v":0},null,{"$f":"COUNTIF(BI122:BV122,2)","v":0},{"$f":"SUM(BI122+BX122+BZ122)","v":0}]
[{"$f":"IF(AY123=T2,\"\",IF(AND(E123=E122,F123=F122,G123=G122,H123=H122,I123=I122,J123=J122,K123=K122,L123=L122,M123=M122,O123=O122,P123=P122,Q123=Q122,R123=R122),A122,IF(D122=0,A122,BE123)))","v":""},null,null,null,null,null,null,null,null,null,null,null,null,null,null,null,null,null,null,null,0,0,0,0,0,0,0,0,0,0,0,0,0,0,null,0,0,0,0,0,0,0,0,0,0,0,0,0,0,null,0,0,null,null,null,null,119,null,null,null,0,0,0,0,0,0,0,0,0,0,0,0,0,0,null,0,0]

{"sheet":"Klasspoäng","index":4,"n_rows":32,"n_cols":12,"rows_kept":32,"cut":false,"hidden":false,"merged":[]}
[null,"Svenska Hästskokastarförbundets poängfördelning"]
[null,"i Sweden Grand Prix"]
[]
[]
[]
[null,"Antal deltagare 1-12",null,null,null,"Antal deltagare 13-16",null,null,null,"Antal deltagare 17-24"]
[null,"    Nat. Tävling",null,"SM",null,"    Nat. Tävling",null,"SM",null,"    Nat. Tävling",null,"SM"]
[null,"Plac","poäng","poäng",null,"Plac","poäng","poäng",null,"Plac","poäng","poäng"]
[null,1,"9p","12p",null,1,"9p","12p",null,1,"9p","12p"]
[null,2,"8p","10p",null,2,"8p","10p",null,2,"8p","10p"]
[null,3,"7p","8p",null,3,"7p","8p",null,3,"7p","8p"]
[null,"4","5p","6p",null,"4","5p","6p",null,"4-5","5p","6p"]
[null,"5","4p","5p",null,"5-6","4p","5p",null,"6-7","4p","5p"]
[null,"6","3p","4p",null,"7-8","3p","4p",null,"8-9","3p","4p"]
[null,"7","2p","3p",null,"9-10","2p","3p",null,"10-11","2p","3p"]
[null,"8","1p","2p",null,"11-12","1p","2p",null,"12-15","1p","2p"]
[]
[]
[]
[]
[]
[null,"Antal deltagare 25-34",null,null,null,"Antal deltagare 35 och däröver"]
[null,"    Nat. Tävling",null,"SM",null,"    Nat. Tävling",null,"SM"]
[null,"Plac","poäng","poäng",null,"Plac","poäng","poäng"]
[null,1,"9p","12p",null,1,"9p","12p"]
[null,2,"8p","10p",null,2,"8p","10p"]
[null,3,"7p","8p",null,3,"7p","8p"]
[null,"4-5","5p","6p",null,"4-6","5p","6p"]
[null,"6-8","4p","5p",null,"7-10","4p","5p"]
[null,"9-12","3p","4p",null,"11-15","3p","4p"]
[null,"13-16","2p","3p",null,"16-20","2p","3p"]
[null,"17-20","1p","2p",null,"21-30","1p","2p"]

{"sheet":"Regler","index":5,"n_rows":69,"n_cols":2,"rows_kept":69,"cut":false,"hidden":false,"merged":[]}
["Regler i Klassindelningssystemet (Sweden Grand Prix)"]
[]
["Antal kastare i klass 1 15st och i klass 2 20st, klass 3 40 st, övriga kastar i klass 4."]
[]
["När säsongen är slut sker ner- och uppflyttning enligt nedan."]
[]
["Klass 1:","Placering 13-15 flyttas ner till klass 2"]
[]
["Klass 2: ","Placering 1-3 flyttas upp till klass 1"]
[null,"Placering 16-20 flyttas ner till klass 3"]
[]
["Klass 3:","Placering 1-5 flyttas upp till klass 2"]
[null,"Placering 36-40 flyttas ner till klass 4"]
[]
["Klass 4:","Placering 1-5 flyttas upp till klass 3"]
[]
[]
[]
[]
[]
["0 poäng i Klass 1, 2 och 3 medför automatisk nerflyttning, skulle det hända att det är fler än 5 st "]
["som inte har fått några poäng , flyttas det upp motsvarande antal kastare"]
["från den lägre klassen så att det blir rätt antal i klasserna."]
[]
["Att om några hamnar på samma poäng så kommer den med högst poäng i en tävling först av dessa, "]
["är de lika även där tittar man på det näst högsta osv. är det fortfarande lika kommer den först som "]
["hade högst poäng på senaste tävlingen, är det lika också där tittar man på den näst senaste osv… "]
[]
["Skulle det fortfarande inte gå att skilja kastare efter detta och de är "]
["aktuella för ned eller uppflyttning gäller detta."]
[]
["Klass 1 : ","om t.ex. 12:e och 13:e kastare är lika flyttas bägge ner till klass 2"]
[]
["Klass 2 :","om t.ex. 3:e och 4:e kastare är lika, flyttas bägge upp till Klass 1"]
[null,"om t.ex 15:e och 16:e kastare är lika flyttas bägge ner till Klass 3"]
[]
["Klass 3 :","om t.ex. 5:e och 6:e kastare är lika, flyttas bägge upp till Klass 2"]
[null,"om t.ex 35:e och 36:e kastare är lika flyttas bägge ner till Klass 4"]
[]
["Klass 4 :","om t.ex. 5:e och 6:e kastare är lika, flyttas bägge upp till Klass 3"]
[]
[]
[]
[]
[]
[]
[]
["                                                                                                                                                                                                                           "]
[]
[]
[]
[]
[null," "]
[]
[]
[]
[]
[]
[]
[]
[]
[]
[]
[]
[]
[]
[]
[]
[null,"    "]

{"sheet":"Klasstillhörighet 1-2-3-4","index":6,"n_rows":78,"n_cols":3,"rows_kept":78,"cut":false,"hidden":false,"merged":[]}
[]
["Klass","Kastare","Klubb"]
[4,"Övriga kastare","Alla klubbar"]
[1,"Ingvar Eriksson","Carlskrona HSC"]
[1,"Joel Sundahl","Carlskrona HSC"]
[1,"Kent Sundahl","Carlskrona HSC"]
[1,"Leo Andersson","Carlskrona HSC"]
[2,"Nathalie Sundahl","Carlskrona Hsc"]
[3,"Leif Sundahl","Carlskrona HSC"]
[1,"Anita Fabbeke","Dynapac"]
[2,"Lukas Bern","Dynapac"]
[2,"Peter Edlund","Dynapac"]
[3,"Anders Johansson","Dynapac"]
[3,"Bengt Fabbeke","Dynapac"]
[3,"Elin Olsson","Dynapac"]
[3,"Louise Tollstam","Dynapac"]
[1,"Olle Ottosson","Dynapac "]
[1,"Peter Olsson","Dynapac "]
[2,"Roy Dahlén","Dynapac "]
[2,"Stefan Tollstam","Dynapac "]
[3,"Mattias Olsson","Dynapac "]
[2,"Ewa Malmqvist","Jämjö Hsk"]
[3,"Bernt Olsson","Jämjö Hsk"]
[3,"Göran Mårtensson","Jämjö Hsk"]
[3,"Inge Skoglöv ","Jämjö Hsk"]
[3,"Marcus Karlsson","Jämjö Hsk"]
[3,"Marianne Karlsson","Jämjö Hsk"]
[3,"Mathias Karlberg","Jämjö Hsk"]
[3,"Mats Mårtensson","Jämjö Hsk"]
[2,"Bo Petersson","Korpen Nybro"]
[2,"Göran Olofsson","Korpen Nybro"]
[3,"Nils-Åke Hansson","Korpen Nybro"]
[3,"Sune Olsson","Korpen Nybro"]
[1,"Gebriela Kostantinos","Korpen Åseda"]
[1,"Gert Karlsson","Korpen Åseda"]
[1,"Matz Karlsson","Korpen Åseda"]
[2,"Tomas Lindahl","Korpen Åseda"]
[3,"Alf Svensson","Korpen Åseda"]
[3,"Dan Madayang","Korpen Åseda"]
[2,"Berndt Pettersson","Lanternan"]
[2,"Ronny Lundberg","Lanternan"]
[3,"Gilbert Pettersson","Lanternan"]
[3,"Ingegerd Pettersson","Lanternan"]
[2,"Christer Blomgren","Lanternan "]
[3,"Jan Pettersson","Lanternan "]
[3,"Bo Fransson","Lessebo HSK"]
[3,"Jörgen Holmqvist","Lessebo Hsk"]
[3,"Leif Ahlex","Lessebo HSK"]
[3,"Paul Karlsson","Lessebo HSK"]
[1,"Mattias Gneupel","Sibbamåla"]
[2,"Carina Gneupel","Sibbamåla"]
[1,"Tobias Gneupel","Sibbamåla IF"]
[2,"Magnus Israelsson","Sibbamåla IF"]
[3,"Sebastian Israelsson","Sibbamåla IF"]
[1,"Johan Johansson","Tingsryd Hsc"]
[1,"Lisbeth Nygaard-Karlsson","Tingsryd Hsc"]
[3,"Hans Johansson","Tingsryd Hsc"]
[3,"Ann-Marie Larsson","Tingsryds HSC"]
[3,"Lennart Karlsson","Tingsryds HSC"]
[3,"Åke Bergqvist","Tingsryds HSC"]
[3,"Björn Landberg","Vaxholm Hsk"]
[2,"Lasse Brincner","Värends Hsk"]
[3,"Christer Brincner","Värends HSK"]
[3,"Christer Lööv","Värends HSK"]
[3,"Christian Balsiger","Värends HSK"]
[3,"Klara Larsson","Värends HSK"]
[3,"Martin Antic","Värends HSK"]
[1,"Sandor Bodi","Växjö HSK"]
[2,"Bengt Andersson","Växjö Hsk"]
[2,"Dan Hallstan","Växjö Hsk"]
[2,"Hathaichonlanee Phaengphui","Växjö Hsk"]
[2,"Maire Johansson","Växjö HSK"]
[2,"Yamonlada Damnoegam","Växjö Hsk"]
[3,"Bela Bodi","Växjö HSK"]
[3,"Kerstin Svensson","Växjö Hsk"]
[3,"Maj-Britt Jarl","Växjö HSK"]
[3,"Sandra Widlund","Växjö Hsk"]
[3,"Thomas Dahl","Växjö HSK"]