{"text_format":"1","workbook":"xlsx","n_sheets":4,"sheets":["Spelprogram Div 1","Tabeller","Serieinformation","Kladd"],"not_rendered":{"charts":0,"images":0,"macros":1,"external_links":0,"defined_names":3,"comments":0,"pivot_tables":0},"unopened":[],"bounds":{"document_bytes":16777216,"sheet_cells":100000,"rows_first":2000,"rows_last":500,"rows_between":2000,"halvings":0,"cell_chars":16384,"cell_head_chars":4096},"cells_cut":0,"cells_raw":0,"read":"whole","date_system":"1900"}

{"sheet":"Spelprogram Div 1","index":0,"n_rows":175,"n_cols":100,"rows_kept":175,"cut":false,"hidden":false,"merged":[]}
[null,null,null,null,null,null,"2024 / 2025",null,null,null,null,null,null,null,null,null,null,null,null,"Antal"]
[null,"Match",null,null,null,null,null,null,null,null,null,null,null,null,null,null,null,null,"Carlskrona Hsc",{"$f":"COUNTIF(G$4:H$112,\"Carlskrona Hsc\")","v":13},null,{"$f":"COUNTIF(G$4:G$112,\"Carlskrona Hsc\")","v":6}]
["Omgång","NR","Datum","Plats","Kl.","Bana","Hemmalag","Bortalag",null,null,null,null,null,null,null,null,null,null,"Lanternan 1",{"$f":"COUNTIF(G$4:H$112,\"Lanternan 1\")","v":13},null,{"$f":"COUNTIF(G$4:G$112,\"Lanternan 1\")","v":6}]
[1,1,"2024-09-21","Karlskrona","10:00:00",1,"Dynapac Hsc","Värends Hsk",null,null,":",null,null,null,null,null,null,null,"Växjö Hsk 1",{"$f":"COUNTIF(G$4:H$112,\"Växjö hsk 1\")","v":13},null,{"$f":"COUNTIF(G$4:G$112,\"Växjö hsk 1\")","v":7}]
[null,2,null,null,"10:00:00",2,"Växjö Hsk 1","Jämjö Hsk",null,null,":",null,null,null,null,null,null,null,"Korpen Nybro",{"$f":"COUNTIF(G$4:H$112,\"Korpen Nybro\")","v":13},null,{"$f":"COUNTIF(G$4:G$112,\"Korpen Nybro\")","v":6}]
[null,3,null,"Länk","10:00:00",null,"Korpen Nybro","Balders Hsk 3",null,null,":",null,null,null,null,null,null,null,"Vaxholm Hsk",{"$f":"COUNTIF(G$4:H$112,\"Vaxholm hsk\")","v":13},null,{"$f":"COUNTIF(G$4:G$112,\"Vaxholm hsk\")","v":6}]
[null,4,null,null,"10:00:00",null,"Vaxholm Hsk","Tingsryd Hsc",null,null,":",null,null,null,null,null,null,null,"Sibbamåla",{"$f":"COUNTIF(G$4:H$112,\"sibbamåla\")","v":13},null,{"$f":"COUNTIF(G$4:G$112,\"sibbamåla\")","v":7}]
[null,5,null,null,"10:00:00",null,"Viby Hsk","Carlskrona Hsc",null,null,":",null,null,null,null,null,null,null,"Balders Hsk 2",{"$f":"COUNTIF(G$4:H$112,\"Balders Hsk 2\")","v":13},null,{"$f":"COUNTIF(G$4:G$112,\"Balders Hsk 2\")","v":7}]
[null,6,null,null,"10:00:00",null,"Lanternan 1","Balders Hsk 1",null,null,":",null,null,null,null,null,null,null,"Balders Hsk 1",{"$f":"COUNTIF(G$4:H$112,\"Balders Hsk 1\")","v":13},null,{"$f":"COUNTIF(G$4:G$112,\"Balders Hsk 1\")","v":7}]
[null,7,null,null,"10:00:00",null,"Balders Hsk 2","Sibbamåla",null,null,":",null,null,null,null,null,null,null,"Tingsryd Hsc",{"$f":"COUNTIF(G$4:H$112,\"Tingsryd Hsc\")","v":13},null,{"$f":"COUNTIF(G$4:G$112,\"Tingsryd Hsc\")","v":7}]
[null,8,null,"Karlskrona","12:00:00",1,"Växjö Hsk 1","Dynapac Hsc",null,null,":",null,null,null,null,null,null,null,"Dynapac Hsc",{"$f":"COUNTIF(G$4:H$112,\"Dynapac Hsc\")","v":13},null,{"$f":"COUNTIF(G$4:G$112,\"Dynapac Hsc\")","v":6}]
[null,9,null,null,"12:00:00",2,"Värends Hsk","Jämjö Hsk",null,null,":",null,null,null,null,null,null,null,"Jämjö Hsk",{"$f":"COUNTIF(G$4:H$112,\"Jämjö Hsk\")","v":13},null,{"$f":"COUNTIF(G$4:G$112,\"Jämjö Hsk\")","v":6}]
[null,10,null,"Länk","12:00:00",null,"Vaxholm Hsk","Korpen Nybro",null,null,":",null,null,null,null,null,null,null,"Viby Hsk",{"$f":"COUNTIF(G$4:H$112,\"Viby Hsk\")","v":13},null,{"$f":"COUNTIF(G$4:G$112,\"Viby Hsk\")","v":7}]
[null,11,null,null,"12:00:00",null,"Tingsryd Hsc","Viby Hsk",null,null,":",null,null,null,null,null,null,null,"Värends Hsk",{"$f":"COUNTIF(G$4:H$112,\"Värends Hsk\")","v":13},null,{"$f":"COUNTIF(G$4:G$112,\"Värends Hsk\")","v":7}]
[null,12,null,null,"12:00:00",null,"Balders Hsk 1","Carlskrona Hsc",null,null,":",null,null,null,null,null,null,null,"Balders Hsk 3",{"$f":"COUNTIF(G$4:H$112,\"Balders Hsk 3\")","v":13},null,{"$f":"COUNTIF(G$4:G$112,\"Balders Hsk 3\")","v":6}]
[null,13,null,null,"12:00:00",null,"Lanternan 1","Balders Hsk 2",null,null,":"]
[null,14,null,null,"12:00:00",null,"Sibbamåla","Balders Hsk 3",null,null,":"]
[]
[2,15,"2024-10-26","Tingsryd","10:00:00",1,"Korpen Nybro","Värends Hsk",null,null,":"]
[null,16,null,null,"10:00:00",2,"Växjö Hsk 1","Tingsryd Hsc",null,null,":"]
[null,17,null,"Karlskrona","10:00:00",null,"Sibbamåla","Lanternan 1",null,null,":"]
[null,18,null,"Länk","10:00:00",null,"Jämjö Hsk","Balders Hsk 1",null,null,":"]
[null,19,null,null,"10:00:00",null,"Dynapac Hsc","Vaxholm Hsk",null,null,":"]
[null,20,null,null,"10:00:00",null,"Balders Hsk 3","Carlskrona Hsc",null,null,":"]
[null,21,null,null,"10:00:00",null,"Balders Hsk 2","Viby Hsk",null,null,":"]
[null,22,null,"Tingsryd","12:00:00",1,"Värends Hsk","Tingsryd Hsc",null,null,":"]
[null,23,null,null,"12:00:00",2,"Korpen Nybro","Växjö Hsk 1",null,null,":"]
[null,24,null,"Karlskrona","12:00:00",null,"Jämjö Hsk","Sibbamåla",null,null,":"]
[null,25,null,null,"12:00:00",null,"Lanternan 1","Carlskrona Hsc",null,null,":"]
[null,26,null,"Länk","12:00:00",null,"Balders Hsk 1","Dynapac Hsc",null,null,":"]
[null,27,null,null,"12:00:00",null,"Balders Hsk 3","Viby Hsk",null,null,":"]
[null,28,null,null,"12:00:00",null,"Balders Hsk 2","Vaxholm Hsk",null,null,":"]
[]
[3,29,"2024-11-23","Värend","10:00:00",1,"Växjö Hsk 1","Lanternan 1",null,null,":"]
[null,30,null,null,"10:00:00",2,"Carlskrona Hsc","Värends Hsk",null,null,":"]
[null,31,null,null,"10:00:00",3,"Sibbamåla","Korpen Nybro",null,null,":"]
[null,32,null,"Länk","10:00:00",4,"Tingsryd Hsc","Balders Hsk 1",null,null,":"]
[null,33,null,null,"10:00:00",null,"Viby Hsk","Jämjö Hsk",null,null,":"]
[null,34,null,null,"10:00:00",null,"Balders Hsk 2","Dynapac Hsc",null,null,":"]
[null,35,null,null,"10:00:00",null,"Vaxholm Hsk","Balders Hsk 3",null,null,":"]
[null,36,null,"Värend","12:00:00",1,"Värends Hsk","Lanternan 1",null,null,":"]
[null,37,null,null,"12:00:00",2,"Carlskrona Hsc","Växjö Hsk 1",null,null,":"]
[null,38,null,null,"12:00:00",3,"Tingsryd Hsc","Sibbamåla",null,null,":"]
[null,39,null,"Länk","12:00:00",4,"Viby Hsk","Korpen Nybro",null,null,":"]
[null,40,null,null,"12:00:00",null,"Balders Hsk 2","Jämjö Hsk",null,null,":"]
[null,41,null,null,"12:00:00",null,"Balders Hsk 3","Dynapac Hsc",null,null,":"]
[null,42,null,null,"12:00:00",null,"Balders Hsk 1","Vaxholm Hsk",null,null,":"]
[]
[4,43,"Vecka 4-5",null,"18:00:00",null,"Tingsryd Hsc","Korpen Nybro",null,null,":"]
[null,44,null,"Kväll","18:00:00",null,"Värends Hsk","Växjö Hsk 1",null,null,":"]
[null,45,null,"Karlskrona","18:00:00",null,"Carlskrona Hsc","Jämjö Hsk",null,null,":"]
[null,46,null,null,"18:00:00",null,"Dynapac Hsc","Lanternan 1",null,null,":"]
[null,47,null,"Länk","18:00:00",null,"Vaxholm Hsk","Sibbamåla",null,null,":"]
[null,48,null,null,"18:00:00",null,"Viby Hsk","Balders Hsk 1",null,null,":"]
[null,49,null,"Lilltorp","18:00:00",null,"Balders Hsk 3","Balders Hsk 2",null,null,":"]
[]
[5,50,"2025-02-15","Karlskrona","10:00:00",null,"Jämjö Hsk","Dynapac Hsc",null,null,":"]
[null,51,null,"Länk","10:00:00",null,"Carlskrona Hsc","Vaxholm Hsk",null,null,":"]
[null,52,null,null,"10:00:00",null,"Lanternan 1","Balders Hsk 3",null,null,":"]
[null,53,null,"Värend","10:00:00",1,"Växjö Hsk 1","Sibbamåla",null,null,":"]
[null,54,null,"Länk","10:00:00",2,"Viby Hsk","Värends Hsk",null,null,":"]
[null,55,null,null,"10:00:00",null,"Tingsryd Hsc","Balders Hsk 2",null,null,":"]
[null,56,null,null,"10:00:00",null,"Balders Hsk 1","Korpen Nybro",null,null,":"]
[null,57,null,"Karlskrona","12:00:00",null,"Lanternan 1","Jämjö Hsk",null,null,":"]
[null,58,null,null,"12:00:00",null,"Dynapac Hsc","Carlskrona Hsc",null,null,":"]
[null,59,null,"Värend","12:00:00",1,"Värends Hsk","Sibbamåla",null,null,":"]
[null,60,null,"Länk","12:00:00",2,"Balders Hsk 1","Växjö Hsk 1",null,null,":"]
[null,61,null,null,"12:00:00",null,"Korpen Nybro","Balders Hsk 2",null,null,":"]
[null,62,null,null,"12:00:00",null,"Tingsryd Hsc","Balders Hsk 3",null,null,":"]
[null,63,null,"Sollentuna","12:00:00",null,"Viby Hsk","Vaxholm Hsk",null,null,":"]
[]
[6,64,"2025-03-08","Tingsryd","10:00:00",1,"Jämjö Hsk","Korpen Nybro",null,null,":"]
[null,65,null,null,"10:00:00",2,"Tingsryd Hsc","Lanternan 1",null,null,":"]
[null,66,null,"Länk","10:00:00",null,"Värends Hsk","Balders Hsk 3",null,null,":"]
[null,67,null,null,"10:00:00",null,"Växjö Hsk 1","Vaxholm Hsk",null,null,":",null,null,null,null,null,null,null,null,null,null,null,null,null,null,null,null,null,null,null,null,"Sibbamåla ",null,null,null,null,"Balders Hsk 2",null,null,null,null,"Dynapac Hsc",null,null,null,null,"Växjö Hsk 1",null,null,null,null,"Carlskrona Hsc",null,null,null,null,"Vaxholm Hsk",null,null,null,null,"Korpen Nybro",null,null,null,null,"Balders Hsk 1",null,null,null,null,"Lanternan 1",null,null,null,null,"Viby Hsk",null,null,null,null,"Jämjö Hsk",null,null,null,null,"Värends Hsk",null,null,null,null,"Balders Hsk 3",null,null,null,null,"Tingsryd Hsc"]
[null,68,null,null,"10:00:00",null,"Dynapac Hsc","Viby Hsk",null,null,":",null,null,null,null,null,null,null,null,"Sp.m","3p","2p","1p","0p",null,null,"Matchkvot",null,null,"Poäng"]
[null,69,null,"Karlskrona","10:00:00",null,"Sibbamåla","Carlskrona Hsc",null,null,":",null,null,null,null,null,null,null,{"$f":"AF75","v":"Sibbamåla "},{"$f":"COUNT(AF77:AI173)/(2)","v":0},{"$f":"SUM(T77,-V77,-W77,-X77)","v":0},{"$f":"COUNTIF(AH77:AI173,5)","v":0},{"$f":"COUNTIF(AF77:AG173,5)","v":0},{"$f":"COUNTIF(AF77:AG173,\"<5\")","v":0},null,{"$f":"SUM(AF77:AG173)","v":0},null,{"$f":"SUM(AH77:AI173)","v":0},{"$f":"Z77-AB77","v":0},{"$f":"SUM(U77*3)+(V77*2)+(W77*1)","v":0},null,{"$f":"IF($J4=\"\",\"-\",IF($G4=\"Sibbamåla\",$J4,\"-\"))","v":"-"},{"$f":"IF($L4=\"\",\"-\",IF($H4=\"Sibbamåla\",$L4,\"-\"))","v":"-"},{"$f":"IF($J4=\"\",\"-\",IF($H4=\"Sibbamåla\",$J4,\"-\"))","v":"-"},{"$f":"IF($L4=\"\",\"-\",IF($G4=\"Sibbamåla\",$L4,\"-\"))","v":"-"},null,{"$f":"IF($J4=\"\",\"-\",IF($G4=\"balders hsk 2\",$J4,\"-\"))","v":"-"},{"$f":"IF($L4=\"\",\"-\",IF($H4=\"balders hsk 2\",$L4,\"-\"))","v":"-"},{"$f":"IF($J4=\"\",\"-\",IF($H4=\"balders hsk 2\",$J4,\"-\"))","v":"-"},{"$f":"IF($L4=\"\",\"-\",IF($G4=\"balders hsk 2\",$L4,\"-\"))","v":"-"},null,{"$f":"IF($J4=\"\",\"-\",IF($G4=\"dynapac hsc\",$J4,\"-\"))","v":"-"},{"$f":"IF($L4=\"\",\"-\",IF($H4=\"dynapac hsc\",$L4,\"-\"))","v":"-"},{"$f":"IF($J4=\"\",\"-\",IF($H4=\"dynapac hsc\",$J4,\"-\"))","v":"-"},{"$f":"IF($L4=\"\",\"-\",IF($G4=\"dynapac hsc\",$L4,\"-\"))","v":"-"},null,{"$f":"IF($J4=\"\",\"-\",IF($G4=\"växjö hsk 1\",$J4,\"-\"))","v":"-"},{"$f":"IF($L4=\"\",\"-\",IF($H4=\"växjö hsk 1\",$L4,\"-\"))","v":"-"},{"$f":"IF($J4=\"\",\"-\",IF($H4=\"växjö hsk 1\",$J4,\"-\"))","v":"-"},{"$f":"IF($L4=\"\",\"-\",IF($G4=\"växjö hsk 1\",$L4,\"-\"))","v":"-"},null,{"$f":"IF($J4=\"\",\"-\",IF($G4=\"carlskrona hsc\",$J4,\"-\"))","v":"-"},{"$f":"IF($L4=\"\",\"-\",IF($H4=\"carlskrona hsc\",$L4,\"-\"))","v":"-"},{"$f":"IF($J4=\"\",\"-\",IF($H4=\"carlskrona hsc\",$J4,\"-\"))","v":"-"},{"$f":"IF($L4=\"\",\"-\",IF($G4=\"carlskrona hsc\",$L4,\"-\"))","v":"-"},null,{"$f":"IF($J4=\"\",\"-\",IF($G4=\"vaxholm hsk\",$J4,\"-\"))","v":"-"},{"$f":"IF($L4=\"\",\"-\",IF($H4=\"vaxholm hsk\",$L4,\"-\"))","v":"-"},{"$f":"IF($J4=\"\",\"-\",IF($H4=\"vaxholm hsk\",$J4,\"-\"))","v":"-"},{"$f":"IF($L4=\"\",\"-\",IF($G4=\"vaxholm hsk\",$L4,\"-\"))","v":"-"},null,{"$f":"IF($J4=\"\",\"-\",IF($G4=\"korpen nybro\",$J4,\"-\"))","v":"-"},{"$f":"IF($L4=\"\",\"-\",IF($H4=\"korpen nybro\",$L4,\"-\"))","v":"-"},{"$f":"IF($J4=\"\",\"-\",IF($H4=\"korpen nybro\",$J4,\"-\"))","v":"-"},{"$f":"IF($L4=\"\",\"-\",IF($G4=\"korpen nybro\",$L4,\"-\"))","v":"-"},null,{"$f":"IF($J4=\"\",\"-\",IF($G4=\"balders hsk 1\",$J4,\"-\"))","v":"-"},{"$f":"IF($L4=\"\",\"-\",IF($H4=\"balders hsk 1\",$L4,\"-\"))","v":"-"},{"$f":"IF($J4=\"\",\"-\",IF($H4=\"balders hsk 1\",$J4,\"-\"))","v":"-"},{"$f":"IF($L4=\"\",\"-\",IF($G4=\"balders hsk 1\",$L4,\"-\"))","v":"-"},null,{"$f":"IF($J4=\"\",\"-\",IF($G4=\"lanternan 1\",$J4,\"-\"))","v":"-"},{"$f":"IF($L4=\"\",\"-\",IF($H4=\"lanternan 1\",$L4,\"-\"))","v":"-"},{"$f":"IF($J4=\"\",\"-\",IF($H4=\"lanternan 1\",$J4,\"-\"))","v":"-"},{"$f":"IF($L4=\"\",\"-\",IF($G4=\"lanternan 1\",$L4,\"-\"))","v":"-"},null,{"$f":"IF($J4=\"\",\"-\",IF($G4=\"viby hsk\",$J4,\"-\"))","v":"-"},{"$f":"IF($L4=\"\",\"-\",IF($H4=\"viby hsk\",$L4,\"-\"))","v":"-"},{"$f":"IF($J4=\"\",\"-\",IF($H4=\"viby hsk\",$J4,\"-\"))","v":"-"},{"$f":"IF($L4=\"\",\"-\",IF($G4=\"viby hsk\",$L4,\"-\"))","v":"-"},null,{"$f":"IF($J4=\"\",\"-\",IF($G4=\"jämjö hsk\",$J4,\"-\"))","v":"-"},{"$f":"IF($L4=\"\",\"-\",IF($H4=\"jämjö hsk\",$L4,\"-\"))","v":"-"},{"$f":"IF($J4=\"\",\"-\",IF($H4=\"jämjö hsk\",$J4,\"-\"))","v":"-"},{"$f":"IF($L4=\"\",\"-\",IF($G4=\"jämjö hsk\",$L4,\"-\"))","v":"-"},null,{"$f":"IF($J4=\"\",\"-\",IF($G4=\"värends hsk\",$J4,\"-\"))","v":"-"},{"$f":"IF($L4=\"\",\"-\",IF($H4=\"värends hsk\",$L4,\"-\"))","v":"-"},{"$f":"IF($J4=\"\",\"-\",IF($H4=\"värends hsk\",$J4,\"-\"))","v":"-"},{"$f":"IF($L4=\"\",\"-\",IF($G4=\"värends hsk\",$L4,\"-\"))","v":"-"},null,{"$f":"IF($J4=\"\",\"-\",IF($G4=\"balders hsk 3\",$J4,\"-\"))","v":"-"},{"$f":"IF($L4=\"\",\"-\",IF($H4=\"balders hsk 3\",$L4,\"-\"))","v":"-"},{"$f":"IF($J4=\"\",\"-\",IF($H4=\"balders hsk 3\",$J4,\"-\"))","v":"-"},{"$f":"IF($L4=\"\",\"-\",IF($G4=\"balders hsk 3\",$L4,\"-\"))","v":"-"},null,{"$f":"IF($J4=\"\",\"-\",IF($G4=\"tingsryd hsc\",$J4,\"-\"))","v":"-"},{"$f":"IF($L4=\"\",\"-\",IF($H4=\"tingsryd hsc\",$L4,\"-\"))","v":"-"},{"$f":"IF($J4=\"\",\"-\",IF($H4=\"tingsryd hsc\",$J4,\"-\"))","v":"-"},{"$f":"IF($L4=\"\",\"-\",IF($G4=\"tingsryd hsc\",$L4,\"-\"))","v":"-"}]
[null,70,null,"Lilltorp","10:00:00",null,"Balders Hsk 2","Balders Hsk 1",null,null,":",null,null,null,null,null,null,null,{"$f":"AK75","v":"Balders Hsk 2"},{"$f":"COUNT(AK77:AN173)/(2)","v":0},0,{"$f":"COUNTIF(AM77:AN173,5)","v":0},{"$f":"COUNTIF(AK77:AL173,5)","v":0},{"$f":"COUNTIF(AK77:AL173,\"<5\")","v":0},null,{"$f":"SUM(AK77:AL173)","v":0},null,{"$f":"SUM(AM77:AN173)","v":0},0,0,null,{"$f":"IF($J5=\"\",\"-\",IF($G5=\"Sibbamåla\",$J5,\"-\"))","v":"-"},{"$f":"IF($L5=\"\",\"-\",IF($H5=\"Sibbamåla\",$L5,\"-\"))","v":"-"},{"$f":"IF($J5=\"\",\"-\",IF($H5=\"Sibbamåla\",$J5,\"-\"))","v":"-"},{"$f":"IF($L5=\"\",\"-\",IF($G5=\"Sibbamåla\",$L5,\"-\"))","v":"-"},null,{"$f":"IF($J5=\"\",\"-\",IF($G5=\"balders hsk 2\",$J5,\"-\"))","v":"-"},{"$f":"IF($L5=\"\",\"-\",IF($H5=\"balders hsk 2\",$L5,\"-\"))","v":"-"},{"$f":"IF($J5=\"\",\"-\",IF($H5=\"balders hsk 2\",$J5,\"-\"))","v":"-"},{"$f":"IF($L5=\"\",\"-\",IF($G5=\"balders hsk 2\",$L5,\"-\"))","v":"-"},null,{"$f":"IF($J5=\"\",\"-\",IF($G5=\"dynapac hsc\",$J5,\"-\"))","v":"-"},{"$f":"IF($L5=\"\",\"-\",IF($H5=\"dynapac hsc\",$L5,\"-\"))","v":"-"},{"$f":"IF($J5=\"\",\"-\",IF($H5=\"dynapac hsc\",$J5,\"-\"))","v":"-"},{"$f":"IF($L5=\"\",\"-\",IF($G5=\"dynapac hsc\",$L5,\"-\"))","v":"-"},null,{"$f":"IF($J5=\"\",\"-\",IF($G5=\"växjö hsk 1\",$J5,\"-\"))","v":"-"},{"$f":"IF($L5=\"\",\"-\",IF($H5=\"växjö hsk 1\",$L5,\"-\"))","v":"-"},{"$f":"IF($J5=\"\",\"-\",IF($H5=\"växjö hsk 1\",$J5,\"-\"))","v":"-"},{"$f":"IF($L5=\"\",\"-\",IF($G5=\"växjö hsk 1\",$L5,\"-\"))","v":"-"},null,{"$f":"IF($J5=\"\",\"-\",IF($G5=\"carlskrona hsc\",$J5,\"-\"))","v":"-"},{"$f":"IF($L5=\"\",\"-\",IF($H5=\"carlskrona hsc\",$L5,\"-\"))","v":"-"},{"$f":"IF($J5=\"\",\"-\",IF($H5=\"carlskrona hsc\",$J5,\"-\"))","v":"-"},{"$f":"IF($L5=\"\",\"-\",IF($G5=\"carlskrona hsc\",$L5,\"-\"))","v":"-"},null,{"$f":"IF($J5=\"\",\"-\",IF($G5=\"vaxholm hsk\",$J5,\"-\"))","v":"-"},{"$f":"IF($L5=\"\",\"-\",IF($H5=\"vaxholm hsk\",$L5,\"-\"))","v":"-"},{"$f":"IF($J5=\"\",\"-\",IF($H5=\"vaxholm hsk\",$J5,\"-\"))","v":"-"},{"$f":"IF($L5=\"\",\"-\",IF($G5=\"vaxholm hsk\",$L5,\"-\"))","v":"-"},null,{"$f":"IF($J5=\"\",\"-\",IF($G5=\"korpen nybro\",$J5,\"-\"))","v":"-"},{"$f":"IF($L5=\"\",\"-\",IF($H5=\"korpen nybro\",$L5,\"-\"))","v":"-"},{"$f":"IF($J5=\"\",\"-\",IF($H5=\"korpen nybro\",$J5,\"-\"))","v":"-"},{"$f":"IF($L5=\"\",\"-\",IF($G5=\"korpen nybro\",$L5,\"-\"))","v":"-"},null,{"$f":"IF($J5=\"\",\"-\",IF($G5=\"balders hsk 1\",$J5,\"-\"))","v":"-"},{"$f":"IF($L5=\"\",\"-\",IF($H5=\"balders hsk 1\",$L5,\"-\"))","v":"-"},{"$f":"IF($J5=\"\",\"-\",IF($H5=\"balders hsk 1\",$J5,\"-\"))","v":"-"},{"$f":"IF($L5=\"\",\"-\",IF($G5=\"balders hsk 1\",$L5,\"-\"))","v":"-"},null,{"$f":"IF($J5=\"\",\"-\",IF($G5=\"lanternan 1\",$J5,\"-\"))","v":"-"},{"$f":"IF($L5=\"\",\"-\",IF($H5=\"lanternan 1\",$L5,\"-\"))","v":"-"},{"$f":"IF($J5=\"\",\"-\",IF($H5=\"lanternan 1\",$J5,\"-\"))","v":"-"},{"$f":"IF($L5=\"\",\"-\",IF($G5=\"lanternan 1\",$L5,\"-\"))","v":"-"},null,{"$f":"IF($J5=\"\",\"-\",IF($G5=\"viby hsk\",$J5,\"-\"))","v":"-"},{"$f":"IF($L5=\"\",\"-\",IF($H5=\"viby hsk\",$L5,\"-\"))","v":"-"},{"$f":"IF($J5=\"\",\"-\",IF($H5=\"viby hsk\",$J5,\"-\"))","v":"-"},{"$f":"IF($L5=\"\",\"-\",IF($G5=\"viby hsk\",$L5,\"-\"))","v":"-"},null,{"$f":"IF($J5=\"\",\"-\",IF($G5=\"jämjö hsk\",$J5,\"-\"))","v":"-"},{"$f":"IF($L5=\"\",\"-\",IF($H5=\"jämjö hsk\",$L5,\"-\"))","v":"-"},{"$f":"IF($J5=\"\",\"-\",IF($H5=\"jämjö hsk\",$J5,\"-\"))","v":"-"},{"$f":"IF($L5=\"\",\"-\",IF($G5=\"jämjö hsk\",$L5,\"-\"))","v":"-"},null,{"$f":"IF($J5=\"\",\"-\",IF($G5=\"värends hsk\",$J5,\"-\"))","v":"-"},{"$f":"IF($L5=\"\",\"-\",IF($H5=\"värends hsk\",$L5,\"-\"))","v":"-"},{"$f":"IF($J5=\"\",\"-\",IF($H5=\"värends hsk\",$J5,\"-\"))","v":"-"},{"$f":"IF($L5=\"\",\"-\",IF($G5=\"värends hsk\",$L5,\"-\"))","v":"-"},null,{"$f":"IF($J5=\"\",\"-\",IF($G5=\"balders hsk 3\",$J5,\"-\"))","v":"-"},{"$f":"IF($L5=\"\",\"-\",IF($H5=\"balders hsk 3\",$L5,\"-\"))","v":"-"},{"$f":"IF($J5=\"\",\"-\",IF($H5=\"balders hsk 3\",$J5,\"-\"))","v":"-"},{"$f":"IF($L5=\"\",\"-\",IF($G5=\"balders hsk 3\",$L5,\"-\"))","v":"-"},null,{"$f":"IF($J5=\"\",\"-\",IF($G5=\"tingsryd hsc\",$J5,\"-\"))","v":"-"},{"$f":"IF($L5=\"\",\"-\",IF($H5=\"tingsryd hsc\",$L5,\"-\"))","v":"-"},{"$f":"IF($J5=\"\",\"-\",IF($H5=\"tingsryd hsc\",$J5,\"-\"))","v":"-"},{"$f":"IF($L5=\"\",\"-\",IF($G5=\"tingsryd hsc\",$L5,\"-\"))","v":"-"}]
[null,71,null,"Tingsryd","12:00:00",1,"Jämjö Hsk","Tingsryd Hsc",null,null,":",null,null,null,null,null,null,null,{"$f":"AP75","v":"Dynapac Hsc"},{"$f":"COUNT(AP77:AS173)/(2)","v":0},0,{"$f":"COUNTIF(AR77:AS173,5)","v":0},{"$f":"COUNTIF(AP77:AQ173,5)","v":0},{"$f":"COUNTIF(AP77:AQ173,\"<5\")","v":0},null,{"$f":"SUM(AP77:AQ173)","v":0},null,{"$f":"SUM(AR77:AS173)","v":0},0,0,null,"-","-","-","-",null,"-","-","-","-",null,"-","-","-","-",null,"-","-","-","-",null,"-","-","-","-",null,"-","-","-","-",null,"-","-","-","-",null,"-","-","-","-",null,"-","-","-","-",null,"-","-","-","-",null,"-","-","-","-",null,"-","-","-","-",null,"-","-","-","-",null,"-","-","-","-"]
[null,72,null,null,"12:00:00",2,"Korpen Nybro","Lanternan 1",null,null,":",null,null,null,null,null,null,null,{"$f":"AU75","v":"Växjö Hsk 1"},{"$f":"COUNT(AU77:AX173)/(2)","v":0},0,{"$f":"COUNTIF(AW77:AX173,5)","v":0},{"$f":"COUNTIF(AU77:AV173,5)","v":0},{"$f":"COUNTIF(AU77:AV173,\"<5\")","v":0},null,{"$f":"SUM(AU77:AV173)","v":0},null,{"$f":"SUM(AW77:AX173)","v":0},0,0,null,"-","-","-","-",null,"-","-","-","-",null,"-","-","-","-",null,"-","-","-","-",null,"-","-","-","-",null,"-","-","-","-",null,"-","-","-","-",null,"-","-","-","-",null,"-","-","-","-",null,"-","-","-","-",null,"-","-","-","-",null,"-","-","-","-",null,"-","-","-","-",null,"-","-","-","-"]
[null,73,null,"Länk","12:00:00",null,"Vaxholm Hsk","Värends Hsk",null,null,":",null,null,null,null,null,null,null,{"$f":"AZ75","v":"Carlskrona Hsc"},{"$f":"COUNT(AZ77:BC173)/(2)","v":0},0,{"$f":"COUNTIF(BB77:BC173,5)","v":0},{"$f":"COUNTIF(AZ77:BA173,5)","v":0},{"$f":"COUNTIF(AZ77:BA173,\"<5\")","v":0},null,{"$f":"SUM(AZ77:BA173)","v":0},null,{"$f":"SUM(BB77:BC173)","v":0},0,0,null,"-","-","-","-",null,"-","-","-","-",null,"-","-","-","-",null,"-","-","-","-",null,"-","-","-","-",null,"-","-","-","-",null,"-","-","-","-",null,"-","-","-","-",null,"-","-","-","-",null,"-","-","-","-",null,"-","-","-","-",null,"-","-","-","-",null,"-","-","-","-",null,"-","-","-","-"]
[null,74,null,null,"12:00:00",null,"Viby Hsk","Växjö Hsk 1",null,null,":",null,null,null,null,null,null,null,{"$f":"BE75","v":"Vaxholm Hsk"},{"$f":"COUNT(BE77:BH173)/(2)","v":0},0,{"$f":"COUNTIF(BG77:BH173,5)","v":0},{"$f":"COUNTIF(BE77:BF173,5)","v":0},{"$f":"COUNTIF(BE77:BF173,\"<5\")","v":0},null,{"$f":"SUM(BE77:BF173)","v":0},null,{"$f":"SUM(BG77:BH173)","v":0},0,0,null,"-","-","-","-",null,"-","-","-","-",null,"-","-","-","-",null,"-","-","-","-",null,"-","-","-","-",null,"-","-","-","-",null,"-","-","-","-",null,"-","-","-","-",null,"-","-","-","-",null,"-","-","-","-",null,"-","-","-","-",null,"-","-","-","-",null,"-","-","-","-",null,"-","-","-","-"]
[null,75,null,null,"12:00:00",null,"Balders Hsk 2","Carlskrona Hsc",null,null,":",null,null,null,null,null,null,null,{"$f":"BJ75","v":"Korpen Nybro"},{"$f":"COUNT(BJ77:BM173)/(2)","v":0},0,{"$f":"COUNTIF(BL77:BM173,5)","v":0},{"$f":"COUNTIF(BJ77:BK173,5)","v":0},{"$f":"COUNTIF(BJ77:BK173,\"<5\")","v":0},null,{"$f":"SUM(BJ77:BK173)","v":0},null,{"$f":"SUM(BL77:BM173)","v":0},0,0,null,"-","-","-","-",null,"-","-","-","-",null,"-","-","-","-",null,"-","-","-","-",null,"-","-","-","-",null,"-","-","-","-",null,"-","-","-","-",null,"-","-","-","-",null,"-","-","-","-",null,"-","-","-","-",null,"-","-","-","-",null,"-","-","-","-",null,"-","-","-","-",null,"-","-","-","-"]
[null,76,null,"Karlskrona","12:00:00",null,"Sibbamåla","Dynapac Hsc",null,null,":",null,null,null,null,null,null,null,{"$f":"BO75","v":"Balders Hsk 1"},{"$f":"COUNT(BO77:BR173)/(2)","v":0},0,{"$f":"COUNTIF(BQ77:BR173,5)","v":0},{"$f":"COUNTIF(BO77:BP173,5)","v":0},{"$f":"COUNTIF(BO77:BP173,\"<5\")","v":0},null,{"$f":"SUM(BO77:BP173)","v":0},null,{"$f":"SUM(BQ77:BR173)","v":0},0,0,null,"-","-","-","-",null,"-","-","-","-",null,"-","-","-","-",null,"-","-","-","-",null,"-","-","-","-",null,"-","-","-","-",null,"-","-","-","-",null,"-","-","-","-",null,"-","-","-","-",null,"-","-","-","-",null,"-","-","-","-",null,"-","-","-","-",null,"-","-","-","-",null,"-","-","-","-"]
[null,77,null,"Lilltorp","12:00:00",null,"Balders Hsk 1","Balders Hsk 3",null,null,":",null,null,null,null,null,null,null,{"$f":"BT75","v":"Lanternan 1"},{"$f":"COUNT(BT77:BW173)/(2)","v":0},0,{"$f":"COUNTIF(BV77:BW173,5)","v":0},{"$f":"COUNTIF(BT77:BU173,5)","v":0},{"$f":"COUNTIF(BT77:BU173,\"<5\")","v":0},null,{"$f":"SUM(BT77:BU173)","v":0},null,{"$f":"SUM(BV77:BW173)","v":0},0,0,null,"-","-","-","-",null,"-","-","-","-",null,"-","-","-","-",null,"-","-","-","-",null,"-","-","-","-",null,"-","-","-","-",null,"-","-","-","-",null,"-","-","-","-",null,"-","-","-","-",null,"-","-","-","-",null,"-","-","-","-",null,"-","-","-","-",null,"-","-","-","-",null,"-","-","-","-"]
[null,null,null,null,null,null,null,null,null,null,null,null,null,null,null,null,null,null,{"$f":"BY75","v":"Viby Hsk"},{"$f":"COUNT(BY77:CB173)/(2)","v":0},0,{"$f":"COUNTIF(CA77:CB173,5)","v":0},{"$f":"COUNTIF(BY77:BZ173,5)","v":0},{"$f":"COUNTIF(BY77:BZ173,\"<5\")","v":0},null,{"$f":"SUM(BY77:BZ173)","v":0},null,{"$f":"SUM(CA77:CB173)","v":0},0,0,null,"-","-","-","-",null,"-","-","-","-",null,"-","-","-","-",null,"-","-","-","-",null,"-","-","-","-",null,"-","-","-","-",null,"-","-","-","-",null,"-","-","-","-",null,"-","-","-","-",null,"-","-","-","-",null,"-","-","-","-",null,"-","-","-","-",null,"-","-","-","-",null,"-","-","-","-"]
[7,78,"2025-03-29","Nybro","10:00:00",1,"Carlskrona Hsc","Korpen Nybro",null,null,":",null,"",null,null,null,null,null,{"$f":"CD75","v":"Jämjö Hsk"},{"$f":"COUNT(CD77:CG173)/(2)","v":0},{"$f":"SUM(T87,-V87,-W87,-X87)","v":0},{"$f":"COUNTIF(CF77:CG173,5)","v":0},{"$f":"COUNTIF(CD77:CE173,5)","v":0},{"$f":"COUNTIF(CD77:CE173,\"<5\")","v":0},null,{"$f":"SUM(CD77:CE173)","v":0},null,{"$f":"SUM(CF77:CG173)","v":0},{"$f":"Z87-AB87","v":0},{"$f":"SUM(U87*3)+(V87*2)+(W87*1)","v":0},null,"-","-","-","-",null,"-","-","-","-",null,"-","-","-","-",null,"-","-","-","-",null,"-","-","-","-",null,"-","-","-","-",null,"-","-","-","-",null,"-","-","-","-",null,"-","-","-","-",null,"-","-","-","-",null,"-","-","-","-",null,"-","-","-","-",null,"-","-","-","-",null,"-","-","-","-"]
[null,79,null,null,"10:00:00",2,"Dynapac Hsc","Tingsryd Hsc",null,null,":",null,"",null,null,null,null,null,{"$f":"CI75","v":"Värends Hsk"},{"$f":"COUNT(CI77:CL173)/(2)","v":0},0,{"$f":"COUNTIF(CK77:CL173,5)","v":0},{"$f":"COUNTIF(CI77:CJ173,5)","v":0},{"$f":"COUNTIF(CI77:CJ173,\"<5\")","v":0},null,{"$f":"SUM(CI77:CJ173)","v":0},null,{"$f":"SUM(CK77:CL173)","v":0},0,0,null,"-","-","-","-",null,"-","-","-","-",null,"-","-","-","-",null,"-","-","-","-",null,"-","-","-","-",null,"-","-","-","-",null,"-","-","-","-",null,"-","-","-","-",null,"-","-","-","-",null,"-","-","-","-",null,"-","-","-","-",null,"-","-","-","-",null,"-","-","-","-",null,"-","-","-","-"]
[null,80,null,"Länk","10:00:00",null,"Balders Hsk 1","Värends Hsk",null,null,":",null,null,null,null,null,null,null,{"$f":"CN75","v":"Balders Hsk 3"},{"$f":"COUNT(CN77:CQ173)/(2)","v":0},0,{"$f":"COUNTIF(CP77:CQ173,5)","v":0},{"$f":"COUNTIF(CN77:CO173,5)","v":0},{"$f":"COUNTIF(CN77:CO173,\"<5\")","v":0},null,{"$f":"SUM(CN77:CO173)","v":0},null,{"$f":"SUM(CP77:CQ173)","v":0},0,0,null,"-","-","-","-",null,"-","-","-","-",null,"-","-","-","-",null,"-","-","-","-",null,"-","-","-","-",null,"-","-","-","-",null,"-","-","-","-",null,"-","-","-","-",null,"-","-","-","-",null,"-","-","-","-",null,"-","-","-","-",null,"-","-","-","-",null,"-","-","-","-",null,"-","-","-","-"]
[null,81,null,null,"10:00:00",null,"Växjö Hsk 1","Balders Hsk 2",null,null,":",null,"",null,null,null,null,null,{"$f":"CS75","v":"Tingsryd Hsc"},{"$f":"COUNT(CS77:CV173)/(2)","v":0},0,{"$f":"COUNTIF(CU77:CV173,5)","v":0},{"$f":"COUNTIF(CS77:CT173,5)","v":0},{"$f":"COUNTIF(CS77:CT173,\"<5\")","v":0},null,{"$f":"SUM(CS77:CT173)","v":0},null,{"$f":"SUM(CU77:CV173)","v":0},0,0,null,"-","-","-","-",null,"-","-","-","-",null,"-","-","-","-",null,"-","-","-","-",null,"-","-","-","-",null,"-","-","-","-",null,"-","-","-","-",null,"-","-","-","-",null,"-","-","-","-",null,"-","-","-","-",null,"-","-","-","-",null,"-","-","-","-",null,"-","-","-","-",null,"-","-","-","-"]
[null,82,null,null,"10:00:00",null,"Balders Hsk 3","Jämjö Hsk",null,null,":",null,"",null,null,null,null,null,null,null,null,null,null,null,null,null,null,null,null,null,null,"-","-","-","-",null,"-","-","-","-",null,"-","-","-","-",null,"-","-","-","-",null,"-","-","-","-",null,"-","-","-","-",null,"-","-","-","-",null,"-","-","-","-",null,"-","-","-","-",null,"-","-","-","-",null,"-","-","-","-",null,"-","-","-","-",null,"-","-","-","-",null,"-","-","-","-"]
[null,83,null,null,"10:00:00",null,"Vaxholm Hsk","Lanternan 1",null,null,":",null,null,null,null,null,null,null,null,null,null,null,null,null,null,null,null,null,null,null,null,"-","-","-","-",null,"-","-","-","-",null,"-","-","-","-",null,"-","-","-","-",null,"-","-","-","-",null,"-","-","-","-",null,"-","-","-","-",null,"-","-","-","-",null,"-","-","-","-",null,"-","-","-","-",null,"-","-","-","-",null,"-","-","-","-",null,"-","-","-","-",null,"-","-","-","-"]
[null,84,null,null,"10:00:00",null,"Sibbamåla","Viby Hsk",null,null,":",null,null,null,null,null,null,null,null,null,null,null,null,null,null,null,null,null,null,null,null,"-","-","-","-",null,"-","-","-","-",null,"-","-","-","-",null,"-","-","-","-",null,"-","-","-","-",null,"-","-","-","-",null,"-","-","-","-",null,"-","-","-","-",null,"-","-","-","-",null,"-","-","-","-",null,"-","-","-","-",null,"-","-","-","-",null,"-","-","-","-",null,"-","-","-","-"]
[null,85,null,"Nybro","12:00:00",1,"Carlskrona Hsc","Tingsryd Hsc",null,null,":",null,"",null,null,null,null,null,null,null,null,null,null,null,null,null,null,null,null,null,null,"-","-","-","-",null,"-","-","-","-",null,"-","-","-","-",null,"-","-","-","-",null,"-","-","-","-",null,"-","-","-","-",null,"-","-","-","-",null,"-","-","-","-",null,"-","-","-","-",null,"-","-","-","-",null,"-","-","-","-",null,"-","-","-","-",null,"-","-","-","-",null,"-","-","-","-"]
[null,86,null,null,"12:00:00",2,"Korpen Nybro","Dynapac Hsc",null,null,":",null,null,null,null,null,null,null,null,null,null,null,null,null,null,null,null,null,null,null,null,"-","-","-","-",null,"-","-","-","-",null,"-","-","-","-",null,"-","-","-","-",null,"-","-","-","-",null,"-","-","-","-",null,"-","-","-","-",null,"-","-","-","-",null,"-","-","-","-",null,"-","-","-","-",null,"-","-","-","-",null,"-","-","-","-",null,"-","-","-","-",null,"-","-","-","-"]
[null,87,null,"Länk","12:00:00",null,"Värends Hsk","Balders Hsk 2",null,null,":",null,"",null,null,null,null,null,null,null,null,null,null,null,null,null,null,null,null,null,null,"-","-","-","-",null,"-","-","-","-",null,"-","-","-","-",null,"-","-","-","-",null,"-","-","-","-",null,"-","-","-","-",null,"-","-","-","-",null,"-","-","-","-",null,"-","-","-","-",null,"-","-","-","-",null,"-","-","-","-",null,"-","-","-","-",null,"-","-","-","-",null,"-","-","-","-"]
[null,88,null,null,"12:00:00",null,"Balders Hsk 3","Växjö Hsk 1",null,null,":",null,null,null,null,null,null,null,null,null,null,null,null,null,null,null,null,null,null,null,null,"-","-","-","-",null,"-","-","-","-",null,"-","-","-","-",null,"-","-","-","-",null,"-","-","-","-",null,"-","-","-","-",null,"-","-","-","-",null,"-","-","-","-",null,"-","-","-","-",null,"-","-","-","-",null,"-","-","-","-",null,"-","-","-","-",null,"-","-","-","-",null,"-","-","-","-"]
[null,89,null,null,"12:00:00",null,"Jämjö Hsk","Vaxholm Hsk",null,null,":",null,null,null,null,null,null,null,null,null,null,null,null,null,null,null,null,null,null,null,null,"-","-","-","-",null,"-","-","-","-",null,"-","-","-","-",null,"-","-","-","-",null,"-","-","-","-",null,"-","-","-","-",null,"-","-","-","-",null,"-","-","-","-",null,"-","-","-","-",null,"-","-","-","-",null,"-","-","-","-",null,"-","-","-","-",null,"-","-","-","-",null,"-","-","-","-"]
[null,90,null,null,"12:00:00",null,"Lanternan 1","Viby Hsk",null,null,":",null,null,null,null,null,null,null,null,null,null,null,null,null,null,null,null,null,null,null,null,"-","-","-","-",null,"-","-","-","-",null,"-","-","-","-",null,"-","-","-","-",null,"-","-","-","-",null,"-","-","-","-",null,"-","-","-","-",null,"-","-","-","-",null,"-","-","-","-",null,"-","-","-","-",null,"-","-","-","-",null,"-","-","-","-",null,"-","-","-","-",null,"-","-","-","-"]
[null,91,null,null,"12:00:00",null,"Sibbamåla","Balders Hsk 1",null,null,":",null,null,null,null,null,null,null,null,null,null,null,null,null,null,null,null,null,null,null,null,"-","-","-","-",null,"-","-","-","-",null,"-","-","-","-",null,"-","-","-","-",null,"-","-","-","-",null,"-","-","-","-",null,"-","-","-","-",null,"-","-","-","-",null,"-","-","-","-",null,"-","-","-","-",null,"-","-","-","-",null,"-","-","-","-",null,"-","-","-","-",null,"-","-","-","-"]
[null,null,null,null,null,null,null,null,null,null,null,null,null,null,null,null,null,null,null,null,null,null,null,null,null,null,null,null,null,null,null,"-","-","-","-",null,"-","-","-","-",null,"-","-","-","-",null,"-","-","-","-",null,"-","-","-","-",null,"-","-","-","-",null,"-","-","-","-",null,"-","-","-","-",null,"-","-","-","-",null,"-","-","-","-",null,"-","-","-","-",null,"-","-","-","-",null,"-","-","-","-",null,"-","-","-","-"]
[null,null,null,null,null,null,null,null,null,null,null,null,null,null,null,null,null,null,null,null,null,null,null,null,null,null,null,null,null,null,null,"-","-","-","-",null,"-","-","-","-",null,"-","-","-","-",null,"-","-","-","-",null,"-","-","-","-",null,"-","-","-","-",null,"-","-","-","-",null,"-","-","-","-",null,"-","-","-","-",null,"-","-","-","-",null,"-","-","-","-",null,"-","-","-","-",null,"-","-","-","-",null,"-","-","-","-"]
[null,null,null,null,null,null,null,null,null,null,null,null,null,null,null,null,null,null,null,null,null,null,null,null,null,null,null,null,null,null,null,"-","-","-","-",null,"-","-","-","-",null,"-","-","-","-",null,"-","-","-","-",null,"-","-","-","-",null,"-","-","-","-",null,"-","-","-","-",null,"-","-","-","-",null,"-","-","-","-",null,"-","-","-","-",null,"-","-","-","-",null,"-","-","-","-",null,"-","-","-","-",null,"-","-","-","-"]
[null,null,null,null,null,null,null,null,null,null,null,null,null,null,null,null,null,null,null,null,null,null,null,null,null,null,null,null,null,null,null,"-","-","-","-",null,"-","-","-","-",null,"-","-","-","-",null,"-","-","-","-",null,"-","-","-","-",null,"-","-","-","-",null,"-","-","-","-",null,"-","-","-","-",null,"-","-","-","-",null,"-","-","-","-",null,"-","-","-","-",null,"-","-","-","-",null,"-","-","-","-",null,"-","-","-","-"]
[null,null,null,null,null,null,null,null,null,null,null,null,null,null,null,null,null,null,null,null,null,null,null,null,null,null,null,null,null,null,null,"-","-","-","-",null,"-","-","-","-",null,"-","-","-","-",null,"-","-","-","-",null,"-","-","-","-",null,"-","-","-","-",null,"-","-","-","-",null,"-","-","-","-",null,"-","-","-","-",null,"-","-","-","-",null,"-","-","-","-",null,"-","-","-","-",null,"-","-","-","-",null,"-","-","-","-"]
[null,null,null,null,null,null,null,null,null,null,null,null,null,null,null,null,null,null,null,null,null,null,null,null,null,null,null,null,null,null,null,"-","-","-","-",null,"-","-","-","-",null,"-","-","-","-",null,"-","-","-","-",null,"-","-","-","-",null,"-","-","-","-",null,"-","-","-","-",null,"-","-","-","-",null,"-","-","-","-",null,"-","-","-","-",null,"-","-","-","-",null,"-","-","-","-",null,"-","-","-","-",null,"-","-","-","-"]
[null,null,null,null,null,null,null,null,null,null,null,null,null,null,null,null,null,null,null,null,null,null,null,null,null,null,null,null,null,null,null,"-","-","-","-",null,"-","-","-","-",null,"-","-","-","-",null,"-","-","-","-",null,"-","-","-","-",null,"-","-","-","-",null,"-","-","-","-",null,"-","-","-","-",null,"-","-","-","-",null,"-","-","-","-",null,"-","-","-","-",null,"-","-","-","-",null,"-","-","-","-",null,"-","-","-","-"]
[null,null,null,null,null,null,null,null,null,null,null,null,null,null,null,null,null,null,null,null,null,null,null,null,null,null,null,null,null,null,null,"-","-","-","-",null,"-","-","-","-",null,"-","-","-","-",null,"-","-","-","-",null,"-","-","-","-",null,"-","-","-","-",null,"-","-","-","-",null,"-","-","-","-",null,"-","-","-","-",null,"-","-","-","-",null,"-","-","-","-",null,"-","-","-","-",null,"-","-","-","-",null,"-","-","-","-"]
[null,null,null,null,null,null,null,null,null,null,null,null,null,null,null,null,null,null,null,null,null,null,null,null,null,null,null,null,null,null,null,"-","-","-","-",null,"-","-","-","-",null,"-","-","-","-",null,"-","-","-","-",null,"-","-","-","-",null,"-","-","-","-",null,"-","-","-","-",null,"-","-","-","-",null,"-","-","-","-",null,"-","-","-","-",null,"-","-","-","-",null,"-","-","-","-",null,"-","-","-","-",null,"-","-","-","-"]
[null,null,null,null,null,null,null,null,null,null,null,null,null,null,null,null,null,null,null,null,null,null,null,null,null,null,null,null,null,null,null,"-","-","-","-",null,"-","-","-","-",null,"-","-","-","-",null,"-","-","-","-",null,"-","-","-","-",null,"-","-","-","-",null,"-","-","-","-",null,"-","-","-","-",null,"-","-","-","-",null,"-","-","-","-",null,"-","-","-","-",null,"-","-","-","-",null,"-","-","-","-",null,"-","-","-","-"]
[null,null,null,null,null,null,null,null,null,null,null,null,null,null,null,null,null,null,null,null,null,null,null,null,null,null,null,null,null,null,null,"-","-","-","-",null,"-","-","-","-",null,"-","-","-","-",null,"-","-","-","-",null,"-","-","-","-",null,"-","-","-","-",null,"-","-","-","-",null,"-","-","-","-",null,"-","-","-","-",null,"-","-","-","-",null,"-","-","-","-",null,"-","-","-","-",null,"-","-","-","-",null,"-","-","-","-"]
[null,null,null,null,null,null,null,null,null,null,null,null,null,null,null,null,null,null,null,null,null,null,null,null,null,null,null,null,null,null,null,"-","-","-","-",null,"-","-","-","-",null,"-","-","-","-",null,"-","-","-","-",null,"-","-","-","-",null,"-","-","-","-",null,"-","-","-","-",null,"-","-","-","-",null,"-","-","-","-",null,"-","-","-","-",null,"-","-","-","-",null,"-","-","-","-",null,"-","-","-","-",null,"-","-","-","-"]
[null,"OBS!!!!",null,null,null,null,null,null,null,null,null,null,null,null,null,null,null,null,null,null,null,null,null,null,null,null,null,null,null,null,null,"-","-","-","-",null,"-","-","-","-",null,"-","-","-","-",null,"-","-","-","-",null,"-","-","-","-",null,"-","-","-","-",null,"-","-","-","-",null,"-","-","-","-",null,"-","-","-","-",null,"-","-","-","-",null,"-","-","-","-",null,"-","-","-","-",null,"-","-","-","-",null,"-","-","-","-"]
[null,"Arrangör skickar in matchresultat via SMS till Tomas Lindahl direkt efter avslutade matcher ",null,null,null,null,null,null,null,null,null,null,null,null,null,null,null,null,null,null,null,null,null,null,null,null,null,null,null,null,null,"-","-","-","-",null,"-","-","-","-",null,"-","-","-","-",null,"-","-","-","-",null,"-","-","-","-",null,"-","-","-","-",null,"-","-","-","-",null,"-","-","-","-",null,"-","-","-","-",null,"-","-","-","-",null,"-","-","-","-",null,"-","-","-","-",null,"-","-","-","-",null,"-","-","-","-"]
[null,"Tel. 073-4004693 skriv matchnummer enligt spelprogram följt av resultatet i matchen.",null,null,null,null,null,null,null,null,null,null,null,null,null,null,null,null,null,null,null,null,null,null,null,null,null,null,null,null,null,"-","-","-","-",null,"-","-","-","-",null,"-","-","-","-",null,"-","-","-","-",null,"-","-","-","-",null,"-","-","-","-",null,"-","-","-","-",null,"-","-","-","-",null,"-","-","-","-",null,"-","-","-","-",null,"-","-","-","-",null,"-","-","-","-",null,"-","-","-","-",null,"-","-","-","-"]
[null,"Matchprotokollet skickas till Gert Karlsson via e-post:  gert.karlsson@svhkf.se ",null,null,null,null,null,null,null,null,null,null,null,null,null,null,null,null,null,null,null,null,null,null,null,null,null,null,null,null,null,"-","-","-","-",null,"-","-","-","-",null,"-","-","-","-",null,"-","-","-","-",null,"-","-","-","-",null,"-","-","-","-",null,"-","-","-","-",null,"-","-","-","-",null,"-","-","-","-",null,"-","-","-","-",null,"-","-","-","-",null,"-","-","-","-",null,"-","-","-","-",null,"-","-","-","-"]
[null,"för uppdatering av rankingtabell.",null,null,null,null,null,null,null,null,null,null,null,null,null,null,null,null,null,null,null,null,null,null,null,null,null,null,null,null,null,"-","-","-","-",null,"-","-","-","-",null,"-","-","-","-",null,"-","-","-","-",null,"-","-","-","-",null,"-","-","-","-",null,"-","-","-","-",null,"-","-","-","-",null,"-","-","-","-",null,"-","-","-","-",null,"-","-","-","-",null,"-","-","-","-",null,"-","-","-","-",null,"-","-","-","-"]
[null,null,null,null,null,null,null,null,null,null,null,null,null,null,null,null,null,null,null,null,null,null,null,null,null,null,null,null,null,null,null,"-","-","-","-",null,"-","-","-","-",null,"-","-","-","-",null,"-","-","-","-",null,"-","-","-","-",null,"-","-","-","-",null,"-","-","-","-",null,"-","-","-","-",null,"-","-","-","-",null,"-","-","-","-",null,"-","-","-","-",null,"-","-","-","-",null,"-","-","-","-",null,"-","-","-","-"]
[null,null,null,null,null,null,null,null,null,null,null,null,null,null,null,null,null,null,null,null,null,null,null,null,null,null,null,null,null,null,null,"-","-","-","-",null,"-","-","-","-",null,"-","-","-","-",null,"-","-","-","-",null,"-","-","-","-",null,"-","-","-","-",null,"-","-","-","-",null,"-","-","-","-",null,"-","-","-","-",null,"-","-","-","-",null,"-","-","-","-",null,"-","-","-","-",null,"-","-","-","-",null,"-","-","-","-"]
[null,null,null,null,null,null,null,null,null,null,null,null,null,null,null,null,null,null,null,null,null,null,null,null,null,null,null,null,null,null,null,"-","-","-","-",null,"-","-","-","-",null,"-","-","-","-",null,"-","-","-","-",null,"-","-","-","-",null,"-","-","-","-",null,"-","-","-","-",null,"-","-","-","-",null,"-","-","-","-",null,"-","-","-","-",null,"-","-","-","-",null,"-","-","-","-",null,"-","-","-","-",null,"-","-","-","-"]
[null,null,null,null,null,null,null,null,null,null,null,null,null,null,null,null,null,null,null,null,null,null,null,null,null,null,null,null,null,null,null,"-","-","-","-",null,"-","-","-","-",null,"-","-","-","-",null,"-","-","-","-",null,"-","-","-","-",null,"-","-","-","-",null,"-","-","-","-",null,"-","-","-","-",null,"-","-","-","-",null,"-","-","-","-",null,"-","-","-","-",null,"-","-","-","-",null,"-","-","-","-",null,"-","-","-","-"]
[null,null,null,null,null,null,null,null,null,null,null,null,null,null,null,null,null,null,null,null,null,null,null,null,null,null,null,null,null,null,null,"-","-","-","-",null,"-","-","-","-",null,"-","-","-","-",null,"-","-","-","-",null,"-","-","-","-",null,"-","-","-","-",null,"-","-","-","-",null,"-","-","-","-",null,"-","-","-","-",null,"-","-","-","-",null,"-","-","-","-",null,"-","-","-","-",null,"-","-","-","-",null,"-","-","-","-"]
[null,null,null,null,null,null,null,null,null,null,null,null,null,null,null,null,null,null,null,null,null,null,null,null,null,null,null,null,null,null,null,"-","-","-","-",null,"-","-","-","-",null,"-","-","-","-",null,"-","-","-","-",null,"-","-","-","-",null,"-","-","-","-",null,"-","-","-","-",null,"-","-","-","-",null,"-","-","-","-",null,"-","-","-","-",null,"-","-","-","-",null,"-","-","-","-",null,"-","-","-","-",null,"-","-","-","-"]
[null,null,null,null,null,null,null,null,null,null,null,null,null,null,null,null,null,null,null,null,null,null,null,null,null,null,null,null,null,null,null,"-","-","-","-",null,"-","-","-","-",null,"-","-","-","-",null,"-","-","-","-",null,"-","-","-","-",null,"-","-","-","-",null,"-","-","-","-",null,"-","-","-","-",null,"-","-","-","-",null,"-","-","-","-",null,"-","-","-","-",null,"-","-","-","-",null,"-","-","-","-",null,"-","-","-","-"]
[null,null,null,null,null,null,null,null,null,null,null,null,null,null,null,null,null,null,null,null,null,null,null,null,null,null,null,null,null,null,null,"-","-","-","-",null,"-","-","-","-",null,"-","-","-","-",null,"-","-","-","-",null,"-","-","-","-",null,"-","-","-","-",null,"-","-","-","-",null,"-","-","-","-",null,"-","-","-","-",null,"-","-","-","-",null,"-","-","-","-",null,"-","-","-","-",null,"-","-","-","-",null,"-","-","-","-"]
[null,null,null,null,null,null,null,null,null,null,null,null,null,null,null,null,null,null,null,null,null,null,null,null,null,null,null,null,null,null,null,"-","-","-","-",null,"-","-","-","-",null,"-","-","-","-",null,"-","-","-","-",null,"-","-","-","-",null,"-","-","-","-",null,"-","-","-","-",null,"-","-","-","-",null,"-","-","-","-",null,"-","-","-","-",null,"-","-","-","-",null,"-","-","-","-",null,"-","-","-","-",null,"-","-","-","-"]
[null,null,null,null,null,null,null,null,null,null,null,null,null,null,null,null,null,null,null,null,null,null,null,null,null,null,null,null,null,null,null,"-","-","-","-",null,"-","-","-","-",null,"-","-","-","-",null,"-","-","-","-",null,"-","-","-","-",null,"-","-","-","-",null,"-","-","-","-",null,"-","-","-","-",null,"-","-","-","-",null,"-","-","-","-",null,"-","-","-","-",null,"-","-","-","-",null,"-","-","-","-",null,"-","-","-","-"]
[null,null,null,null,null,null,null,null,null,null,null,null,null,null,null,null,null,null,null,null,null,null,null,null,null,null,null,null,null,null,null,"-","-","-","-",null,"-","-","-","-",null,"-","-","-","-",null,"-","-","-","-",null,"-","-","-","-",null,"-","-","-","-",null,"-","-","-","-",null,"-","-","-","-",null,"-","-","-","-",null,"-","-","-","-",null,"-","-","-","-",null,"-","-","-","-",null,"-","-","-","-",null,"-","-","-","-"]
[null,null,null,null,null,null,null,null,null,null,null,null,null,null,null,null,null,null,null,null,null,null,null,null,null,null,null,null,null,null,null,"-","-","-","-",null,"-","-","-","-",null,"-","-","-","-",null,"-","-","-","-",null,"-","-","-","-",null,"-","-","-","-",null,"-","-","-","-",null,"-","-","-","-",null,"-","-","-","-",null,"-","-","-","-",null,"-","-","-","-",null,"-","-","-","-",null,"-","-","-","-",null,"-","-","-","-"]
[null,null,null,null,null,null,null,null,null,null,null,null,null,null,null,null,null,null,null,null,null,null,null,null,null,null,null,null,null,null,null,"-","-","-","-",null,"-","-","-","-",null,"-","-","-","-",null,"-","-","-","-",null,"-","-","-","-",null,"-","-","-","-",null,"-","-","-","-",null,"-","-","-","-",null,"-","-","-","-",null,"-","-","-","-",null,"-","-","-","-",null,"-","-","-","-",null,"-","-","-","-",null,"-","-","-","-"]
[null,null,null,null,null,null,null,null,null,null,null,null,null,null,null,null,null,null,null,null,null,null,null,null,null,null,null,null,null,null,null,"-","-","-","-",null,"-","-","-","-",null,"-","-","-","-",null,"-","-","-","-",null,"-","-","-","-",null,"-","-","-","-",null,"-","-","-","-",null,"-","-","-","-",null,"-","-","-","-",null,"-","-","-","-",null,"-","-","-","-",null,"-","-","-","-",null,"-","-","-","-",null,"-","-","-","-"]
[null,null,null,null,null,null,null,null,null,null,null,null,null,null,null,null,null,null,null,null,null,null,null,null,null,null,null,null,null,null,null,"-","-","-","-",null,"-","-","-","-",null,"-","-","-","-",null,"-","-","-","-",null,"-","-","-","-",null,"-","-","-","-",null,"-","-","-","-",null,"-","-","-","-",null,"-","-","-","-",null,"-","-","-","-",null,"-","-","-","-",null,"-","-","-","-",null,"-","-","-","-",null,"-","-","-","-"]
[null,null,null,null,null,null,null,null,null,null,null,null,null,null,null,null,null,null,null,null,null,null,null,null,null,null,null,null,null,null,null,"-","-","-","-",null,"-","-","-","-",null,"-","-","-","-",null,"-","-","-","-",null,"-","-","-","-",null,"-","-","-","-",null,"-","-","-","-",null,"-","-","-","-",null,"-","-","-","-",null,"-","-","-","-",null,"-","-","-","-",null,"-","-","-","-",null,"-","-","-","-",null,"-","-","-","-"]
[null,null,null,null,null,null,null,null,null,null,null,null,null,null,null,null,null,null,null,null,null,null,null,null,null,null,null,null,null,null,null,"-","-","-","-",null,"-","-","-","-",null,"-","-","-","-",null,"-","-","-","-",null,"-","-","-","-",null,"-","-","-","-",null,"-","-","-","-",null,"-","-","-","-",null,"-","-","-","-",null,"-","-","-","-",null,"-","-","-","-",null,"-","-","-","-",null,"-","-","-","-",null,"-","-","-","-"]
[null,null,null,null,null,null,null,null,null,null,null,null,null,null,null,null,null,null,null,null,null,null,null,null,null,null,null,null,null,null,null,"-","-","-","-",null,"-","-","-","-",null,"-","-","-","-",null,"-","-","-","-",null,"-","-","-","-",null,"-","-","-","-",null,"-","-","-","-",null,"-","-","-","-",null,"-","-","-","-",null,"-","-","-","-",null,"-","-","-","-",null,"-","-","-","-",null,"-","-","-","-",null,"-","-","-","-"]
[null,null,null,null,null,null,null,null,null,null,null,null,null,null,null,null,null,null,null,null,null,null,null,null,null,null,null,null,null,null,null,"-","-","-","-",null,"-","-","-","-",null,"-","-","-","-",null,"-","-","-","-",null,"-","-","-","-",null,"-","-","-","-",null,"-","-","-","-",null,"-","-","-","-",null,"-","-","-","-",null,"-","-","-","-",null,"-","-","-","-",null,"-","-","-","-",null,"-","-","-","-",null,"-","-","-","-"]
[null,null,null,null,null,null,null,null,null,null,null,null,null,null,null,null,null,null,null,null,null,null,null,null,null,null,null,null,null,null,null,"-","-","-","-",null,"-","-","-","-",null,"-","-","-","-",null,"-","-","-","-",null,"-","-","-","-",null,"-","-","-","-",null,"-","-","-","-",null,"-","-","-","-",null,"-","-","-","-",null,"-","-","-","-",null,"-","-","-","-",null,"-","-","-","-",null,"-","-","-","-",null,"-","-","-","-"]
[null,null,null,null,null,null,null,null,null,null,null,null,null,null,null,null,null,null,null,null,null,null,null,null,null,null,null,null,null,null,null,"-","-","-","-",null,"-","-","-","-",null,"-","-","-","-",null,"-","-","-","-",null,"-","-","-","-",null,"-","-","-","-",null,"-","-","-","-",null,"-","-","-","-",null,"-","-","-","-",null,"-","-","-","-",null,"-","-","-","-",null,"-","-","-","-",null,"-","-","-","-",null,"-","-","-","-"]
[null,null,null,null,null,null,null,null,null,null,null,null,null,null,null,null,null,null,null,null,null,null,null,null,null,null,null,null,null,null,null,"-","-","-","-",null,"-","-","-","-",null,"-","-","-","-",null,"-","-","-","-",null,"-","-","-","-",null,"-","-","-","-",null,"-","-","-","-",null,"-","-","-","-",null,"-","-","-","-",null,"-","-","-","-",null,"-","-","-","-",null,"-","-","-","-",null,"-","-","-","-",null,"-","-","-","-"]
[null,null,null,null,null,null,null,null,null,null,null,null,null,null,null,null,null,null,null,null,null,null,null,null,null,null,null,null,null,null,null,"-","-","-","-",null,"-","-","-","-",null,"-","-","-","-",null,"-","-","-","-",null,"-","-","-","-",null,"-","-","-","-",null,"-","-","-","-",null,"-","-","-","-",null,"-","-","-","-",null,"-","-","-","-",null,"-","-","-","-",null,"-","-","-","-",null,"-","-","-","-",null,"-","-","-","-"]
[null,null,null,null,null,null,null,null,null,null,null,null,null,null,null,null,null,null,null,null,null,null,null,null,null,null,null,null,null,null,null,"-","-","-","-",null,"-","-","-","-",null,"-","-","-","-",null,"-","-","-","-",null,"-","-","-","-",null,"-","-","-","-",null,"-","-","-","-",null,"-","-","-","-",null,"-","-","-","-",null,"-","-","-","-",null,"-","-","-","-",null,"-","-","-","-",null,"-","-","-","-",null,"-","-","-","-"]
[null,null,null,null,null,null,null,null,null,null,null,null,null,null,null,null,null,null,null,null,null,null,null,null,null,null,null,null,null,null,null,{"$f":"IF($J69=\"\",\"-\",IF($G69=\"Sibbamåla\",$J69,\"-\"))","v":"-"},{"$f":"IF($L69=\"\",\"-\",IF($H69=\"Sibbamåla\",$L69,\"-\"))","v":"-"},{"$f":"IF($J69=\"\",\"-\",IF($H69=\"Sibbamåla\",$J69,\"-\"))","v":"-"},{"$f":"IF($L69=\"\",\"-\",IF($G69=\"Sibbamåla\",$L69,\"-\"))","v":"-"},null,{"$f":"IF($J69=\"\",\"-\",IF($G69=\"balders hsk 2\",$J69,\"-\"))","v":"-"},{"$f":"IF($L69=\"\",\"-\",IF($H69=\"balders hsk 2\",$L69,\"-\"))","v":"-"},{"$f":"IF($J69=\"\",\"-\",IF($H69=\"balders hsk 2\",$J69,\"-\"))","v":"-"},{"$f":"IF($L69=\"\",\"-\",IF($G69=\"balders hsk 2\",$L69,\"-\"))","v":"-"},null,{"$f":"IF($J69=\"\",\"-\",IF($G69=\"dynapac hsc\",$J69,\"-\"))","v":"-"},{"$f":"IF($L69=\"\",\"-\",IF($H69=\"dynapac hsc\",$L69,\"-\"))","v":"-"},{"$f":"IF($J69=\"\",\"-\",IF($H69=\"dynapac hsc\",$J69,\"-\"))","v":"-"},{"$f":"IF($L69=\"\",\"-\",IF($G69=\"dynapac hsc\",$L69,\"-\"))","v":"-"},null,{"$f":"IF($J69=\"\",\"-\",IF($G69=\"växjö hsk 1\",$J69,\"-\"))","v":"-"},{"$f":"IF($L69=\"\",\"-\",IF($H69=\"växjö hsk 1\",$L69,\"-\"))","v":"-"},{"$f":"IF($J69=\"\",\"-\",IF($H69=\"växjö hsk 1\",$J69,\"-\"))","v":"-"},{"$f":"IF($L69=\"\",\"-\",IF($G69=\"växjö hsk 1\",$L69,\"-\"))","v":"-"},null,{"$f":"IF($J69=\"\",\"-\",IF($G69=\"carlskrona hsc\",$J69,\"-\"))","v":"-"},{"$f":"IF($L69=\"\",\"-\",IF($H69=\"carlskrona hsc\",$L69,\"-\"))","v":"-"},{"$f":"IF($J69=\"\",\"-\",IF($H69=\"carlskrona hsc\",$J69,\"-\"))","v":"-"},{"$f":"IF($L69=\"\",\"-\",IF($G69=\"carlskrona hsc\",$L69,\"-\"))","v":"-"},null,{"$f":"IF($J69=\"\",\"-\",IF($G69=\"vaxholm hsk\",$J69,\"-\"))","v":"-"},{"$f":"IF($L69=\"\",\"-\",IF($H69=\"vaxholm hsk\",$L69,\"-\"))","v":"-"},{"$f":"IF($J69=\"\",\"-\",IF($H69=\"vaxholm hsk\",$J69,\"-\"))","v":"-"},{"$f":"IF($L69=\"\",\"-\",IF($G69=\"vaxholm hsk\",$L69,\"-\"))","v":"-"},null,{"$f":"IF($J69=\"\",\"-\",IF($G69=\"korpen nybro\",$J69,\"-\"))","v":"-"},{"$f":"IF($L69=\"\",\"-\",IF($H69=\"korpen nybro\",$L69,\"-\"))","v":"-"},{"$f":"IF($J69=\"\",\"-\",IF($H69=\"korpen nybro\",$J69,\"-\"))","v":"-"},{"$f":"IF($L69=\"\",\"-\",IF($G69=\"korpen nybro\",$L69,\"-\"))","v":"-"},null,{"$f":"IF($J69=\"\",\"-\",IF($G69=\"balders hsk 1\",$J69,\"-\"))","v":"-"},{"$f":"IF($L69=\"\",\"-\",IF($H69=\"balders hsk 1\",$L69,\"-\"))","v":"-"},{"$f":"IF($J69=\"\",\"-\",IF($H69=\"balders hsk 1\",$J69,\"-\"))","v":"-"},{"$f":"IF($L69=\"\",\"-\",IF($G69=\"balders hsk 1\",$L69,\"-\"))","v":"-"},null,{"$f":"IF($J69=\"\",\"-\",IF($G69=\"lanternan 1\",$J69,\"-\"))","v":"-"},{"$f":"IF($L69=\"\",\"-\",IF($H69=\"lanternan 1\",$L69,\"-\"))","v":"-"},{"$f":"IF($J69=\"\",\"-\",IF($H69=\"lanternan 1\",$J69,\"-\"))","v":"-"},{"$f":"IF($L69=\"\",\"-\",IF($G69=\"lanternan 1\",$L69,\"-\"))","v":"-"},null,{"$f":"IF($J69=\"\",\"-\",IF($G69=\"viby hsk\",$J69,\"-\"))","v":"-"},{"$f":"IF($L69=\"\",\"-\",IF($H69=\"viby hsk\",$L69,\"-\"))","v":"-"},{"$f":"IF($J69=\"\",\"-\",IF($H69=\"viby hsk\",$J69,\"-\"))","v":"-"},{"$f":"IF($L69=\"\",\"-\",IF($G69=\"viby hsk\",$L69,\"-\"))","v":"-"},null,{"$f":"IF($J69=\"\",\"-\",IF($G69=\"jämjö hsk\",$J69,\"-\"))","v":"-"},{"$f":"IF($L69=\"\",\"-\",IF($H69=\"jämjö hsk\",$L69,\"-\"))","v":"-"},{"$f":"IF($J69=\"\",\"-\",IF($H69=\"jämjö hsk\",$J69,\"-\"))","v":"-"},{"$f":"IF($L69=\"\",\"-\",IF($G69=\"jämjö hsk\",$L69,\"-\"))","v":"-"},null,{"$f":"IF($J69=\"\",\"-\",IF($G69=\"värends hsk\",$J69,\"-\"))","v":"-"},{"$f":"IF($L69=\"\",\"-\",IF($H69=\"värends hsk\",$L69,\"-\"))","v":"-"},{"$f":"IF($J69=\"\",\"-\",IF($H69=\"värends hsk\",$J69,\"-\"))","v":"-"},{"$f":"IF($L69=\"\",\"-\",IF($G69=\"värends hsk\",$L69,\"-\"))","v":"-"},null,{"$f":"IF($J69=\"\",\"-\",IF($G69=\"balders hsk 3\",$J69,\"-\"))","v":"-"},{"$f":"IF($L69=\"\",\"-\",IF($H69=\"balders hsk 3\",$L69,\"-\"))","v":"-"},{"$f":"IF($J69=\"\",\"-\",IF($H69=\"balders hsk 3\",$J69,\"-\"))","v":"-"},{"$f":"IF($L69=\"\",\"-\",IF($G69=\"balders hsk 3\",$L69,\"-\"))","v":"-"},null,{"$f":"IF($J69=\"\",\"-\",IF($G69=\"tingsryd hsc\",$J69,\"-\"))","v":"-"},{"$f":"IF($L69=\"\",\"-\",IF($H69=\"tingsryd hsc\",$L69,\"-\"))","v":"-"},{"$f":"IF($J69=\"\",\"-\",IF($H69=\"tingsryd hsc\",$J69,\"-\"))","v":"-"},{"$f":"IF($L69=\"\",\"-\",IF($G69=\"tingsryd hsc\",$L69,\"-\"))","v":"-"}]
[null,null,null,null,null,null,null,null,null,null,null,null,null,null,null,null,null,null,null,null,null,null,null,null,null,null,null,null,null,null,null,"-","-","-","-",null,"-","-","-","-",null,"-","-","-","-",null,"-","-","-","-",null,"-","-","-","-",null,"-","-","-","-",null,"-","-","-","-",null,"-","-","-","-",null,"-","-","-","-",null,"-","-","-","-",null,"-","-","-","-",null,"-","-","-","-",null,"-","-","-","-",null,"-","-","-","-"]
[null,null,null,null,null,null,null,null,null,null,null,null,null,null,null,null,null,null,null,null,null,null,null,null,null,null,null,null,null,null,null,"-","-","-","-",null,"-","-","-","-",null,"-","-","-","-",null,"-","-","-","-",null,"-","-","-","-",null,"-","-","-","-",null,"-","-","-","-",null,"-","-","-","-",null,"-","-","-","-",null,"-","-","-","-",null,"-","-","-","-",null,"-","-","-","-",null,"-","-","-","-",null,"-","-","-","-"]
[null,null,null,null,null,null,null,null,null,null,null,null,null,null,null,null,null,null,null,null,null,null,null,null,null,null,null,null,null,null,null,"-","-","-","-",null,"-","-","-","-",null,"-","-","-","-",null,"-","-","-","-",null,"-","-","-","-",null,"-","-","-","-",null,"-","-","-","-",null,"-","-","-","-",null,"-","-","-","-",null,"-","-","-","-",null,"-","-","-","-",null,"-","-","-","-",null,"-","-","-","-",null,"-","-","-","-"]
[null,null,null,null,null,null,null,null,null,null,null,null,null,null,null,null,null,null,null,null,null,null,null,null,null,null,null,null,null,null,null,"-","-","-","-",null,"-","-","-","-",null,"-","-","-","-",null,"-","-","-","-",null,"-","-","-","-",null,"-","-","-","-",null,"-","-","-","-",null,"-","-","-","-",null,"-","-","-","-",null,"-","-","-","-",null,"-","-","-","-",null,"-","-","-","-",null,"-","-","-","-",null,"-","-","-","-"]
[null,null,null,null,null,null,null,null,null,null,null,null,null,null,null,null,null,null,null,null,null,null,null,null,null,null,null,null,null,null,null,"-","-","-","-",null,"-","-","-","-",null,"-","-","-","-",null,"-","-","-","-",null,"-","-","-","-",null,"-","-","-","-",null,"-","-","-","-",null,"-","-","-","-",null,"-","-","-","-",null,"-","-","-","-",null,"-","-","-","-",null,"-","-","-","-",null,"-","-","-","-",null,"-","-","-","-"]
[null,null,null,null,null,null,null,null,null,null,null,null,null,null,null,null,null,null,null,null,null,null,null,null,null,null,null,null,null,null,null,"-","-","-","-",null,"-","-","-","-",null,"-","-","-","-",null,"-","-","-","-",null,"-","-","-","-",null,"-","-","-","-",null,"-","-","-","-",null,"-","-","-","-",null,"-","-","-","-",null,"-","-","-","-",null,"-","-","-","-",null,"-","-","-","-",null,"-","-","-","-",null,"-","-","-","-"]
[null,null,null,null,null,null,null,null,null,null,null,null,null,null,null,null,null,null,null,null,null,null,null,null,null,null,null,null,null,null,null,"-","-","-","-",null,"-","-","-","-",null,"-","-","-","-",null,"-","-","-","-",null,"-","-","-","-",null,"-","-","-","-",null,"-","-","-","-",null,"-","-","-","-",null,"-","-","-","-",null,"-","-","-","-",null,"-","-","-","-",null,"-","-","-","-",null,"-","-","-","-",null,"-","-","-","-"]
[null,null,null,null,null,null,null,null,null,null,null,null,null,null,null,null,null,null,null,null,null,null,null,null,null,null,null,null,null,null,null,"-","-","-","-",null,"-","-","-","-",null,"-","-","-","-",null,"-","-","-","-",null,"-","-","-","-",null,"-","-","-","-",null,"-","-","-","-",null,"-","-","-","-",null,"-","-","-","-",null,"-","-","-","-",null,"-","-","-","-",null,"-","-","-","-",null,"-","-","-","-",null,"-","-","-","-"]
[null,null,null,null,null,null,null,null,null,null,null,null,null,null,null,null,null,null,null,null,null,null,null,null,null,null,null,null,null,null,null,"-","-","-","-",null,"-","-","-","-",null,"-","-","-","-",null,"-","-","-","-",null,"-","-","-","-",null,"-","-","-","-",null,"-","-","-","-",null,"-","-","-","-",null,"-","-","-","-",null,"-","-","-","-",null,"-","-","-","-",null,"-","-","-","-",null,"-","-","-","-",null,"-","-","-","-"]
[null,null,null,null,null,null,null,null,null,null,null,null,null,null,null,null,null,null,null,null,null,null,null,null,null,null,null,null,null,null,null,"-","-","-","-",null,"-","-","-","-",null,"-","-","-","-",null,"-","-","-","-",null,"-","-","-","-",null,"-","-","-","-",null,"-","-","-","-",null,"-","-","-","-",null,"-","-","-","-",null,"-","-","-","-",null,"-","-","-","-",null,"-","-","-","-",null,"-","-","-","-",null,"-","-","-","-"]
[null,null,null,null,null,null,null,null,null,null,null,null,null,null,null,null,null,null,null,null,null,null,null,null,null,null,null,null,null,null,null,"-","-","-","-",null,"-","-","-","-",null,"-","-","-","-",null,"-","-","-","-",null,"-","-","-","-",null,"-","-","-","-",null,"-","-","-","-",null,"-","-","-","-",null,"-","-","-","-",null,"-","-","-","-",null,"-","-","-","-",null,"-","-","-","-",null,"-","-","-","-",null,"-","-","-","-"]
[null,null,null,null,null,null,null,null,null,null,null,null,null,null,null,null,null,null,null,null,null,null,null,null,null,null,null,null,null,null,null,"-","-","-","-",null,"-","-","-","-",null,"-","-","-","-",null,"-","-","-","-",null,"-","-","-","-",null,"-","-","-","-",null,"-","-","-","-",null,"-","-","-","-",null,"-","-","-","-",null,"-","-","-","-",null,"-","-","-","-",null,"-","-","-","-",null,"-","-","-","-",null,"-","-","-","-"]
[null,null,null,null,null,null,null,null,null,null,null,null,null,null,null,null,null,null,null,null,null,null,null,null,null,null,null,null,null,null,null,"-","-","-","-",null,"-","-","-","-",null,"-","-","-","-",null,"-","-","-","-",null,"-","-","-","-",null,"-","-","-","-",null,"-","-","-","-",null,"-","-","-","-",null,"-","-","-","-",null,"-","-","-","-",null,"-","-","-","-",null,"-","-","-","-",null,"-","-","-","-",null,"-","-","-","-"]
[null,null,null,null,null,null,null,null,null,null,null,null,null,null,null,null,null,null,null,null,null,null,null,null,null,null,null,null,null,null,null,"-","-","-","-",null,"-","-","-","-",null,"-","-","-","-",null,"-","-","-","-",null,"-","-","-","-",null,"-","-","-","-",null,"-","-","-","-",null,"-","-","-","-",null,"-","-","-","-",null,"-","-","-","-",null,"-","-","-","-",null,"-","-","-","-",null,"-","-","-","-",null,"-","-","-","-"]
[null,null,null,null,null,null,null,null,null,null,null,null,null,null,null,null,null,null,null,null,null,null,null,null,null,null,null,null,null,null,null,"-","-","-","-",null,"-","-","-","-",null,"-","-","-","-",null,"-","-","-","-",null,"-","-","-","-",null,"-","-","-","-",null,"-","-","-","-",null,"-","-","-","-",null,"-","-","-","-",null,"-","-","-","-",null,"-","-","-","-",null,"-","-","-","-",null,"-","-","-","-",null,"-","-","-","-"]
[null,null,null,null,null,null,null,null,null,null,null,null,null,null,null,null,null,null,null,null,null,null,null,null,null,null,null,null,null,null,null,"-","-","-","-",null,"-","-","-","-",null,"-","-","-","-",null,"-","-","-","-",null,"-","-","-","-",null,"-","-","-","-",null,"-","-","-","-",null,"-","-","-","-",null,"-","-","-","-",null,"-","-","-","-",null,"-","-","-","-",null,"-","-","-","-",null,"-","-","-","-",null,"-","-","-","-"]
[null,null,null,null,null,null,null,null,null,null,null,null,null,null,null,null,null,null,null,null,null,null,null,null,null,null,null,null,null,null,null,"-","-","-","-",null,"-","-","-","-",null,"-","-","-","-",null,"-","-","-","-",null,"-","-","-","-",null,"-","-","-","-",null,"-","-","-","-",null,"-","-","-","-",null,"-","-","-","-",null,"-","-","-","-",null,"-","-","-","-",null,"-","-","-","-",null,"-","-","-","-",null,"-","-","-","-"]
[null,null,null,null,null,null,null,null,null,null,null,null,null,null,null,null,null,null,null,null,null,null,null,null,null,null,null,null,null,null,null,{"$f":"IF($J87=\"\",\"-\",IF($G87=\"Sibbamåla\",$J87,\"-\"))","v":"-"},{"$f":"IF($L87=\"\",\"-\",IF($H87=\"Sibbamåla\",$L87,\"-\"))","v":"-"},{"$f":"IF($J87=\"\",\"-\",IF($H87=\"Sibbamåla\",$J87,\"-\"))","v":"-"},{"$f":"IF($L87=\"\",\"-\",IF($G87=\"Sibbamåla\",$L87,\"-\"))","v":"-"},null,{"$f":"IF($J87=\"\",\"-\",IF($G87=\"balders hsk 2\",$J87,\"-\"))","v":"-"},{"$f":"IF($L87=\"\",\"-\",IF($H87=\"balders hsk 2\",$L87,\"-\"))","v":"-"},{"$f":"IF($J87=\"\",\"-\",IF($H87=\"balders hsk 2\",$J87,\"-\"))","v":"-"},{"$f":"IF($L87=\"\",\"-\",IF($G87=\"balders hsk 2\",$L87,\"-\"))","v":"-"},null,{"$f":"IF($J87=\"\",\"-\",IF($G87=\"dynapac hsc\",$J87,\"-\"))","v":"-"},{"$f":"IF($L87=\"\",\"-\",IF($H87=\"dynapac hsc\",$L87,\"-\"))","v":"-"},{"$f":"IF($J87=\"\",\"-\",IF($H87=\"dynapac hsc\",$J87,\"-\"))","v":"-"},{"$f":"IF($L87=\"\",\"-\",IF($G87=\"dynapac hsc\",$L87,\"-\"))","v":"-"},null,{"$f":"IF($J87=\"\",\"-\",IF($G87=\"växjö hsk 1\",$J87,\"-\"))","v":"-"},{"$f":"IF($L87=\"\",\"-\",IF($H87=\"växjö hsk 1\",$L87,\"-\"))","v":"-"},{"$f":"IF($J87=\"\",\"-\",IF($H87=\"växjö hsk 1\",$J87,\"-\"))","v":"-"},{"$f":"IF($L87=\"\",\"-\",IF($G87=\"växjö hsk 1\",$L87,\"-\"))","v":"-"},null,{"$f":"IF($J87=\"\",\"-\",IF($G87=\"carlskrona hsc\",$J87,\"-\"))","v":"-"},{"$f":"IF($L87=\"\",\"-\",IF($H87=\"carlskrona hsc\",$L87,\"-\"))","v":"-"},{"$f":"IF($J87=\"\",\"-\",IF($H87=\"carlskrona hsc\",$J87,\"-\"))","v":"-"},{"$f":"IF($L87=\"\",\"-\",IF($G87=\"carlskrona hsc\",$L87,\"-\"))","v":"-"},null,{"$f":"IF($J87=\"\",\"-\",IF($G87=\"vaxholm hsk\",$J87,\"-\"))","v":"-"},{"$f":"IF($L87=\"\",\"-\",IF($H87=\"vaxholm hsk\",$L87,\"-\"))","v":"-"},{"$f":"IF($J87=\"\",\"-\",IF($H87=\"vaxholm hsk\",$J87,\"-\"))","v":"-"},{"$f":"IF($L87=\"\",\"-\",IF($G87=\"vaxholm hsk\",$L87,\"-\"))","v":"-"},null,{"$f":"IF($J87=\"\",\"-\",IF($G87=\"korpen nybro\",$J87,\"-\"))","v":"-"},{"$f":"IF($L87=\"\",\"-\",IF($H87=\"korpen nybro\",$L87,\"-\"))","v":"-"},{"$f":"IF($J87=\"\",\"-\",IF($H87=\"korpen nybro\",$J87,\"-\"))","v":"-"},{"$f":"IF($L87=\"\",\"-\",IF($G87=\"korpen nybro\",$L87,\"-\"))","v":"-"},null,{"$f":"IF($J87=\"\",\"-\",IF($G87=\"balders hsk 1\",$J87,\"-\"))","v":"-"},{"$f":"IF($L87=\"\",\"-\",IF($H87=\"balders hsk 1\",$L87,\"-\"))","v":"-"},{"$f":"IF($J87=\"\",\"-\",IF($H87=\"balders hsk 1\",$J87,\"-\"))","v":"-"},{"$f":"IF($L87=\"\",\"-\",IF($G87=\"balders hsk 1\",$L87,\"-\"))","v":"-"},null,{"$f":"IF($J87=\"\",\"-\",IF($G87=\"lanternan 1\",$J87,\"-\"))","v":"-"},{"$f":"IF($L87=\"\",\"-\",IF($H87=\"lanternan 1\",$L87,\"-\"))","v":"-"},{"$f":"IF($J87=\"\",\"-\",IF($H87=\"lanternan 1\",$J87,\"-\"))","v":"-"},{"$f":"IF($L87=\"\",\"-\",IF($G87=\"lanternan 1\",$L87,\"-\"))","v":"-"},null,{"$f":"IF($J87=\"\",\"-\",IF($G87=\"viby hsk\",$J87,\"-\"))","v":"-"},{"$f":"IF($L87=\"\",\"-\",IF($H87=\"viby hsk\",$L87,\"-\"))","v":"-"},{"$f":"IF($J87=\"\",\"-\",IF($H87=\"viby hsk\",$J87,\"-\"))","v":"-"},{"$f":"IF($L87=\"\",\"-\",IF($G87=\"viby hsk\",$L87,\"-\"))","v":"-"},null,{"$f":"IF($J87=\"\",\"-\",IF($G87=\"jämjö hsk\",$J87,\"-\"))","v":"-"},{"$f":"IF($L87=\"\",\"-\",IF($H87=\"jämjö hsk\",$L87,\"-\"))","v":"-"},{"$f":"IF($J87=\"\",\"-\",IF($H87=\"jämjö hsk\",$J87,\"-\"))","v":"-"},{"$f":"IF($L87=\"\",\"-\",IF($G87=\"jämjö hsk\",$L87,\"-\"))","v":"-"},null,{"$f":"IF($J87=\"\",\"-\",IF($G87=\"värends hsk\",$J87,\"-\"))","v":"-"},{"$f":"IF($L87=\"\",\"-\",IF($H87=\"värends hsk\",$L87,\"-\"))","v":"-"},{"$f":"IF($J87=\"\",\"-\",IF($H87=\"värends hsk\",$J87,\"-\"))","v":"-"},{"$f":"IF($L87=\"\",\"-\",IF($G87=\"värends hsk\",$L87,\"-\"))","v":"-"},null,{"$f":"IF($J87=\"\",\"-\",IF($G87=\"balders hsk 3\",$J87,\"-\"))","v":"-"},{"$f":"IF($L87=\"\",\"-\",IF($H87=\"balders hsk 3\",$L87,\"-\"))","v":"-"},{"$f":"IF($J87=\"\",\"-\",IF($H87=\"balders hsk 3\",$J87,\"-\"))","v":"-"},{"$f":"IF($L87=\"\",\"-\",IF($G87=\"balders hsk 3\",$L87,\"-\"))","v":"-"},null,{"$f":"IF($J87=\"\",\"-\",IF($G87=\"tingsryd hsc\",$J87,\"-\"))","v":"-"},{"$f":"IF($L87=\"\",\"-\",IF($H87=\"tingsryd hsc\",$L87,\"-\"))","v":"-"},{"$f":"IF($J87=\"\",\"-\",IF($H87=\"tingsryd hsc\",$J87,\"-\"))","v":"-"},{"$f":"IF($L87=\"\",\"-\",IF($G87=\"tingsryd hsc\",$L87,\"-\"))","v":"-"}]
[null,null,null,null,null,null,null,null,null,null,null,null,null,null,null,null,null,null,null,null,null,null,null,null,null,null,null,null,null,null,null,{"$f":"IF($J88=\"\",\"-\",IF($G88=\"Sibbamåla\",$J88,\"-\"))","v":"-"},{"$f":"IF($L88=\"\",\"-\",IF($H88=\"Sibbamåla\",$L88,\"-\"))","v":"-"},{"$f":"IF($J88=\"\",\"-\",IF($H88=\"Sibbamåla\",$J88,\"-\"))","v":"-"},{"$f":"IF($L88=\"\",\"-\",IF($G88=\"Sibbamåla\",$L88,\"-\"))","v":"-"},null,{"$f":"IF($J88=\"\",\"-\",IF($G88=\"balders hsk 2\",$J88,\"-\"))","v":"-"},{"$f":"IF($L88=\"\",\"-\",IF($H88=\"balders hsk 2\",$L88,\"-\"))","v":"-"},{"$f":"IF($J88=\"\",\"-\",IF($H88=\"balders hsk 2\",$J88,\"-\"))","v":"-"},{"$f":"IF($L88=\"\",\"-\",IF($G88=\"balders hsk 2\",$L88,\"-\"))","v":"-"},null,{"$f":"IF($J88=\"\",\"-\",IF($G88=\"dynapac hsc\",$J88,\"-\"))","v":"-"},{"$f":"IF($L88=\"\",\"-\",IF($H88=\"dynapac hsc\",$L88,\"-\"))","v":"-"},{"$f":"IF($J88=\"\",\"-\",IF($H88=\"dynapac hsc\",$J88,\"-\"))","v":"-"},{"$f":"IF($L88=\"\",\"-\",IF($G88=\"dynapac hsc\",$L88,\"-\"))","v":"-"},null,{"$f":"IF($J88=\"\",\"-\",IF($G88=\"växjö hsk 1\",$J88,\"-\"))","v":"-"},{"$f":"IF($L88=\"\",\"-\",IF($H88=\"växjö hsk 1\",$L88,\"-\"))","v":"-"},{"$f":"IF($J88=\"\",\"-\",IF($H88=\"växjö hsk 1\",$J88,\"-\"))","v":"-"},{"$f":"IF($L88=\"\",\"-\",IF($G88=\"växjö hsk 1\",$L88,\"-\"))","v":"-"},null,{"$f":"IF($J88=\"\",\"-\",IF($G88=\"carlskrona hsc\",$J88,\"-\"))","v":"-"},{"$f":"IF($L88=\"\",\"-\",IF($H88=\"carlskrona hsc\",$L88,\"-\"))","v":"-"},{"$f":"IF($J88=\"\",\"-\",IF($H88=\"carlskrona hsc\",$J88,\"-\"))","v":"-"},{"$f":"IF($L88=\"\",\"-\",IF($G88=\"carlskrona hsc\",$L88,\"-\"))","v":"-"},null,{"$f":"IF($J88=\"\",\"-\",IF($G88=\"vaxholm hsk\",$J88,\"-\"))","v":"-"},{"$f":"IF($L88=\"\",\"-\",IF($H88=\"vaxholm hsk\",$L88,\"-\"))","v":"-"},{"$f":"IF($J88=\"\",\"-\",IF($H88=\"vaxholm hsk\",$J88,\"-\"))","v":"-"},{"$f":"IF($L88=\"\",\"-\",IF($G88=\"vaxholm hsk\",$L88,\"-\"))","v":"-"},null,{"$f":"IF($J88=\"\",\"-\",IF($G88=\"korpen nybro\",$J88,\"-\"))","v":"-"},{"$f":"IF($L88=\"\",\"-\",IF($H88=\"korpen nybro\",$L88,\"-\"))","v":"-"},{"$f":"IF($J88=\"\",\"-\",IF($H88=\"korpen nybro\",$J88,\"-\"))","v":"-"},{"$f":"IF($L88=\"\",\"-\",IF($G88=\"korpen nybro\",$L88,\"-\"))","v":"-"},null,{"$f":"IF($J88=\"\",\"-\",IF($G88=\"balders hsk 1\",$J88,\"-\"))","v":"-"},{"$f":"IF($L88=\"\",\"-\",IF($H88=\"balders hsk 1\",$L88,\"-\"))","v":"-"},{"$f":"IF($J88=\"\",\"-\",IF($H88=\"balders hsk 1\",$J88,\"-\"))","v":"-"},{"$f":"IF($L88=\"\",\"-\",IF($G88=\"balders hsk 1\",$L88,\"-\"))","v":"-"},null,{"$f":"IF($J88=\"\",\"-\",IF($G88=\"lanternan 1\",$J88,\"-\"))","v":"-"},{"$f":"IF($L88=\"\",\"-\",IF($H88=\"lanternan 1\",$L88,\"-\"))","v":"-"},{"$f":"IF($J88=\"\",\"-\",IF($H88=\"lanternan 1\",$J88,\"-\"))","v":"-"},{"$f":"IF($L88=\"\",\"-\",IF($G88=\"lanternan 1\",$L88,\"-\"))","v":"-"},null,{"$f":"IF($J88=\"\",\"-\",IF($G88=\"viby hsk\",$J88,\"-\"))","v":"-"},{"$f":"IF($L88=\"\",\"-\",IF($H88=\"viby hsk\",$L88,\"-\"))","v":"-"},{"$f":"IF($J88=\"\",\"-\",IF($H88=\"viby hsk\",$J88,\"-\"))","v":"-"},{"$f":"IF($L88=\"\",\"-\",IF($G88=\"viby hsk\",$L88,\"-\"))","v":"-"},null,{"$f":"IF($J88=\"\",\"-\",IF($G88=\"jämjö hsk\",$J88,\"-\"))","v":"-"},{"$f":"IF($L88=\"\",\"-\",IF($H88=\"jämjö hsk\",$L88,\"-\"))","v":"-"},{"$f":"IF($J88=\"\",\"-\",IF($H88=\"jämjö hsk\",$J88,\"-\"))","v":"-"},{"$f":"IF($L88=\"\",\"-\",IF($G88=\"jämjö hsk\",$L88,\"-\"))","v":"-"},null,{"$f":"IF($J88=\"\",\"-\",IF($G88=\"värends hsk\",$J88,\"-\"))","v":"-"},{"$f":"IF($L88=\"\",\"-\",IF($H88=\"värends hsk\",$L88,\"-\"))","v":"-"},{"$f":"IF($J88=\"\",\"-\",IF($H88=\"värends hsk\",$J88,\"-\"))","v":"-"},{"$f":"IF($L88=\"\",\"-\",IF($G88=\"värends hsk\",$L88,\"-\"))","v":"-"},null,{"$f":"IF($J88=\"\",\"-\",IF($G88=\"balders hsk 3\",$J88,\"-\"))","v":"-"},{"$f":"IF($L88=\"\",\"-\",IF($H88=\"balders hsk 3\",$L88,\"-\"))","v":"-"},{"$f":"IF($J88=\"\",\"-\",IF($H88=\"balders hsk 3\",$J88,\"-\"))","v":"-"},{"$f":"IF($L88=\"\",\"-\",IF($G88=\"balders hsk 3\",$L88,\"-\"))","v":"-"},null,{"$f":"IF($J88=\"\",\"-\",IF($G88=\"tingsryd hsc\",$J88,\"-\"))","v":"-"},{"$f":"IF($L88=\"\",\"-\",IF($H88=\"tingsryd hsc\",$L88,\"-\"))","v":"-"},{"$f":"IF($J88=\"\",\"-\",IF($H88=\"tingsryd hsc\",$J88,\"-\"))","v":"-"},{"$f":"IF($L88=\"\",\"-\",IF($G88=\"tingsryd hsc\",$L88,\"-\"))","v":"-"}]
[null,null,null,null,null,null,null,null,null,null,null,null,null,null,null,null,null,null,null,null,null,null,null,null,null,null,null,null,null,null,null,"-","-","-","-",null,"-","-","-","-",null,"-","-","-","-",null,"-","-","-","-",null,"-","-","-","-",null,"-","-","-","-",null,"-","-","-","-",null,"-","-","-","-",null,"-","-","-","-",null,"-","-","-","-",null,"-","-","-","-",null,"-","-","-","-",null,"-","-","-","-",null,"-","-","-","-"]
[null,null,null,null,null,null,null,null,null,null,null,null,null,null,null,null,null,null,null,null,null,null,null,null,null,null,null,null,null,null,null,"-","-","-","-",null,"-","-","-","-",null,"-","-","-","-",null,"-","-","-","-",null,"-","-","-","-",null,"-","-","-","-",null,"-","-","-","-",null,"-","-","-","-",null,"-","-","-","-",null,"-","-","-","-",null,"-","-","-","-",null,"-","-","-","-",null,"-","-","-","-",null,"-","-","-","-"]
[null,null,null,null,null,null,null,null,null,null,null,null,null,null,null,null,null,null,null,null,null,null,null,null,null,null,null,null,null,null,null,"-","-","-","-",null,"-","-","-","-",null,"-","-","-","-",null,"-","-","-","-",null,"-","-","-","-",null,"-","-","-","-",null,"-","-","-","-",null,"-","-","-","-",null,"-","-","-","-",null,"-","-","-","-",null,"-","-","-","-",null,"-","-","-","-",null,"-","-","-","-",null,"-","-","-","-"]
[null,null,null,null,null,null,null,null,null,null,null,null,null,null,null,null,null,null,null,null,null,null,null,null,null,null,null,null,null,null,null,"-","-","-","-",null,"-","-","-","-",null,"-","-","-","-",null,"-","-","-","-",null,"-","-","-","-",null,"-","-","-","-",null,"-","-","-","-",null,"-","-","-","-",null,"-","-","-","-",null,"-","-","-","-",null,"-","-","-","-",null,"-","-","-","-",null,"-","-","-","-",null,"-","-","-","-"]
[null,null,null,null,null,null,null,null,null,null,null,null,null,null,null,null,null,null,null,null,null,null,null,null,null,null,null,null,null,null,null,"-","-","-","-",null,"-","-","-","-",null,"-","-","-","-",null,"-","-","-","-",null,"-","-","-","-",null,"-","-","-","-",null,"-","-","-","-",null,"-","-","-","-",null,"-","-","-","-",null,"-","-","-","-",null,"-","-","-","-",null,"-","-","-","-",null,"-","-","-","-",null,"-","-","-","-"]
[null,null,null,null,null,null,null,null,null,null,null,null,null,null,null,null,null,null,null,null,null,null,null,null,null,null,null,null,null,null,null,"-","-","-","-",null,"-","-","-","-",null,"-","-","-","-",null,"-","-","-","-",null,"-","-","-","-",null,"-","-","-","-",null,"-","-","-","-",null,"-","-","-","-",null,"-","-","-","-",null,"-","-","-","-",null,"-","-","-","-",null,"-","-","-","-",null,"-","-","-","-",null,"-","-","-","-"]
[null,null,null,null,null,null,null,null,null,null,null,null,null,null,null,null,null,null,null,null,null,null,null,null,null,null,null,null,null,null,null,{"$f":"IF($J95=\"\",\"-\",IF($G95=\"Sibbamåla\",$J95,\"-\"))","v":"-"},{"$f":"IF($L95=\"\",\"-\",IF($H95=\"Sibbamåla\",$L95,\"-\"))","v":"-"},{"$f":"IF($J95=\"\",\"-\",IF($H95=\"Sibbamåla\",$J95,\"-\"))","v":"-"},{"$f":"IF($L95=\"\",\"-\",IF($G95=\"Sibbamåla\",$L95,\"-\"))","v":"-"},null,{"$f":"IF($J95=\"\",\"-\",IF($G95=\"balders hsk 2\",$J95,\"-\"))","v":"-"},{"$f":"IF($L95=\"\",\"-\",IF($H95=\"balders hsk 2\",$L95,\"-\"))","v":"-"},{"$f":"IF($J95=\"\",\"-\",IF($H95=\"balders hsk 2\",$J95,\"-\"))","v":"-"},{"$f":"IF($L95=\"\",\"-\",IF($G95=\"balders hsk 2\",$L95,\"-\"))","v":"-"},null,{"$f":"IF($J95=\"\",\"-\",IF($G95=\"dynapac hsc\",$J95,\"-\"))","v":"-"},{"$f":"IF($L95=\"\",\"-\",IF($H95=\"dynapac hsc\",$L95,\"-\"))","v":"-"},{"$f":"IF($J95=\"\",\"-\",IF($H95=\"dynapac hsc\",$J95,\"-\"))","v":"-"},{"$f":"IF($L95=\"\",\"-\",IF($G95=\"dynapac hsc\",$L95,\"-\"))","v":"-"},null,{"$f":"IF($J95=\"\",\"-\",IF($G95=\"växjö hsk 1\",$J95,\"-\"))","v":"-"},{"$f":"IF($L95=\"\",\"-\",IF($H95=\"växjö hsk 1\",$L95,\"-\"))","v":"-"},{"$f":"IF($J95=\"\",\"-\",IF($H95=\"växjö hsk 1\",$J95,\"-\"))","v":"-"},{"$f":"IF($L95=\"\",\"-\",IF($G95=\"växjö hsk 1\",$L95,\"-\"))","v":"-"},null,{"$f":"IF($J95=\"\",\"-\",IF($G95=\"carlskrona hsc\",$J95,\"-\"))","v":"-"},{"$f":"IF($L95=\"\",\"-\",IF($H95=\"carlskrona hsc\",$L95,\"-\"))","v":"-"},{"$f":"IF($J95=\"\",\"-\",IF($H95=\"carlskrona hsc\",$J95,\"-\"))","v":"-"},{"$f":"IF($L95=\"\",\"-\",IF($G95=\"carlskrona hsc\",$L95,\"-\"))","v":"-"},null,{"$f":"IF($J95=\"\",\"-\",IF($G95=\"vaxholm hsk\",$J95,\"-\"))","v":"-"},{"$f":"IF($L95=\"\",\"-\",IF($H95=\"vaxholm hsk\",$L95,\"-\"))","v":"-"},{"$f":"IF($J95=\"\",\"-\",IF($H95=\"vaxholm hsk\",$J95,\"-\"))","v":"-"},{"$f":"IF($L95=\"\",\"-\",IF($G95=\"vaxholm hsk\",$L95,\"-\"))","v":"-"},null,{"$f":"IF($J95=\"\",\"-\",IF($G95=\"korpen nybro\",$J95,\"-\"))","v":"-"},{"$f":"IF($L95=\"\",\"-\",IF($H95=\"korpen nybro\",$L95,\"-\"))","v":"-"},{"$f":"IF($J95=\"\",\"-\",IF($H95=\"korpen nybro\",$J95,\"-\"))","v":"-"},{"$f":"IF($L95=\"\",\"-\",IF($G95=\"korpen nybro\",$L95,\"-\"))","v":"-"},null,{"$f":"IF($J95=\"\",\"-\",IF($G95=\"balders hsk 1\",$J95,\"-\"))","v":"-"},{"$f":"IF($L95=\"\",\"-\",IF($H95=\"balders hsk 1\",$L95,\"-\"))","v":"-"},{"$f":"IF($J95=\"\",\"-\",IF($H95=\"balders hsk 1\",$J95,\"-\"))","v":"-"},{"$f":"IF($L95=\"\",\"-\",IF($G95=\"balders hsk 1\",$L95,\"-\"))","v":"-"},null,{"$f":"IF($J95=\"\",\"-\",IF($G95=\"lanternan 1\",$J95,\"-\"))","v":"-"},{"$f":"IF($L95=\"\",\"-\",IF($H95=\"lanternan 1\",$L95,\"-\"))","v":"-"},{"$f":"IF($J95=\"\",\"-\",IF($H95=\"lanternan 1\",$J95,\"-\"))","v":"-"},{"$f":"IF($L95=\"\",\"-\",IF($G95=\"lanternan 1\",$L95,\"-\"))","v":"-"},null,{"$f":"IF($J95=\"\",\"-\",IF($G95=\"viby hsk\",$J95,\"-\"))","v":"-"},{"$f":"IF($L95=\"\",\"-\",IF($H95=\"viby hsk\",$L95,\"-\"))","v":"-"},{"$f":"IF($J95=\"\",\"-\",IF($H95=\"viby hsk\",$J95,\"-\"))","v":"-"},{"$f":"IF($L95=\"\",\"-\",IF($G95=\"viby hsk\",$L95,\"-\"))","v":"-"},null,{"$f":"IF($J95=\"\",\"-\",IF($G95=\"jämjö hsk\",$J95,\"-\"))","v":"-"},{"$f":"IF($L95=\"\",\"-\",IF($H95=\"jämjö hsk\",$L95,\"-\"))","v":"-"},{"$f":"IF($J95=\"\",\"-\",IF($H95=\"jämjö hsk\",$J95,\"-\"))","v":"-"},{"$f":"IF($L95=\"\",\"-\",IF($G95=\"jämjö hsk\",$L95,\"-\"))","v":"-"},null,{"$f":"IF($J95=\"\",\"-\",IF($G95=\"värends hsk\",$J95,\"-\"))","v":"-"},{"$f":"IF($L95=\"\",\"-\",IF($H95=\"värends hsk\",$L95,\"-\"))","v":"-"},{"$f":"IF($J95=\"\",\"-\",IF($H95=\"värends hsk\",$J95,\"-\"))","v":"-"},{"$f":"IF($L95=\"\",\"-\",IF($G95=\"värends hsk\",$L95,\"-\"))","v":"-"},null,{"$f":"IF($J95=\"\",\"-\",IF($G95=\"balders hsk 3\",$J95,\"-\"))","v":"-"},{"$f":"IF($L95=\"\",\"-\",IF($H95=\"balders hsk 3\",$L95,\"-\"))","v":"-"},{"$f":"IF($J95=\"\",\"-\",IF($H95=\"balders hsk 3\",$J95,\"-\"))","v":"-"},{"$f":"IF($L95=\"\",\"-\",IF($G95=\"balders hsk 3\",$L95,\"-\"))","v":"-"},null,{"$f":"IF($J95=\"\",\"-\",IF($G95=\"tingsryd hsc\",$J95,\"-\"))","v":"-"},{"$f":"IF($L95=\"\",\"-\",IF($H95=\"tingsryd hsc\",$L95,\"-\"))","v":"-"},{"$f":"IF($J95=\"\",\"-\",IF($H95=\"tingsryd hsc\",$J95,\"-\"))","v":"-"},{"$f":"IF($L95=\"\",\"-\",IF($G95=\"tingsryd hsc\",$L95,\"-\"))","v":"-"}]
[null,null,null,null,null,null,null,null,null,null,null,null,null,null,null,null,null,null,null,null,null,null,null,null,null,null,null,null,null,null,null,{"$f":"IF($J96=\"\",\"-\",IF($G96=\"Sibbamåla\",$J96,\"-\"))","v":"-"},{"$f":"IF($L96=\"\",\"-\",IF($H96=\"Sibbamåla\",$L96,\"-\"))","v":"-"},{"$f":"IF($J96=\"\",\"-\",IF($H96=\"Sibbamåla\",$J96,\"-\"))","v":"-"},{"$f":"IF($L96=\"\",\"-\",IF($G96=\"Sibbamåla\",$L96,\"-\"))","v":"-"},null,{"$f":"IF($J96=\"\",\"-\",IF($G96=\"balders hsk 2\",$J96,\"-\"))","v":"-"},{"$f":"IF($L96=\"\",\"-\",IF($H96=\"balders hsk 2\",$L96,\"-\"))","v":"-"},{"$f":"IF($J96=\"\",\"-\",IF($H96=\"balders hsk 2\",$J96,\"-\"))","v":"-"},{"$f":"IF($L96=\"\",\"-\",IF($G96=\"balders hsk 2\",$L96,\"-\"))","v":"-"},null,{"$f":"IF($J96=\"\",\"-\",IF($G96=\"dynapac hsc\",$J96,\"-\"))","v":"-"},{"$f":"IF($L96=\"\",\"-\",IF($H96=\"dynapac hsc\",$L96,\"-\"))","v":"-"},{"$f":"IF($J96=\"\",\"-\",IF($H96=\"dynapac hsc\",$J96,\"-\"))","v":"-"},{"$f":"IF($L96=\"\",\"-\",IF($G96=\"dynapac hsc\",$L96,\"-\"))","v":"-"},null,{"$f":"IF($J96=\"\",\"-\",IF($G96=\"växjö hsk 1\",$J96,\"-\"))","v":"-"},{"$f":"IF($L96=\"\",\"-\",IF($H96=\"växjö hsk 1\",$L96,\"-\"))","v":"-"},{"$f":"IF($J96=\"\",\"-\",IF($H96=\"växjö hsk 1\",$J96,\"-\"))","v":"-"},{"$f":"IF($L96=\"\",\"-\",IF($G96=\"växjö hsk 1\",$L96,\"-\"))","v":"-"},null,{"$f":"IF($J96=\"\",\"-\",IF($G96=\"carlskrona hsc\",$J96,\"-\"))","v":"-"},{"$f":"IF($L96=\"\",\"-\",IF($H96=\"carlskrona hsc\",$L96,\"-\"))","v":"-"},{"$f":"IF($J96=\"\",\"-\",IF($H96=\"carlskrona hsc\",$J96,\"-\"))","v":"-"},{"$f":"IF($L96=\"\",\"-\",IF($G96=\"carlskrona hsc\",$L96,\"-\"))","v":"-"},null,{"$f":"IF($J96=\"\",\"-\",IF($G96=\"vaxholm hsk\",$J96,\"-\"))","v":"-"},{"$f":"IF($L96=\"\",\"-\",IF($H96=\"vaxholm hsk\",$L96,\"-\"))","v":"-"},{"$f":"IF($J96=\"\",\"-\",IF($H96=\"vaxholm hsk\",$J96,\"-\"))","v":"-"},{"$f":"IF($L96=\"\",\"-\",IF($G96=\"vaxholm hsk\",$L96,\"-\"))","v":"-"},null,{"$f":"IF($J96=\"\",\"-\",IF($G96=\"korpen nybro\",$J96,\"-\"))","v":"-"},{"$f":"IF($L96=\"\",\"-\",IF($H96=\"korpen nybro\",$L96,\"-\"))","v":"-"},{"$f":"IF($J96=\"\",\"-\",IF($H96=\"korpen nybro\",$J96,\"-\"))","v":"-"},{"$f":"IF($L96=\"\",\"-\",IF($G96=\"korpen nybro\",$L96,\"-\"))","v":"-"},null,{"$f":"IF($J96=\"\",\"-\",IF($G96=\"balders hsk 1\",$J96,\"-\"))","v":"-"},{"$f":"IF($L96=\"\",\"-\",IF($H96=\"balders hsk 1\",$L96,\"-\"))","v":"-"},{"$f":"IF($J96=\"\",\"-\",IF($H96=\"balders hsk 1\",$J96,\"-\"))","v":"-"},{"$f":"IF($L96=\"\",\"-\",IF($G96=\"balders hsk 1\",$L96,\"-\"))","v":"-"},null,{"$f":"IF($J96=\"\",\"-\",IF($G96=\"lanternan 1\",$J96,\"-\"))","v":"-"},{"$f":"IF($L96=\"\",\"-\",IF($H96=\"lanternan 1\",$L96,\"-\"))","v":"-"},{"$f":"IF($J96=\"\",\"-\",IF($H96=\"lanternan 1\",$J96,\"-\"))","v":"-"},{"$f":"IF($L96=\"\",\"-\",IF($G96=\"lanternan 1\",$L96,\"-\"))","v":"-"},null,{"$f":"IF($J96=\"\",\"-\",IF($G96=\"viby hsk\",$J96,\"-\"))","v":"-"},{"$f":"IF($L96=\"\",\"-\",IF($H96=\"viby hsk\",$L96,\"-\"))","v":"-"},{"$f":"IF($J96=\"\",\"-\",IF($H96=\"viby hsk\",$J96,\"-\"))","v":"-"},{"$f":"IF($L96=\"\",\"-\",IF($G96=\"viby hsk\",$L96,\"-\"))","v":"-"},null,{"$f":"IF($J96=\"\",\"-\",IF($G96=\"jämjö hsk\",$J96,\"-\"))","v":"-"},{"$f":"IF($L96=\"\",\"-\",IF($H96=\"jämjö hsk\",$L96,\"-\"))","v":"-"},{"$f":"IF($J96=\"\",\"-\",IF($H96=\"jämjö hsk\",$J96,\"-\"))","v":"-"},{"$f":"IF($L96=\"\",\"-\",IF($G96=\"jämjö hsk\",$L96,\"-\"))","v":"-"},null,{"$f":"IF($J96=\"\",\"-\",IF($G96=\"värends hsk\",$J96,\"-\"))","v":"-"},{"$f":"IF($L96=\"\",\"-\",IF($H96=\"värends hsk\",$L96,\"-\"))","v":"-"},{"$f":"IF($J96=\"\",\"-\",IF($H96=\"värends hsk\",$J96,\"-\"))","v":"-"},{"$f":"IF($L96=\"\",\"-\",IF($G96=\"värends hsk\",$L96,\"-\"))","v":"-"},null,{"$f":"IF($J96=\"\",\"-\",IF($G96=\"balders hsk 3\",$J96,\"-\"))","v":"-"},{"$f":"IF($L96=\"\",\"-\",IF($H96=\"balders hsk 3\",$L96,\"-\"))","v":"-"},{"$f":"IF($J96=\"\",\"-\",IF($H96=\"balders hsk 3\",$J96,\"-\"))","v":"-"},{"$f":"IF($L96=\"\",\"-\",IF($G96=\"balders hsk 3\",$L96,\"-\"))","v":"-"},null,{"$f":"IF($J96=\"\",\"-\",IF($G96=\"tingsryd hsc\",$J96,\"-\"))","v":"-"},{"$f":"IF($L96=\"\",\"-\",IF($H96=\"tingsryd hsc\",$L96,\"-\"))","v":"-"},{"$f":"IF($J96=\"\",\"-\",IF($H96=\"tingsryd hsc\",$J96,\"-\"))","v":"-"},{"$f":"IF($L96=\"\",\"-\",IF($G96=\"tingsryd hsc\",$L96,\"-\"))","v":"-"}]
[null,null,null,null,null,null,null,null,null,null,null,null,null,null,null,null,null,null,null,null,null,null,null,null,null,null,null,null,null,null,null,"-","-","-","-",null,"-","-","-","-",null,"-","-","-","-",null,"-","-","-","-",null,"-","-","-","-",null,"-","-","-","-",null,"-","-","-","-",null,"-","-","-","-",null,"-","-","-","-",null,"-","-","-","-",null,"-","-","-","-",null,"-","-","-","-",null,"-","-","-","-",null,"-","-","-","-"]
[null,null,null,null,null,null,null,null,null,null,null,null,null,null,null,null,null,null,null,null,null,null,null,null,null,null,null,null,null,null,null,"-","-","-","-",null,"-","-","-","-",null,"-","-","-","-",null,"-","-","-","-",null,"-","-","-","-",null,"-","-","-","-",null,"-","-","-","-",null,"-","-","-","-",null,"-","-","-","-",null,"-","-","-","-",null,"-","-","-","-",null,"-","-","-","-",null,"-","-","-","-",null,"-","-","-","-"]
[null,null,null,null,null,null,null,null,null,null,null,null,null,null,null,null,null,null,null,null,null,null,null,null,null,null,null,null,null,null,null,"-","-","-","-",null,"-","-","-","-",null,"-","-","-","-",null,"-","-","-","-",null,"-","-","-","-",null,"-","-","-","-",null,"-","-","-","-",null,"-","-","-","-",null,"-","-","-","-",null,"-","-","-","-",null,"-","-","-","-",null,"-","-","-","-",null,"-","-","-","-",null,"-","-","-","-"]
[null,null,null,null,null,null,null,null,null,null,null,null,null,null,null,null,null,null,null,null,null,null,null,null,null,null,null,null,null,null,null,"-","-","-","-",null,"-","-","-","-",null,"-","-","-","-",null,"-","-","-","-",null,"-","-","-","-",null,"-","-","-","-",null,"-","-","-","-",null,"-","-","-","-",null,"-","-","-","-",null,"-","-","-","-",null,"-","-","-","-",null,"-","-","-","-",null,"-","-","-","-",null,"-","-","-","-"]
[null,null,null,null,null,null,null,null,null,null,null,null,null,null,null,null,null,null,null,null,null,null,null,null,null,null,null,null,null,null,null,"-","-","-","-",null,"-","-","-","-",null,"-","-","-","-",null,"-","-","-","-",null,"-","-","-","-",null,"-","-","-","-",null,"-","-","-","-",null,"-","-","-","-",null,"-","-","-","-",null,"-","-","-","-",null,"-","-","-","-",null,"-","-","-","-",null,"-","-","-","-",null,"-","-","-","-"]
[null,null,null,null,null,null,null,null,null,null,null,null,null,null,null,null,null,null,null,null,null,null,null,null,null,null,null,null,null,null,null,"-","-","-","-",null,"-","-","-","-",null,"-","-","-","-",null,"-","-","-","-",null,"-","-","-","-",null,"-","-","-","-",null,"-","-","-","-",null,"-","-","-","-",null,"-","-","-","-",null,"-","-","-","-",null,"-","-","-","-",null,"-","-","-","-",null,"-","-","-","-",null,"-","-","-","-"]

{"sheet":"Tabeller","index":1,"n_rows":17,"n_cols":13,"rows_kept":17,"cut":false,"hidden":false,"merged":[]}
[null,"Seriespel säsongen 2024/ 2025"]
[null,"Division 1"]
["Plac",null,"Sp.m","3p","2p","1p","0p",null,null,"Matchkvot",null,"(+/-)","Poäng"]
[{"$f":"IF(SUM(C$4:C$17)<1,0,1)","v":0},{"$f":"'Spelprogram Div 1'!S82","v":"Vaxholm Hsk"},{"$f":"'Spelprogram Div 1'!T82","v":0},{"$f":"'Spelprogram Div 1'!U82","v":0},{"$f":"'Spelprogram Div 1'!V82","v":0},{"$f":"'Spelprogram Div 1'!W82","v":0},{"$f":"'Spelprogram Div 1'!X82","v":0},null,{"$f":"'Spelprogram Div 1'!Z82","v":0},":",{"$f":"'Spelprogram Div 1'!AB82","v":0},{"$f":"'Spelprogram Div 1'!AC82","v":0},{"$f":"'Spelprogram Div 1'!AD82","v":0}]
[{"$f":"IF(SUM(C$4:C$17)<1,0,IF($M5<$M4,2,IF($L5<$L4,2,IF($I5<$I4,2,$A4))))","v":0},{"$f":"'Spelprogram Div 1'!S89","v":"Balders Hsk 3"},{"$f":"'Spelprogram Div 1'!T89","v":0},{"$f":"'Spelprogram Div 1'!U89","v":0},{"$f":"'Spelprogram Div 1'!V89","v":0},{"$f":"'Spelprogram Div 1'!W89","v":0},{"$f":"'Spelprogram Div 1'!X89","v":0},null,{"$f":"'Spelprogram Div 1'!Z89","v":0},":",{"$f":"'Spelprogram Div 1'!AB89","v":0},{"$f":"'Spelprogram Div 1'!AC89","v":0},{"$f":"'Spelprogram Div 1'!AD89","v":0}]
[{"$f":"IF(SUM(C$4:C$17)<1,0,IF($M6<$M5,3,IF($L6<$L5,3,IF($I6<$I5,3,$A5))))","v":0},{"$f":"'Spelprogram Div 1'!S78","v":"Balders Hsk 2"},{"$f":"'Spelprogram Div 1'!T78","v":0},{"$f":"'Spelprogram Div 1'!U78","v":0},{"$f":"'Spelprogram Div 1'!V78","v":0},{"$f":"'Spelprogram Div 1'!W78","v":0},{"$f":"'Spelprogram Div 1'!X78","v":0},null,{"$f":"'Spelprogram Div 1'!Z78","v":0},":",{"$f":"'Spelprogram Div 1'!AB78","v":0},{"$f":"'Spelprogram Div 1'!AC78","v":0},{"$f":"'Spelprogram Div 1'!AD78","v":0}]
[{"$f":"IF(SUM(C$4:C$17)<1,0,IF($M7<$M6,4,IF($L7<$L6,4,IF($I7<$I6,4,$A6))))","v":0},{"$f":"'Spelprogram Div 1'!S85","v":"Lanternan 1"},{"$f":"'Spelprogram Div 1'!T85","v":0},{"$f":"'Spelprogram Div 1'!U85","v":0},{"$f":"'Spelprogram Div 1'!V85","v":0},{"$f":"'Spelprogram Div 1'!W85","v":0},{"$f":"'Spelprogram Div 1'!X85","v":0},null,{"$f":"'Spelprogram Div 1'!Z85","v":0},":",{"$f":"'Spelprogram Div 1'!AB85","v":0},{"$f":"'Spelprogram Div 1'!AC85","v":0},{"$f":"'Spelprogram Div 1'!AD85","v":0}]
[{"$f":"IF(SUM(C$4:C$17)<1,0,IF($M8<$M7,5,IF($L8<$L7,5,IF($I8<$I7,5,$A7))))","v":0},{"$f":"'Spelprogram Div 1'!S79","v":"Dynapac Hsc"},{"$f":"'Spelprogram Div 1'!T79","v":0},{"$f":"'Spelprogram Div 1'!U79","v":0},{"$f":"'Spelprogram Div 1'!V79","v":0},{"$f":"'Spelprogram Div 1'!W79","v":0},{"$f":"'Spelprogram Div 1'!X79","v":0},null,{"$f":"'Spelprogram Div 1'!Z79","v":0},":",{"$f":"'Spelprogram Div 1'!AB79","v":0},{"$f":"'Spelprogram Div 1'!AC79","v":0},{"$f":"'Spelprogram Div 1'!AD79","v":0}]
[{"$f":"IF(SUM(C$4:C$17)<1,0,IF($M9<$M8,6,IF($L9<$L8,6,IF($I9<$I8,6,$A8))))","v":0},{"$f":"'Spelprogram Div 1'!S83","v":"Korpen Nybro"},{"$f":"'Spelprogram Div 1'!T83","v":0},{"$f":"'Spelprogram Div 1'!U83","v":0},{"$f":"'Spelprogram Div 1'!V83","v":0},{"$f":"'Spelprogram Div 1'!W83","v":0},{"$f":"'Spelprogram Div 1'!X83","v":0},null,{"$f":"'Spelprogram Div 1'!Z83","v":0},":",{"$f":"'Spelprogram Div 1'!AB83","v":0},{"$f":"'Spelprogram Div 1'!AC83","v":0},{"$f":"'Spelprogram Div 1'!AD83","v":0}]
[{"$f":"IF(SUM(C$4:C$17)<1,0,IF($M10<$M9,7,IF($L10<$L9,7,IF($I10<$I9,7,$A9))))","v":0},{"$f":"'Spelprogram Div 1'!S88","v":"Värends Hsk"},{"$f":"'Spelprogram Div 1'!T88","v":0},{"$f":"'Spelprogram Div 1'!U88","v":0},{"$f":"'Spelprogram Div 1'!V88","v":0},{"$f":"'Spelprogram Div 1'!W88","v":0},{"$f":"'Spelprogram Div 1'!X88","v":0},null,{"$f":"'Spelprogram Div 1'!Z88","v":0},":",{"$f":"'Spelprogram Div 1'!AB88","v":0},{"$f":"'Spelprogram Div 1'!AC88","v":0},{"$f":"'Spelprogram Div 1'!AD88","v":0}]
[{"$f":"IF(SUM(C$4:C$17)<1,0,IF($M11<$M10,8,IF($L11<$L10,8,IF($I11<$I10,8,$A10))))","v":0},{"$f":"'Spelprogram Div 1'!S80","v":"Växjö Hsk 1"},{"$f":"'Spelprogram Div 1'!T80","v":0},{"$f":"'Spelprogram Div 1'!U80","v":0},{"$f":"'Spelprogram Div 1'!V80","v":0},{"$f":"'Spelprogram Div 1'!W80","v":0},{"$f":"'Spelprogram Div 1'!X80","v":0},null,{"$f":"'Spelprogram Div 1'!Z80","v":0},":",{"$f":"'Spelprogram Div 1'!AB80","v":0},{"$f":"'Spelprogram Div 1'!AC80","v":0},{"$f":"'Spelprogram Div 1'!AD80","v":0}]
[{"$f":"IF(SUM(C$4:C$17)<1,0,IF($M12<$M11,9,IF($L12<$L11,9,IF($I12<$I11,9,$A11))))","v":0},{"$f":"'Spelprogram Div 1'!S87","v":"Jämjö Hsk"},{"$f":"'Spelprogram Div 1'!T87","v":0},{"$f":"'Spelprogram Div 1'!U87","v":0},{"$f":"'Spelprogram Div 1'!V87","v":0},{"$f":"'Spelprogram Div 1'!W87","v":0},{"$f":"'Spelprogram Div 1'!X87","v":0},null,{"$f":"'Spelprogram Div 1'!Z87","v":0},":",{"$f":"'Spelprogram Div 1'!AB87","v":0},{"$f":"'Spelprogram Div 1'!AC87","v":0},{"$f":"'Spelprogram Div 1'!AD87","v":0}]
[{"$f":"IF(SUM(C$4:C$17)<1,0,IF($M13<$M12,10,IF($L13<$L12,10,IF($I13<$I12,10,$A12))))","v":0},{"$f":"'Spelprogram Div 1'!S77","v":"Sibbamåla "},{"$f":"'Spelprogram Div 1'!T77","v":0},{"$f":"'Spelprogram Div 1'!U77","v":0},{"$f":"'Spelprogram Div 1'!V77","v":0},{"$f":"'Spelprogram Div 1'!W77","v":0},{"$f":"'Spelprogram Div 1'!X77","v":0},null,{"$f":"'Spelprogram Div 1'!Z77","v":0},":",{"$f":"'Spelprogram Div 1'!AB77","v":0},{"$f":"'Spelprogram Div 1'!AC77","v":0},{"$f":"'Spelprogram Div 1'!AD77","v":0}]
[{"$f":"IF(SUM(C$4:C$17)<1,0,IF($M14<$M13,11,IF($L14<$L13,11,IF($I14<$I13,11,$A13))))","v":0},{"$f":"'Spelprogram Div 1'!S86","v":"Viby Hsk"},{"$f":"'Spelprogram Div 1'!T86","v":0},{"$f":"'Spelprogram Div 1'!U86","v":0},{"$f":"'Spelprogram Div 1'!V86","v":0},{"$f":"'Spelprogram Div 1'!W86","v":0},{"$f":"'Spelprogram Div 1'!X86","v":0},null,{"$f":"'Spelprogram Div 1'!Z86","v":0},":",{"$f":"'Spelprogram Div 1'!AB86","v":0},{"$f":"'Spelprogram Div 1'!AC86","v":0},{"$f":"'Spelprogram Div 1'!AD86","v":0}]
[{"$f":"IF(SUM(C$4:C$17)<1,0,IF($M15<$M14,12,IF($L15<$L14,12,IF($I15<$I14,12,$A14))))","v":0},{"$f":"'Spelprogram Div 1'!S81","v":"Carlskrona Hsc"},{"$f":"'Spelprogram Div 1'!T81","v":0},{"$f":"'Spelprogram Div 1'!U81","v":0},{"$f":"'Spelprogram Div 1'!V81","v":0},{"$f":"'Spelprogram Div 1'!W81","v":0},{"$f":"'Spelprogram Div 1'!X81","v":0},null,{"$f":"'Spelprogram Div 1'!Z81","v":0},":",{"$f":"'Spelprogram Div 1'!AB81","v":0},{"$f":"'Spelprogram Div 1'!AC81","v":0},{"$f":"'Spelprogram Div 1'!AD81","v":0}]
[{"$f":"IF(SUM(C$4:C$17)<1,0,IF($M16<$M15,13,IF($L16<$L15,13,IF($I16<$I15,13,$A15))))","v":0},{"$f":"'Spelprogram Div 1'!S90","v":"Tingsryd Hsc"},{"$f":"'Spelprogram Div 1'!T90","v":0},{"$f":"'Spelprogram Div 1'!U90","v":0},{"$f":"'Spelprogram Div 1'!V90","v":0},{"$f":"'Spelprogram Div 1'!W90","v":0},{"$f":"'Spelprogram Div 1'!X90","v":0},null,{"$f":"'Spelprogram Div 1'!Z90","v":0},":",{"$f":"'Spelprogram Div 1'!AB90","v":0},{"$f":"'Spelprogram Div 1'!AC90","v":0},{"$f":"'Spelprogram Div 1'!AD90","v":0}]
[{"$f":"IF(SUM(C$4:C$17)<1,0,IF($M17<$M16,14,IF($L17<$L16,14,IF($I17<$I16,14,$A16))))","v":0},{"$f":"'Spelprogram Div 1'!S84","v":"Balders Hsk 1"},{"$f":"'Spelprogram Div 1'!T84","v":0},{"$f":"'Spelprogram Div 1'!U84","v":0},{"$f":"'Spelprogram Div 1'!V84","v":0},{"$f":"'Spelprogram Div 1'!W84","v":0},{"$f":"'Spelprogram Div 1'!X84","v":0},null,{"$f":"'Spelprogram Div 1'!Z84","v":0},":",{"$f":"'Spelprogram Div 1'!AB84","v":0},{"$f":"'Spelprogram Div 1'!AC84","v":0},{"$f":"'Spelprogram Div 1'!AD84","v":0}]

{"sheet":"Serieinformation","index":2,"n_rows":60,"n_cols":2,"rows_kept":60,"cut":false,"hidden":false,"merged":[]}
["Seriespel Div 1  2024/ 2025"]
["14 lag har anmält sitt intresse för seriespel."]
[]
["Den som vinner Division 1 blir seriespelsvinnare."]
["Om matcher måste flyttas skall dessa spelas innan nästa serieomgång, överträdelse medför automatiskt W.O"]
["Berörda parter(dvs. Arrangör, Gert Karlsson o Tomas Lindahl) underättas i god tid."]
["Regelboken § 10:5   Walk over i en match blir 6-0."]
["Om ett lag inte kan spela på utsatt dag bör den i första hand flyttas till ett annat speldatum dock senast innan "]
["nästa spelomgång. Laget som vill flytta en seriematch bestämmer inte spelplats utan det gör motståndarlaget. "," "]
["Vid w.o skall laget kontakta motspelarna och den som har hand om seriespelet, samt tävlingsarrangören och"]
["webbmaster på www.svhkf.se. "]
["Lagen skall meddela seriespelsansvarig och webbmaster när matchen skall avgöras."]
["Om w.o måste lämnas gäller följande: Första seriespelsomgången ingen åtgärd."]
["Andra seriespelsomgången blir det böter på 500 kr som SvHKF driver in och fördelar till berörda klubbar. "]
["Om inte detta betalas innan nästa seriespelsomgång utesluts laget ur serien. "]
["Vid w.o i en tredje seriespelsomgång så utesluts laget direkt."]
[]
[]
[]
[]
["Poängberäkning:"]
["Vinst=3 poäng ,  vinst efter 7-meterskast=2 poäng ,  förlust efter 7-meterskast=1 poäng och förlust=0 poäng "]
["Vid oavgjort 5-5 blir det omkastning på 7 meter , alla i laget kastar 5 skor var från 7 meter , skulle det "]
["fortfarande inte gå att skilja lagen åt får lagen själva utse en kastare som kastar 5 skor från 7 meter."]
["Är det fortfarande lika får de utse en ny kastare(om laget vill får de utse samma kastare)"]
["tills ett avgörande har skett."]
["Arrangör skickar in matchresultat via SMS till Tomas Lindahl direkt efter avslutade matcher "]
["Tel. 073-4004693 skriv matchnummer enligt spelprogram följt av resultatet i matchen."]
["Matchprotokollet skickas till Gert Karlsson via e-post:  gert.karlsson@svhkf.se eller ett tydligt foto"]
["på protokollet för uppdatering av rankingtabell."]
["Vid länkmatcher så är det hemmalaget som ansvarar så att resultaten skickas in."]
["Har ni inte tillgång till e-post/mobil får ni skicka protokollet till  "]
[" Gert Karlsson Hospitalsgatan 44 602 27 Norrköping."]
["Kontaktpersoner:                                                                                                                   Spelplatser"]
["Växjö Hsk 1            Thomas Dahl             070 539 12 62                                "]
["Värend Hsk 1         Conny Bark               070-2336896                                                 Växjö Boulehall                                    "]
["Dynapac Hsc           Peter Olsson              070-8359208                                      Boulehallen i Karlskrona"]
["Korpen Nybro         Leffe Henryson          072-5074399                             Korpcentrum, Kungshallsvägen 33"]
["Tingsryd Hsc  1        Johan Johansson        073-4011762                                              Tingsryd, Kurorten"]
[]
["Vaxholm Hsk          Kristian Jältsäter             070-7216721"]
["Balders Hsk 1         Pascal Letter                  079-3340868"]
["Balders Hsk 2         Jean Fredriksson Väre    070-3080849"]
["Balders Hsk 3        Martin Anjou                  073-9953811"]
["Viby HS                 Torgny Rågfeldt             070-7282126  "]
["Lanternan 1             Ronny Lundberg           070-1131175                                  Boulehallen i Karlskrona"]
["Carlskrona             Leif Sundahl                   073-1457845                                  Boulehallen i Karlskrona"]
["Sibbamåla              Mattias Gneupel     0455-91141    el.  070-3893099             Boulehallen i Karlskrona"]
["Jämjö Hsk             Daniel Mårtensson         070-1478538                                   Boulehallen i Karlskrona"]
[]
[]
[]
["Seriespelsupplägg 2024/2025"]
["Div 1 = 14 lag  Spelas med enkelmöten."]
[]
["Div 1"]
["Priser delas ut till de 3 främsta i serien"]
[]
["Om det framöver blir fler seriespelslag anmälda och det beslutas att återigen dela upp"]
["lagen i två divisioner, så kommer Div 1 bestå av de åtta främsta från föregående års seriespel."]

{"sheet":"Kladd","index":3,"n_rows":0,"n_cols":0,"rows_kept":0,"cut":false,"hidden":false,"merged":[]}